Workbook

Sheet AMENAZAS
D2: ANALISIS DE VULNERBILIDAD | H2: CODIGO: SGI- SSTQ-FOR-017
D3: VERSION:001 | F3: FECHA:AGOSTO 2022
J4: La calificación de la amenaza se realiza mediante colores teniendo en cuenta la probabilidad de ocurrencia, de la siguiente forma
B5: N. | C5: AMENAZAS | D5: INTERNO | E5: EXTERNO | F5: DESCRIPCION DE LA AMENAZA | G5: CALIFICACIÓN | H5: COLOR
B6: 1 | C6: SISMO, TERREMOTO | E6: X | F6: Movimiento de placas tectónicas, con liberación de energía, Según el área en que se encuentra ubicada la empresa por la cercanía al nido sísmico de la Mesa de los Santos se identifica estaamenaza comoprobable. | G6: PROBABLE | J6: FENOMENO | K6: COMPORTAMIENTO | L6: COLOR ASIGNADO
B7: 2 | C7: INUNDACIÓN | D7: X | E7: X | F7: Lluvias fuertes. Deficiencia en la infraestructura hidráulica, fuga de agua al interior de las instalaciones | G7: POSIBLE | J7: POSIBLE | K7: Es aquel fenómeno que nunca ha sucedido, puede suceder o es factible porque no existen razones históricas y científicas para decir que esto no sucederá, es decir que no se descarta su ocurrencia.
B8: 3 | C8: HURTO | F8: Situación socioeconómica del país, pretensión de grupos delincuenciales sobre el recurso económico de la empresa. | G8: PROBABLE | J8: PROBABLE | K8: Es aquel fenómeno que ya ha ocurrido en el lugar o en unas condiciones similares, es decir que existen razones y argumentos técnicos científicos para creer que sucederá
B9: 4 | C9: INCENDIIO | D9: X | F9: Corto circuito riesgo eléctrico uso de gasodomesticos | G9: PROBABLE | J9: INMINENTE | K9: Es aquel fenómeno esperado que tiene alta probabilidad de ocurriro con información que lo hace evidente o detectable.
B10: 5 | C10: FUGA DE GAS | D10: X | F10: Fallas en las válvulas Sobrepresión Perforación de tubería de gas subterránea. | G10: POSIBLE | J10: POSIBLE: NUNCA HA SUCEDIDO Color Verde. PROBABLE: YA HA OCURRIDO Color Amarillo. INMINENTE: EVIDENTE, DETECTABLE Color Rojo
B11: 6 | C11: ATENTADOS TERRORISTAS ASONADAS | E11: X | F11: Intención de la delincuencia común en contra de las instalaciones de centroo de personalidades que ingresan o transitan por esta vía y/o | G11: PROBABLE
B12: 7 | C12: EXPLOSIÓN | D12: X | F12: Manejo inadecuado de una fuga Sobrepresión Incendio | G12: POSIBLE
B13: 8 | C13: ACCIDENTES | D13: X | E13: X | F13: Atropellamientos Caídas -Golpes -Cortaduras Derrumbes TRANSITO | G13: PROBABLE
B14: 9 | C14: AMENAZA ANTROPICA DESCOMPOSICION DE ALIMENTOS | D14: X | F14: Se almacenan cantidades bajas de comida pudiendo presentarse por mal manejo de almacenamiento o de residuos descomposición y emergencia sanitaria | G14: POSIBLE

Sheet SISMO-TERREM 
B1: ANALISIS DE VULNERABILIDAD PERSONAS | J1: ANALISIS DE VULNERABILIDAD RECURSOS | Q1: ANALISIS DE VULNERABILIDAD DE PROCESOS | X1: Interpretación de la calificación para cada respuesta
B2: PUNTO A EVALUAR | C2: Respuesta | F2: CALIFICACIÓN | G2: OBSERVACIONES | J2: PUNTO A EVALUAR | K2: Respuesta | N2: CALIFICACION | O2: OBSERVACIONES | Q2: PUNTO A EVALUAR | R2: Respuesta | U2: CALIFICACION | V2: OBSERVACIONES | X2: CRITERIO DE RESPUESTA | Y2: INTERPRETACION | Z2: CALIFICACION
C3: SI | D3: NO | E3: PARCIAL | K3: SI | L3: NO | M3: PARCIAL | R3: SI | S3: NO | T3: PARCIAL
B4: 1. Gestion Organizacional | J4: 1. Suministro | Q4: 1. Servicios
A5: 1 | B5: ¿Existe una política general en Gestión del Riesgo donde se indican lineamientos de emergencias? | D5: X | F5: 0 | I5: 1 | J5: ¿Se cuenta con implementos básicos para la respuesta de acuerdo con la amenaza identificada? | M5: X | N5: 0.5 | P5: 1 | Q5: ¿Se cuenta suministro de energía permanente? | R5: X | U5: 1 | X5: SI | Y5: Cuando existe o tiene un nivel bueno o Cuando se dispone de los elementos, recursos o cuando se realizan los procedimientos de manera parcial, entre otros. | Z5: 1
A6: 2 | B6: ¿Existe un esquema organizacional para la respuesta a emergencias con funciones y responsables asignados (Brigadas, Sistema Comando de Incidentes – SCI, entre otros) y se mantiene actualizado? | D6: X | F6: 0 | I6: 2 | J6: ¿Se cuenta con implementos básicos para la atención de heridos, tales como: camillas, botiquines, guantes, entre otros, de acuerdo con las necesidades de su Organización? | M6: X | N6: 0.5 | P6: 2 | Q6: ¿Se cuenta suministro de agua permanente? | T6: X | U6: 0.5 | X6: NO | Y6: Cuando no existe o tiene un nivel deficiente | Z6: 0
A7: 3 | B7: ¿Promueve activamente la participación de sus trabajadores en un programa de preparación para emergencias? | D7: X | F7: 0 | J7: Promedio Suministro | N7: =(+N5+N6)/2 -> 0.5 | O7: BUENO | P7: 3 | Q7: ¿Se cuenta con un programa de gestión de residuos? | T7: X | U7: 0.5 | X7: PARCIAL | Y7: Cuando la implementación no está terminada o tiene un nivel regular o Cuando se carece de los elementos, recursos o cuando no se realizan los procedimientos, entre otros | Z7: 0.5
A8: 4 | B8: ¿La estructura organizacional para la respuesta a emergencias garantiza la respuesta a los eventos que se puedan presentar tanto en los horarios laborales como en los no laborales? | D8: x | F8: 0 | J8: PUNTO A EVALUAR | K8: Respuesta | N8: CALIFICACION | O8: OBSERVACIONES | P8: 4 | Q8: ¿Se cuenta con servicio de comunicaciones internas? | T8: X | U8: 0.5
A9: 5 | B9: ¿Han establecido mecanismos de interacción con su entorno que faciliten dar respuesta apropiada a los eventos que se puedan presentar? (Comités de Ayuda Mutua –CAM, Mapa Comunitario de Riesgos, Sistemas de Alerta Temprana – SAT, etc.) | D9: X | F9: 0 | K9: SI | L9: NO | M9: PARCIAL | Q9: Promedio Servicios | U9: =(+U5+U6+U7+U8)/4 -> 0.625 | V9: BUENO
A10: 6 | B10: ¿Existen instrumentos para hacer inspecciones a las áreas para la identificación de condiciones inseguras que puedan generar emergencias? | E10: X | F10: 0.5 | J10: 2. Edificaciones | Q10: PUNTO A EVALUAR | R10: Respuesta | U10: CALIFICACION | V10: OBSERVACIONES
A11: 7 | B11: ¿Existe y se mantiene actualizado todos los componentes del Plan de Emergencias y Contingencias? | D11: X | F11: 0 | I11: 1 | J11: ¿El tipo de construcción es sismoresistente o cuenta con un refuerzo estructural? | L11: X | N11: 0 | R11: SI | S11: NO | T11: PARCIAL
B12: Promedio Gestion Organizacional | F12: =(F5+F6+F7+F8+F9+F10+F11)/7 -> 0.071428571 | G12: REGULAR | I12: 2 | J12: ¿Existen puertas y muros cortafuego, puertas antipánico, entre otras características de seguridad? | L12: X | N12: 0 | Q12: 2. Sistemas Alternos
B13: PUNTO A EVALUAR | C13: Respuesta | F13: CALIFICACION | G13: OBSERVACIONES | I13: 3 | J13: ¿Las escaleras de emergencia se encuentran en buen estado, poseen doble pasamano, señalización, antideslizantes, entre otras características de seguridad? | M13: X | N13: 0.5 | P13: 1 | Q13: ¿Se cuenta con sistemas redundantes para el suministro de agua (tanque de reserva de agua, pozos subterráneos, carrotanque, entre otros? | S13: X | U13: 0
C14: SI | D14: NO | E14: PARCIAL | I14: 4 | J14: ¿Están definidas las rutas de evacuación y salidas de emergencia, debidamente señalizadas y con iluminación alterna? | M14: X | N14: 0.5 | P14: 2 | Q14: ¿Se cuenta con sistemas redundantes para el suministro de energía (plantas eléctricas,acumuladores, paneles solares, entre otros? | S14: X | U14: 0
B15: 2. Capacitacion y Entrenamiento | I15: 5 | J15: ¿Se tienen identificados espacios para la ubicación de instalaciones de emergencias (puntos de encuentro, puestos de mando, módulos de estabilización de heridos, entre otros)? | L15: X | N15: 0 | P15: 3 | Q15: ¿Se cuenta con hidrantes internos y/o externos? | S15: X | U15: 0
A16: 1 | B16: ¿Se cuenta con un programa de capacitación en prevención y respuesta a emergencias? | C16: X | F16: 1 | I16: 6 | J16: ¿Las ventanas cuentan con película de seguridad? | L16: X | N16: 0 | Q16: Promedio Alternos | U16: =(+U13+U14+U15)/3 -> 0 | V16: MALO
A17: 2 | B17: ¿Todos los miembros de la organización se han capacitado de acuerdo al programa de capacitación en prevención y respuesta a emergencias? | D17: X | F17: 0 | I17: 7 | J17: ¿Se tienen asegurados o anclados enseres, gabinetes u objetos que puedan caer? | M17: X | N17: 0.5 | Q17: PUNTO A EVALUAR | R17: Respuesta | U17: CALIFICACION | V17: OBSERVACIONES
A18: 3 | B18: ¿Se cuenta con un programa de entrenamiento en respuesta a emergencias para todos los miembros de la organización? | E18: X | F18: 0.5 | J18: Promedio Edificaciones | N18: =(+N11+N12+N13+N14+N15+N16+N17)/7 -> 0.21428571 | O18: REGULAR | R18: SI | S18: NO | T18: PARCIAL
A19: 4 | B19: ¿Se cuenta con mecanismos de difusión en temas de prevención y respuesta a emergencias? | E19: X | F19: 0.5 | J19: PUNTO A EVALUAR | K19: Respuesta | N19: CALIFICACION | O19: OBSERVACIONES | Q19: 3. Recuperacion
B20: Promedio Capacitación y Entrenamiento | F20: =(+F16+F17+F18+F19)/4 -> 0.5 | G20: BUENO | K20: SI | L20: NO | M20: PARCIAL | P20: 1 | Q20: Se tienen identificados los procesos vitales para el funcionamiento de su organización? | R20: X | U20: 1
B21: PUNTO A EVALUAR | C21: Respuesta | F21: CALIFICACION | G21: OBSERVACIONES | J21: 3. Equipos | P21: 2 | Q21: Se cuenta con un plan de continuidad del negocio? | T21: X | U21: 0.5
C22: SI | D22: NO | E22: PARCIAL | I22: 1 | J22: ¿Se cuenta con sistemas de detección y/o monitoreo de la amenaza identificada? | L22: X | N22: 0 | P22: 3 | Q22: ¿Se cuenta con algún sistema de seguros para los integrantes de la organización? | T22: X | U22: 0.5
B23: 3. Caracterisiticas de Seguridad | I23: 2 | J23: ¿Se cuenta con algún sistema de alarma en caso de emergencia? | L23: X | N23: 0 | P23: 4 | Q23: ¿Se tienen aseguradas las edificaciones y los bienes en general para cada amenaza identificada? | S23: X | U23: 0
A24: 1 | B24: ¿Se ha identificado y clasificado el personal fijo y flotante en los diferentes horarios laborales y no laborales (menores de edad, adultos mayores, personas con discapacidad física)? | D24: X | F24: 0 | I24: 3 | J24: ¿Se cuenta con sistemas de control o mitigación de la amenaza identificada? | M24: X | N24: 0.5 | P24: 5 | Q24: ¿Se encuentra asegurada la información digital y análoga de la organización? | S24: X | U24: 0
A25: 2 | B25: ¿Se han contemplado acciones específicas teniendo en cuenta la clasificación de la población en la preparación y respuesta a emergencias? | D25: X | F25: 0 | I25: 4 | J25: ¿Se cuenta con un sistema de comunicaciones internas para la respuesta a emergencias? | M25: X | N25: 0.5 | Q25: Promedio Recuperacion | U25: =(+U20+U21+U22+U23+U24)/5 -> 0.4 | V25: REGULAR
A26: 3 | B26: ¿Se cuenta con elementos de protección suficientes y adecuados para el personal de la organización en sus actividades de rutina? | C26: X | F26: 1 | I26: 5 | J26: ¿Se cuenta con medios de transporte para el apoyo logístico en una emergencia? | L26: X | N26: 0 | Q26: SUMA TOTAL PROMEDIOS | U26: =+U25+U16+U9 -> 1.025 | V26: MEDIA
A27: 4 | B27: ¿Se cuenta con elementos de protección personal para la respuesta a emergencias, de acuerdo con las amenazas identificadas y las necesidades de su Organización? | E27: X | F27: 0.5 | I27: 6 | J27: ¿Se cuenta con programa de mantenimiento preventivo y correctivo para los equipos de emergencia? | L27: X | N27: 0
A28: 5 | B28: ¿Se cuenta con un esquema de seguridad física? | D28: X | F28: 0 | J28: Promedio de Equipos | N28: =(+N22+N23+N24+N25+N26+N27)/6 -> 0.16666667 | O28: BUENO
B29: Promedio Características de Seguridad | F29: =(+F24+F25+F26+F27+F28)/5 -> 0.3 | G29: BUENO | J29: SUMA TOTAL PROMEDIOS | N29: =+N28+N18+N7 -> 0.88095238 | O29: ALTA | X29: RANGO | Y29: INTERPRETACION | Z29: COLOR
B30: SUMA TOTAL PROMEDIOS | F30: =+F29+F20+F12 -> 0.87142857 | G30: ALTA | X30: 0.0 – 1.00 | Y30: ALTA | Z30: ROJO
X31: 1.01 – 2.00 | Y31: MEDIA | Z31: AMARILLO
X32: 2.01 – 3.00 | Y32: BAJA | Z32: VERDE

Sheet  INUNDACION
B1: ANALISIS DE VULNERABILIDAD PERSONAS | J1: ANALISIS DE VULNERABILIDAD RECURSOS | Q1: ANALISIS DE VULNERABILIDAD DE PROCESOS | X1: Interpretación de la calificación para cada respuesta
B2: PUNTO A EVALUAR | C2: Respuesta | F2: CALIFICACIÓN | G2: OBSERVACIONES | J2: PUNTO A EVALUAR | K2: Respuesta | N2: CALIFICACION | O2: OBSERVACIONES | Q2: PUNTO A EVALUAR | R2: Respuesta | U2: CALIFICACION | V2: OBSERVACIONES | X2: CRITERIO DE RESPUESTA | Y2: INTERPRETACION | Z2: CALIFICACION
C3: SI | D3: NO | E3: PARCIAL | K3: SI | L3: NO | M3: PARCIAL | R3: SI | S3: NO | T3: PARCIAL
B4: 1. Gestion Organizacional | J4: 1. Suministro | Q4: 1. Servicios
A5: 1 | B5: ¿Existe una política general en Gestión del Riesgo donde se indican lineamientos de emergencias? | D5: X | F5: 0 | I5: 1 | J5: ¿Se cuenta con implementos básicos para la respuesta de acuerdo con la amenaza identificada? | M5: X | N5: 0.5 | P5: 1 | Q5: ¿Se cuenta suministro de energía permanente? | R5: X | U5: 1 | X5: SI | Y5: Cuando existe o tiene un nivel bueno o Cuando se dispone de los elementos, recursos o cuando se realizan los procedimientos de manera parcial, entre otros. | Z5: 1
A6: 2 | B6: ¿Existe un esquema organizacional para la respuesta a emergencias con funciones y responsables asignados (Brigadas, Sistema Comando de Incidentes – SCI, entre otros) y se mantiene actualizado? | D6: X | F6: 0 | I6: 2 | J6: ¿Se cuenta con implementos básicos para la atención de heridos, tales como: camillas, botiquines, guantes, entre otros, de acuerdo con las necesidades de su Organización? | M6: X | N6: 0.5 | P6: 2 | Q6: ¿Se cuenta suministro de agua permanente? | T6: X | U6: 0.5 | X6: NO | Y6: Cuando no existe o tiene un nivel deficiente | Z6: 0
A7: 3 | B7: ¿Promueve activamente la participación de sus trabajadores en un programa de preparación para emergencias? | D7: X | F7: 0 | J7: Promedio Suministro | N7: =(+N5+N6)/2 -> 0.5 | O7: BUENO | P7: 3 | Q7: ¿Se cuenta con un programa de gestión de residuos? | T7: X | U7: 0.5 | X7: PARCIAL | Y7: Cuando la implementación no está terminada o tiene un nivel regular o Cuando se carece de los elementos, recursos o cuando no se realizan los procedimientos, entre otros | Z7: 0.5
A8: 4 | B8: ¿La estructura organizacional para la respuesta a emergencias garantiza la respuesta a los eventos que se puedan presentar tanto en los horarios laborales como en los no laborales? | D8: x | F8: 0 | J8: PUNTO A EVALUAR | K8: Respuesta | N8: CALIFICACION | O8: OBSERVACIONES | P8: 4 | Q8: ¿Se cuenta con servicio de comunicaciones internas? | T8: X | U8: 0.5
A9: 5 | B9: ¿Han establecido mecanismos de interacción con su entorno que faciliten dar respuesta apropiada a los eventos que se puedan presentar? (Comités de Ayuda Mutua –CAM, Mapa Comunitario de Riesgos, Sistemas de Alerta Temprana – SAT, etc.) | D9: X | F9: 0 | K9: SI | L9: NO | M9: PARCIAL | Q9: Promedio Servicios | U9: =(+U5+U6+U7+U8)/4 -> 0.625 | V9: BUENO
A10: 6 | B10: ¿Existen instrumentos para hacer inspecciones a las áreas para la identificación de condiciones inseguras que puedan generar emergencias? | E10: X | F10: 0.5 | J10: 2. Edificaciones | Q10: PUNTO A EVALUAR | R10: Respuesta | U10: CALIFICACION | V10: OBSERVACIONES
A11: 7 | B11: ¿Existe y se mantiene actualizado todos los componentes del Plan de Emergencias y Contingencias? | D11: X | F11: 0 | I11: 1 | J11: ¿El tipo de construcción es sismoresistente o cuenta con un refuerzo estructural? | M11: X | N11: 0.5 | R11: SI | S11: NO | T11: PARCIAL
B12: Promedio Gestion Organizacional | F12: =(F5+F6+F7+F8+F9+F10+F11)/7 -> 0.071428571 | G12: REGULAR | I12: 2 | J12: ¿Existen puertas y muros cortafuego, puertas antipánico, entre otras características de seguridad? | L12: X | N12: 0 | Q12: 2. Sistemas Alternos
B13: PUNTO A EVALUAR | C13: Respuesta | F13: CALIFICACION | G13: OBSERVACIONES | I13: 3 | J13: ¿Las escaleras de emergencia se encuentran en buen estado, poseen doble pasamano, señalización, antideslizantes, entre otras características de seguridad? | M13: X | N13: 0.5 | P13: 1 | Q13: ¿Se cuenta con sistemas redundantes para el suministro de agua (tanque de reserva de agua, pozos subterráneos, carrotanque, entre otros? | S13: X | U13: 0
C14: SI | D14: NO | E14: PARCIAL | I14: 4 | J14: ¿Están definidas las rutas de evacuación y salidas de emergencia, debidamente señalizadas y con iluminación alterna? | M14: X | N14: 0.5 | P14: 2 | Q14: ¿Se cuenta con sistemas redundantes para el suministro de energía (plantas eléctricas,acumuladores, paneles solares, entre otros? | S14: X | U14: 0
B15: 2. Capacitacion y Entrenamiento | I15: 5 | J15: ¿Se tienen identificados espacios para la ubicación de instalaciones de emergencias (puntos de encuentro, puestos de mando, módulos de estabilización de heridos, entre otros)? | L15: X | N15: 0 | P15: 3 | Q15: ¿Se cuenta con hidrantes internos y/o externos? | S15: X | U15: 0
A16: 1 | B16: ¿Se cuenta con un programa de capacitación en prevención y respuesta a emergencias? | C16: X | F16: 1 | I16: 6 | J16: ¿Las ventanas cuentan con película de seguridad? | L16: X | N16: 0 | Q16: Promedio Alternos | U16: =(+U13+U14+U15)/3 -> 0 | V16: MALO
A17: 2 | B17: ¿Todos los miembros de la organización se han capacitado de acuerdo al programa de capacitación en prevención y respuesta a emergencias? | D17: X | F17: 0 | I17: 7 | J17: ¿Se tienen asegurados o anclados enseres, gabinetes u objetos que puedan caer? | M17: X | N17: 0.5 | Q17: PUNTO A EVALUAR | R17: Respuesta | U17: CALIFICACION | V17: OBSERVACIONES
A18: 3 | B18: ¿Se cuenta con un programa de entrenamiento en respuesta a emergencias para todos los miembros de la organización? | E18: X | F18: 0.5 | J18: Promedio Edificaciones | N18: =(+N11+N12+N13+N14+N15+N16+N17)/7 -> 0.28571429 | O18: REGULAR | R18: SI | S18: NO | T18: PARCIAL
A19: 4 | B19: ¿Se cuenta con mecanismos de difusión en temas de prevención y respuesta a emergencias? | E19: X | F19: 0.5 | J19: PUNTO A EVALUAR | K19: Respuesta | N19: CALIFICACION | O19: OBSERVACIONES | Q19: 3. Recuperacion
B20: Promedio Capacitación y Entrenamiento | F20: =(+F16+F17+F18+F19)/4 -> 0.5 | G20: BUENO | K20: SI | L20: NO | M20: PARCIAL | P20: 1 | Q20: Se tienen identificados los procesos vitales para el funcionamiento de su organización? | R20: X | U20: 1
B21: PUNTO A EVALUAR | C21: Respuesta | F21: CALIFICACION | G21: OBSERVACIONES | J21: 3. Equipos | P21: 2 | Q21: Se cuenta con un plan de continuidad del negocio? | T21: X | U21: 0.5
C22: SI | D22: NO | E22: PARCIAL | I22: 1 | J22: ¿Se cuenta con sistemas de detección y/o monitoreo de la amenaza identificada? | M22: X | N22: 0.5 | P22: 3 | Q22: ¿Se cuenta con algún sistema de seguros para los integrantes de la organización? | T22: X | U22: 0.5
B23: 3. Caracterisiticas de Seguridad | I23: 2 | J23: ¿Se cuenta con algún sistema de alarma en caso de emergencia? | K23: X | N23: 1 | P23: 4 | Q23: ¿Se tienen aseguradas las edificaciones y los bienes en general para cada amenaza identificada? | S23: X | U23: 0
A24: 1 | B24: ¿Se ha identificado y clasificado el personal fijo y flotante en los diferentes horarios laborales y no laborales (menores de edad, adultos mayores, personas con discapacidad física)? | D24: X | F24: 0 | I24: 3 | J24: ¿Se cuenta con sistemas de control o mitigación de la amenaza identificada? | M24: X | N24: 0.5 | P24: 5 | Q24: ¿Se encuentra asegurada la información digital y análoga de la organización? | S24: X | U24: 0
A25: 2 | B25: ¿Se han contemplado acciones específicas teniendo en cuenta la clasificación de la población en la preparación y respuesta a emergencias? | D25: X | F25: 0 | I25: 4 | J25: ¿Se cuenta con un sistema de comunicaciones internas para la respuesta a emergencias? | K25: X | N25: 1 | Q25: Promedio Recuperacion | U25: =(+U20+U21+U22+U23+U24)/5 -> 0.4 | V25: REGULAR
A26: 3 | B26: ¿Se cuenta con elementos de protección suficientes y adecuados para el personal de la organización en sus actividades de rutina? | C26: X | F26: 1 | I26: 5 | J26: ¿Se cuenta con medios de transporte para el apoyo logístico en una emergencia? | L26: X | N26: 0 | Q26: SUMA TOTAL PROMEDIOS | U26: =+U25+U16+U9 -> 1.025 | V26: MEDIA
A27: 4 | B27: ¿Se cuenta con elementos de protección personal para la respuesta a emergencias, de acuerdo con las amenazas identificadas y las necesidades de su Organización? | C27: X | F27: 1 | I27: 6 | J27: ¿Se cuenta con programa de mantenimiento preventivo y correctivo para los equipos de emergencia? | L27: X | N27: 0
A28: 5 | B28: ¿Se cuenta con un esquema de seguridad física? | D28: X | F28: 0 | J28: Promedio de Equipos | N28: =(+N22+N23+N24+N25+N26+N27)/6 -> 0.5 | O28: BUENO
B29: Promedio Características de Seguridad | F29: =(+F24+F25+F26+F27+F28)/5 -> 0.4 | G29: BUENO | J29: SUMA TOTAL PROMEDIOS | N29: =+N28+N18+N7 -> 1.2857143 | O29: MEDIA | X29: RANGO | Y29: INTERPRETACION | Z29: COLOR
B30: SUMA TOTAL PROMEDIOS | F30: =+F29+F20+F12 -> 0.97142857 | G30: ALTA | X30: 0.0 – 1.00 | Y30: ALTA | Z30: ROJO
X31: 1.01 – 2.00 | Y31: MEDIA | Z31: AMARILLO
X32: 2.01 – 3.00 | Y32: BAJA | Z32: VERDE

Sheet  HURTO
B1: ANALISIS DE VULNERABILIDAD PERSONAS | J1: ANALISIS DE VULNERABILIDAD RECURSOS | Q1: ANALISIS DE VULNERABILIDAD DE PROCESOS | X1: Interpretación de la calificación para cada respuesta
B2: PUNTO A EVALUAR | C2: Respuesta | F2: CALIFICACIÓN | G2: OBSERVACIONES | J2: PUNTO A EVALUAR | K2: Respuesta | N2: CALIFICACION | O2: OBSERVACIONES | Q2: PUNTO A EVALUAR | R2: Respuesta | U2: CALIFICACION | V2: OBSERVACIONES | X2: CRITERIO DE RESPUESTA | Y2: INTERPRETACION | Z2: CALIFICACION
C3: SI | D3: NO | E3: PARCIAL | K3: SI | L3: NO | M3: PARCIAL | R3: SI | S3: NO | T3: PARCIAL
B4: 1. Gestion Organizacional | J4: 1. Suministro | Q4: 1. Servicios
A5: 1 | B5: ¿Existe una política general en Gestión del Riesgo donde se indican lineamientos de emergencias? | D5: X | F5: 0 | I5: 1 | J5: ¿Se cuenta con implementos básicos para la respuesta de acuerdo con la amenaza identificada? | M5: X | N5: 0.5 | P5: 1 | Q5: ¿Se cuenta suministro de energía permanente? | T5: X | U5: 0.5 | X5: SI | Y5: Cuando existe o tiene un nivel bueno o Cuando se dispone de los elementos, recursos o cuando se realizan los procedimientos de manera parcial, entre otros. | Z5: 1
A6: 2 | B6: ¿Existe un esquema organizacional para la respuesta a emergencias con funciones y responsables asignados (Brigadas, Sistema Comando de Incidentes – SCI, entre otros) y se mantiene actualizado? | D6: X | F6: 0 | I6: 2 | J6: ¿Se cuenta con implementos básicos para la atención de heridos, tales como: camillas, botiquines, guantes, entre otros, de acuerdo con las necesidades de su Organización? | M6: X | N6: 0.5 | P6: 2 | Q6: ¿Se cuenta suministro de agua permanente? | T6: X | U6: 0.5 | X6: NO | Y6: Cuando no existe o tiene un nivel deficiente | Z6: 0
A7: 3 | B7: ¿Promueve activamente la participación de sus trabajadores en un programa de preparación para emergencias? | D7: X | F7: 0 | J7: Promedio Suministro | N7: =(+N5+N6)/2 -> 0.5 | O7: BUENO | P7: 3 | Q7: ¿Se cuenta con un programa de gestión de residuos? | T7: X | U7: 0.5 | X7: PARCIAL | Y7: Cuando la implementación no está terminada o tiene un nivel regular o Cuando se carece de los elementos, recursos o cuando no se realizan los procedimientos, entre otros | Z7: 0.5
A8: 4 | B8: ¿La estructura organizacional para la respuesta a emergencias garantiza la respuesta a los eventos que se puedan presentar tanto en los horarios laborales como en los no laborales? | D8: x | F8: 0 | J8: PUNTO A EVALUAR | K8: Respuesta | N8: CALIFICACION | O8: OBSERVACIONES | P8: 4 | Q8: ¿Se cuenta con servicio de comunicaciones internas? | T8: X | U8: 0.5
A9: 5 | B9: ¿Han establecido mecanismos de interacción con su entorno que faciliten dar respuesta apropiada a los eventos que se puedan presentar? (Comités de Ayuda Mutua –CAM, Mapa Comunitario de Riesgos, Sistemas de Alerta Temprana – SAT, etc.) | D9: X | F9: 0 | K9: SI | L9: NO | M9: PARCIAL | Q9: Promedio Servicios | U9: =(+U5+U6+U7+U8)/4 -> 0.5 | V9: BUENO
A10: 6 | B10: ¿Existen instrumentos para hacer inspecciones a las áreas para la identificación de condiciones inseguras que puedan generar emergencias? | E10: X | F10: 0.5 | J10: 2. Edificaciones | Q10: PUNTO A EVALUAR | R10: Respuesta | U10: CALIFICACION | V10: OBSERVACIONES
A11: 7 | B11: ¿Existe y se mantiene actualizado todos los componentes del Plan de Emergencias y Contingencias? | D11: X | F11: 0 | I11: 1 | J11: ¿El tipo de construcción es sismoresistente o cuenta con un refuerzo estructural? | M11: X | N11: 0.5 | R11: SI | S11: NO | T11: PARCIAL
B12: Promedio Gestion Organizacional | F12: =(F5+F6+F7+F8+F9+F10+F11)/7 -> 0.071428571 | G12: REGULAR | I12: 2 | J12: ¿Existen puertas y muros cortafuego, puertas antipánico, entre otras características de seguridad? | L12: X | N12: 0 | Q12: 2. Sistemas Alternos
B13: PUNTO A EVALUAR | C13: Respuesta | F13: CALIFICACION | G13: OBSERVACIONES | I13: 3 | J13: ¿Las escaleras de emergencia se encuentran en buen estado, poseen doble pasamano, señalización, antideslizantes, entre otras características de seguridad? | M13: X | N13: 0.5 | P13: 1 | Q13: ¿Se cuenta con sistemas redundantes para el suministro de agua (tanque de reserva de agua, pozos subterráneos, carrotanque, entre otros? | S13: X | U13: 0
C14: SI | D14: NO | E14: PARCIAL | I14: 4 | J14: ¿Están definidas las rutas de evacuación y salidas de emergencia, debidamente señalizadas y con iluminación alterna? | M14: X | N14: 0.5 | P14: 2 | Q14: ¿Se cuenta con sistemas redundantes para el suministro de energía (plantas eléctricas,acumuladores, paneles solares, entre otros? | S14: X | U14: 0
B15: 2. Capacitacion y Entrenamiento | I15: 5 | J15: ¿Se tienen identificados espacios para la ubicación de instalaciones de emergencias (puntos de encuentro, puestos de mando, módulos de estabilización de heridos, entre otros)? | L15: X | N15: 0 | P15: 3 | Q15: ¿Se cuenta con hidrantes internos y/o externos? | S15: X | U15: 0
A16: 1 | B16: ¿Se cuenta con un programa de capacitación en prevención y respuesta a emergencias? | C16: X | F16: 1 | I16: 6 | J16: ¿Las ventanas cuentan con película de seguridad? | L16: X | N16: 0 | Q16: Promedio Alternos | U16: =(+U13+U14+U15)/3 -> 0 | V16: MALO
A17: 2 | B17: ¿Todos los miembros de la organización se han capacitado de acuerdo al programa de capacitación en prevención y respuesta a emergencias? | D17: X | F17: 0 | I17: 7 | J17: ¿Se tienen asegurados o anclados enseres, gabinetes u objetos que puedan caer? | M17: X | N17: 0.5 | Q17: PUNTO A EVALUAR | R17: Respuesta | U17: CALIFICACION | V17: OBSERVACIONES
A18: 3 | B18: ¿Se cuenta con un programa de entrenamiento en respuesta a emergencias para todos los miembros de la organización? | E18: X | F18: 0.5 | J18: Promedio Edificaciones | N18: =(+N11+N12+N13+N14+N15+N16+N17)/7 -> 0.28571429 | O18: REGULAR | R18: SI | S18: NO | T18: PARCIAL
A19: 4 | B19: ¿Se cuenta con mecanismos de difusión en temas de prevención y respuesta a emergencias? | E19: X | F19: 0.5 | J19: PUNTO A EVALUAR | K19: Respuesta | N19: CALIFICACION | O19: OBSERVACIONES | Q19: 3. Recuperacion
B20: Promedio Capacitación y Entrenamiento | F20: =(+F16+F17+F18+F19)/4 -> 0.5 | G20: BUENO | K20: SI | L20: NO | M20: PARCIAL | P20: 1 | Q20: Se tienen identificados los procesos vitales para el funcionamiento de su organización? | R20: X | U20: 1
B21: PUNTO A EVALUAR | C21: Respuesta | F21: CALIFICACION | G21: OBSERVACIONES | J21: 3. Equipos | P21: 2 | Q21: Se cuenta con un plan de continuidad del negocio? | T21: X | U21: 0.5
C22: SI | D22: NO | E22: PARCIAL | I22: 1 | J22: ¿Se cuenta con sistemas de detección y/o monitoreo de la amenaza identificada? | L22: X | N22: 0.5 | P22: 3 | Q22: ¿Se cuenta con algún sistema de seguros para los integrantes de la organización? | T22: X | U22: 0.5
B23: 3. Caracterisiticas de Seguridad | I23: 2 | J23: ¿Se cuenta con algún sistema de alarma en caso de emergencia? | L23: X | N23: 0 | P23: 4 | Q23: ¿Se tienen aseguradas las edificaciones y los bienes en general para cada amenaza identificada? | S23: X | U23: 0
A24: 1 | B24: ¿Se ha identificado y clasificado el personal fijo y flotante en los diferentes horarios laborales y no laborales (menores de edad, adultos mayores, personas con discapacidad física)? | D24: X | F24: 0 | I24: 3 | J24: ¿Se cuenta con sistemas de control o mitigación de la amenaza identificada? | M24: X | N24: 0.5 | P24: 5 | Q24: ¿Se encuentra asegurada la información digital y análoga de la organización? | S24: X | U24: 0
A25: 2 | B25: ¿Se han contemplado acciones específicas teniendo en cuenta la clasificación de la población en la preparación y respuesta a emergencias? | D25: X | F25: 0 | I25: 4 | J25: ¿Se cuenta con un sistema de comunicaciones internas para la respuesta a emergencias? | M25: X | N25: 0.5 | Q25: Promedio Recuperacion | U25: =(+U20+U21+U22+U23+U24)/5 -> 0.4 | V25: REGULAR
A26: 3 | B26: ¿Se cuenta con elementos de protección suficientes y adecuados para el personal de la organización en sus actividades de rutina? | C26: X | F26: 1 | I26: 5 | J26: ¿Se cuenta con medios de transporte para el apoyo logístico en una emergencia? | L26: X | N26: 0.5 | Q26: SUMA TOTAL PROMEDIOS | U26: =+U25+U16+U9 -> 0.9 | V26: ALTA
A27: 4 | B27: ¿Se cuenta con elementos de protección personal para la respuesta a emergencias, de acuerdo con las amenazas identificadas y las necesidades de su Organización? | D27: X | F27: 0 | I27: 6 | J27: ¿Se cuenta con programa de mantenimiento preventivo y correctivo para los equipos de emergencia? | L27: X | N27: 0
A28: 5 | B28: ¿Se cuenta con un esquema de seguridad física? | D28: X | F28: 0 | J28: Promedio de Equipos | N28: =(+N22+N23+N24+N25+N26+N27)/6 -> 0.33333333 | O28: BUENO
B29: Promedio Características de Seguridad | F29: =(+F24+F25+F26+F27+F28)/5 -> 0.2 | G29: BUENO | J29: SUMA TOTAL PROMEDIOS | N29: =+N28+N18+N7 -> 1.1190476 | O29: MEDIA | X29: RANGO | Y29: INTERPRETACION | Z29: COLOR
B30: SUMA TOTAL PROMEDIOS | F30: =+F29+F20+F12 -> 0.77142857 | G30: ALTA | X30: 0.0 – 1.00 | Y30: ALTA | Z30: ROJO
X31: 1.01 – 2.00 | Y31: MEDIA | Z31: AMARILLO
X32: 2.01 – 3.00 | Y32: BAJA | Z32: VERDE

Sheet  INCENDIO
B1: ANALISIS DE VULNERABILIDAD PERSONAS | J1: ANALISIS DE VULNERABILIDAD RECURSOS | Q1: ANALISIS DE VULNERABILIDAD DE PROCESOS | X1: Interpretación de la calificación para cada respuesta
B2: PUNTO A EVALUAR | C2: Respuesta | F2: CALIFICACIÓN | G2: OBSERVACIONES | J2: PUNTO A EVALUAR | K2: Respuesta | N2: CALIFICACION | O2: OBSERVACIONES | Q2: PUNTO A EVALUAR | R2: Respuesta | U2: CALIFICACION | V2: OBSERVACIONES | X2: CRITERIO DE RESPUESTA | Y2: INTERPRETACION | Z2: CALIFICACION
C3: SI | D3: NO | E3: PARCIAL | K3: SI | L3: NO | M3: PARCIAL | R3: SI | S3: NO | T3: PARCIAL
B4: 1. Gestion Organizacional | J4: 1. Suministro | Q4: 1. Servicios
A5: 1 | B5: ¿Existe una política general en Gestión del Riesgo donde se indican lineamientos de emergencias? | D5: X | F5: 0 | I5: 1 | J5: ¿Se cuenta con implementos básicos para la respuesta de acuerdo con la amenaza identificada? | K5: X | N5: 1 | P5: 1 | Q5: ¿Se cuenta suministro de energía permanente? | T5: X | U5: 0.5 | X5: SI | Y5: Cuando existe o tiene un nivel bueno o Cuando se dispone de los elementos, recursos o cuando se realizan los procedimientos de manera parcial, entre otros. | Z5: 1
A6: 2 | B6: ¿Existe un esquema organizacional para la respuesta a emergencias con funciones y responsables asignados (Brigadas, Sistema Comando de Incidentes – SCI, entre otros) y se mantiene actualizado? | D6: X | F6: 0 | I6: 2 | J6: ¿Se cuenta con implementos básicos para la atención de heridos, tales como: camillas, botiquines, guantes, entre otros, de acuerdo con las necesidades de su Organización? | M6: X | N6: 0.5 | P6: 2 | Q6: ¿Se cuenta suministro de agua permanente? | T6: X | U6: 0.5 | X6: NO | Y6: Cuando no existe o tiene un nivel deficiente | Z6: 0
A7: 3 | B7: ¿Promueve activamente la participación de sus trabajadores en un programa de preparación para emergencias? | D7: X | F7: 0 | J7: Promedio Suministro | N7: =(+N5+N6)/2 -> 0.75 | O7: BUENO | P7: 3 | Q7: ¿Se cuenta con un programa de gestión de residuos? | T7: X | U7: 0.5 | X7: PARCIAL | Y7: Cuando la implementación no está terminada o tiene un nivel regular o Cuando se carece de los elementos, recursos o cuando no se realizan los procedimientos, entre otros | Z7: 0.5
A8: 4 | B8: ¿La estructura organizacional para la respuesta a emergencias garantiza la respuesta a los eventos que se puedan presentar tanto en los horarios laborales como en los no laborales? | D8: x | F8: 0 | J8: PUNTO A EVALUAR | K8: Respuesta | N8: CALIFICACION | O8: OBSERVACIONES | P8: 4 | Q8: ¿Se cuenta con servicio de comunicaciones internas? | T8: X | U8: 0.5
A9: 5 | B9: ¿Han establecido mecanismos de interacción con su entorno que faciliten dar respuesta apropiada a los eventos que se puedan presentar? (Comités de Ayuda Mutua –CAM, Mapa Comunitario de Riesgos, Sistemas de Alerta Temprana – SAT, etc.) | D9: X | F9: 0 | K9: SI | L9: NO | M9: PARCIAL | Q9: Promedio Servicios | U9: =(+U5+U6+U7+U8)/4 -> 0.5 | V9: BUENO
A10: 6 | B10: ¿Existen instrumentos para hacer inspecciones a las áreas para la identificación de condiciones inseguras que puedan generar emergencias? | C10: X | F10: 1 | J10: 2. Edificaciones | Q10: PUNTO A EVALUAR | R10: Respuesta | U10: CALIFICACION | V10: OBSERVACIONES
A11: 7 | B11: ¿Existe y se mantiene actualizado todos los componentes del Plan de Emergencias y Contingencias? | D11: X | F11: 0 | I11: 1 | J11: ¿El tipo de construcción es sismoresistente o cuenta con un refuerzo estructural? | M11: X | N11: 0.5 | R11: SI | S11: NO | T11: PARCIAL
B12: Promedio Gestion Organizacional | F12: =(F5+F6+F7+F8+F9+F10+F11)/7 -> 0.14285714 | G12: REGULAR | I12: 2 | J12: ¿Existen puertas y muros cortafuego, puertas antipánico, entre otras características de seguridad? | L12: X | N12: 0 | Q12: 2. Sistemas Alternos
B13: PUNTO A EVALUAR | C13: Respuesta | F13: CALIFICACION | G13: OBSERVACIONES | I13: 3 | J13: ¿Las escaleras de emergencia se encuentran en buen estado, poseen doble pasamano, señalización, antideslizantes, entre otras características de seguridad? | M13: X | N13: 0.5 | P13: 1 | Q13: ¿Se cuenta con sistemas redundantes para el suministro de agua (tanque de reserva de agua, pozos subterráneos, carrotanque, entre otros? | S13: X | U13: 0
C14: SI | D14: NO | E14: PARCIAL | I14: 4 | J14: ¿Están definidas las rutas de evacuación y salidas de emergencia, debidamente señalizadas y con iluminación alterna? | M14: X | N14: 0.5 | P14: 2 | Q14: ¿Se cuenta con sistemas redundantes para el suministro de energía (plantas eléctricas,acumuladores, paneles solares, entre otros? | S14: X | U14: 0
B15: 2. Capacitacion y Entrenamiento | I15: 5 | J15: ¿Se tienen identificados espacios para la ubicación de instalaciones de emergencias (puntos de encuentro, puestos de mando, módulos de estabilización de heridos, entre otros)? | L15: X | N15: 0 | P15: 3 | Q15: ¿Se cuenta con hidrantes internos y/o externos? | S15: X | U15: 0
A16: 1 | B16: ¿Se cuenta con un programa de capacitación en prevención y respuesta a emergencias? | C16: X | F16: 1 | I16: 6 | J16: ¿Las ventanas cuentan con película de seguridad? | L16: X | N16: 0 | Q16: Promedio Alternos | U16: =(+U13+U14+U15)/3 -> 0 | V16: MALO
A17: 2 | B17: ¿Todos los miembros de la organización se han capacitado de acuerdo al programa de capacitación en prevención y respuesta a emergencias? | D17: X | F17: 0 | I17: 7 | J17: ¿Se tienen asegurados o anclados enseres, gabinetes u objetos que puedan caer? | M17: X | N17: 0.5 | Q17: PUNTO A EVALUAR | R17: Respuesta | U17: CALIFICACION | V17: OBSERVACIONES
A18: 3 | B18: ¿Se cuenta con un programa de entrenamiento en respuesta a emergencias para todos los miembros de la organización? | E18: X | F18: 0.5 | J18: Promedio Edificaciones | N18: =(+N11+N12+N13+N14+N15+N16+N17)/7 -> 0.28571429 | O18: REGULAR | R18: SI | S18: NO | T18: PARCIAL
A19: 4 | B19: ¿Se cuenta con mecanismos de difusión en temas de prevención y respuesta a emergencias? | E19: X | F19: 0.5 | J19: PUNTO A EVALUAR | K19: Respuesta | N19: CALIFICACION | O19: OBSERVACIONES | Q19: 3. Recuperacion
B20: Promedio Capacitación y Entrenamiento | F20: =(+F16+F17+F18+F19)/4 -> 0.5 | G20: BUENO | K20: SI | L20: NO | M20: PARCIAL | P20: 1 | Q20: Se tienen identificados los procesos vitales para el funcionamiento de su organización? | R20: X | U20: 1
B21: PUNTO A EVALUAR | C21: Respuesta | F21: CALIFICACION | G21: OBSERVACIONES | J21: 3. Equipos | P21: 2 | Q21: Se cuenta con un plan de continuidad del negocio? | T21: X | U21: 0.5
C22: SI | D22: NO | E22: PARCIAL | I22: 1 | J22: ¿Se cuenta con sistemas de detección y/o monitoreo de la amenaza identificada? | M22: X | N22: 0.5 | P22: 3 | Q22: ¿Se cuenta con algún sistema de seguros para los integrantes de la organización? | T22: X | U22: 0.5
B23: 3. Caracterisiticas de Seguridad | I23: 2 | J23: ¿Se cuenta con algún sistema de alarma en caso de emergencia? | L23: X | N23: 1 | P23: 4 | Q23: ¿Se tienen aseguradas las edificaciones y los bienes en general para cada amenaza identificada? | S23: X | U23: 0
A24: 1 | B24: ¿Se ha identificado y clasificado el personal fijo y flotante en los diferentes horarios laborales y no laborales (menores de edad, adultos mayores, personas con discapacidad física)? | D24: X | F24: 0 | I24: 3 | J24: ¿Se cuenta con sistemas de control o mitigación de la amenaza identificada? | K24: X | N24: 1 | P24: 5 | Q24: ¿Se encuentra asegurada la información digital y análoga de la organización? | S24: X | U24: 0
A25: 2 | B25: ¿Se han contemplado acciones específicas teniendo en cuenta la clasificación de la población en la preparación y respuesta a emergencias? | D25: X | F25: 0 | I25: 4 | J25: ¿Se cuenta con un sistema de comunicaciones internas para la respuesta a emergencias? | K25: X | N25: 1 | Q25: Promedio Recuperacion | U25: =(+U20+U21+U22+U23+U24)/5 -> 0.4 | V25: REGULAR
A26: 3 | B26: ¿Se cuenta con elementos de protección suficientes y adecuados para el personal de la organización en sus actividades de rutina? | C26: X | F26: 1 | I26: 5 | J26: ¿Se cuenta con medios de transporte para el apoyo logístico en una emergencia? | L26: X | N26: 0 | Q26: SUMA TOTAL PROMEDIOS | U26: =+U25+U16+U9 -> 0.9 | V26: ALTA
A27: 4 | B27: ¿Se cuenta con elementos de protección personal para la respuesta a emergencias, de acuerdo con las amenazas identificadas y las necesidades de su Organización? | C27: X | F27: 1 | I27: 6 | J27: ¿Se cuenta con programa de mantenimiento preventivo y correctivo para los equipos de emergencia? | L27: X | N27: 0
A28: 5 | B28: ¿Se cuenta con un esquema de seguridad física? | D28: X | F28: 0 | J28: Promedio de Equipos | N28: =(+N22+N23+N24+N25+N26+N27)/6 -> 0.58333333 | O28: BUENO
B29: Promedio Características de Seguridad | F29: =(+F24+F25+F26+F27+F28)/5 -> 0.4 | G29: BUENO | J29: SUMA TOTAL PROMEDIOS | N29: =+N28+N18+N7 -> 1.6190476 | O29: MEDIA | X29: RANGO | Y29: INTERPRETACION | Z29: COLOR
B30: SUMA TOTAL PROMEDIOS | F30: =+F29+F20+F12 -> 1.0428571 | G30: MEDIA | X30: 0.0 – 1.00 | Y30: ALTA | Z30: ROJO
X31: 1.01 – 2.00 | Y31: MEDIA | Z31: AMARILLO
X32: 2.01 – 3.00 | Y32: BAJA | Z32: VERDE

Sheet FUGA DE GAS
B1: ANALISIS DE VULNERABILIDAD PERSONAS | J1: ANALISIS DE VULNERABILIDAD RECURSOS | Q1: ANALISIS DE VULNERABILIDAD DE PROCESOS | X1: Interpretación de la calificación para cada respuesta
B2: PUNTO A EVALUAR | C2: Respuesta | F2: CALIFICACIÓN | G2: OBSERVACIONES | J2: PUNTO A EVALUAR | K2: Respuesta | N2: CALIFICACION | O2: OBSERVACIONES | Q2: PUNTO A EVALUAR | R2: Respuesta | U2: CALIFICACION | V2: OBSERVACIONES | X2: CRITERIO DE RESPUESTA | Y2: INTERPRETACION | Z2: CALIFICACION
C3: SI | D3: NO | E3: PARCIAL | K3: SI | L3: NO | M3: PARCIAL | R3: SI | S3: NO | T3: PARCIAL
B4: 1. Gestion Organizacional | J4: 1. Suministro | Q4: 1. Servicios
A5: 1 | B5: ¿Existe una política general en Gestión del Riesgo donde se indican lineamientos de emergencias? | D5: X | F5: 0 | I5: 1 | J5: ¿Se cuenta con implementos básicos para la respuesta de acuerdo con la amenaza identificada? | K5: X | N5: 1 | P5: 1 | Q5: ¿Se cuenta suministro de energía permanente? | T5: X | U5: 0.5 | X5: SI | Y5: Cuando existe o tiene un nivel bueno o Cuando se dispone de los elementos, recursos o cuando se realizan los procedimientos de manera parcial, entre otros. | Z5: 1
A6: 2 | B6: ¿Existe un esquema organizacional para la respuesta a emergencias con funciones y responsables asignados (Brigadas, Sistema Comando de Incidentes – SCI, entre otros) y se mantiene actualizado? | D6: X | F6: 0 | I6: 2 | J6: ¿Se cuenta con implementos básicos para la atención de heridos, tales como: camillas, botiquines, guantes, entre otros, de acuerdo con las necesidades de su Organización? | M6: X | N6: 0.5 | P6: 2 | Q6: ¿Se cuenta suministro de agua permanente? | T6: X | U6: 0.5 | X6: NO | Y6: Cuando no existe o tiene un nivel deficiente | Z6: 0
A7: 3 | B7: ¿Promueve activamente la participación de sus trabajadores en un programa de preparación para emergencias? | D7: X | F7: 0 | J7: Promedio Suministro | N7: =(+N5+N6)/2 -> 0.75 | O7: BUENO | P7: 3 | Q7: ¿Se cuenta con un programa de gestión de residuos? | T7: X | U7: 0.5 | X7: PARCIAL | Y7: Cuando la implementación no está terminada o tiene un nivel regular o Cuando se carece de los elementos, recursos o cuando no se realizan los procedimientos, entre otros | Z7: 0.5
A8: 4 | B8: ¿La estructura organizacional para la respuesta a emergencias garantiza la respuesta a los eventos que se puedan presentar tanto en los horarios laborales como en los no laborales? | D8: x | F8: 0 | J8: PUNTO A EVALUAR | K8: Respuesta | N8: CALIFICACION | O8: OBSERVACIONES | P8: 4 | Q8: ¿Se cuenta con servicio de comunicaciones internas? | T8: X | U8: 0.5
A9: 5 | B9: ¿Han establecido mecanismos de interacción con su entorno que faciliten dar respuesta apropiada a los eventos que se puedan presentar? (Comités de Ayuda Mutua –CAM, Mapa Comunitario de Riesgos, Sistemas de Alerta Temprana – SAT, etc.) | D9: X | F9: 0 | K9: SI | L9: NO | M9: PARCIAL | Q9: Promedio Servicios | U9: =(+U5+U6+U7+U8)/4 -> 0.5 | V9: BUENO
A10: 6 | B10: ¿Existen instrumentos para hacer inspecciones a las áreas para la identificación de condiciones inseguras que puedan generar emergencias? | C10: X | F10: 1 | J10: 2. Edificaciones | Q10: PUNTO A EVALUAR | R10: Respuesta | U10: CALIFICACION | V10: OBSERVACIONES
A11: 7 | B11: ¿Existe y se mantiene actualizado todos los componentes del Plan de Emergencias y Contingencias? | D11: X | F11: 0 | I11: 1 | J11: ¿El tipo de construcción es sismoresistente o cuenta con un refuerzo estructural? | M11: X | N11: 0.5 | R11: SI | S11: NO | T11: PARCIAL
B12: Promedio Gestion Organizacional | F12: =(F5+F6+F7+F8+F9+F10+F11)/7 -> 0.14285714 | G12: REGULAR | I12: 2 | J12: ¿Existen puertas y muros cortafuego, puertas antipánico, entre otras características de seguridad? | L12: X | N12: 0 | Q12: 2. Sistemas Alternos
B13: PUNTO A EVALUAR | C13: Respuesta | F13: CALIFICACION | G13: OBSERVACIONES | I13: 3 | J13: ¿Las escaleras de emergencia se encuentran en buen estado, poseen doble pasamano, señalización, antideslizantes, entre otras características de seguridad? | M13: X | N13: 0.5 | P13: 1 | Q13: ¿Se cuenta con sistemas redundantes para el suministro de agua (tanque de reserva de agua, pozos subterráneos, carrotanque, entre otros? | S13: X | U13: 0
C14: SI | D14: NO | E14: PARCIAL | I14: 4 | J14: ¿Están definidas las rutas de evacuación y salidas de emergencia, debidamente señalizadas y con iluminación alterna? | M14: X | N14: 0.5 | P14: 2 | Q14: ¿Se cuenta con sistemas redundantes para el suministro de energía (plantas eléctricas,acumuladores, paneles solares, entre otros? | S14: X | U14: 0
B15: 2. Capacitacion y Entrenamiento | I15: 5 | J15: ¿Se tienen identificados espacios para la ubicación de instalaciones de emergencias (puntos de encuentro, puestos de mando, módulos de estabilización de heridos, entre otros)? | L15: X | N15: 0 | P15: 3 | Q15: ¿Se cuenta con hidrantes internos y/o externos? | S15: X | U15: 0
A16: 1 | B16: ¿Se cuenta con un programa de capacitación en prevención y respuesta a emergencias? | C16: X | F16: 1 | I16: 6 | J16: ¿Las ventanas cuentan con película de seguridad? | L16: X | N16: 0 | Q16: Promedio Alternos | U16: =(+U13+U14+U15)/3 -> 0 | V16: MALO
A17: 2 | B17: ¿Todos los miembros de la organización se han capacitado de acuerdo al programa de capacitación en prevención y respuesta a emergencias? | D17: X | F17: 0 | I17: 7 | J17: ¿Se tienen asegurados o anclados enseres, gabinetes u objetos que puedan caer? | M17: X | N17: 0.5 | Q17: PUNTO A EVALUAR | R17: Respuesta | U17: CALIFICACION | V17: OBSERVACIONES
A18: 3 | B18: ¿Se cuenta con un programa de entrenamiento en respuesta a emergencias para todos los miembros de la organización? | E18: X | F18: 0.5 | J18: Promedio Edificaciones | N18: =(+N11+N12+N13+N14+N15+N16+N17)/7 -> 0.28571429 | O18: REGULAR | R18: SI | S18: NO | T18: PARCIAL
A19: 4 | B19: ¿Se cuenta con mecanismos de difusión en temas de prevención y respuesta a emergencias? | E19: X | F19: 0.5 | J19: PUNTO A EVALUAR | K19: Respuesta | N19: CALIFICACION | O19: OBSERVACIONES | Q19: 3. Recuperacion
B20: Promedio Capacitación y Entrenamiento | F20: =(+F16+F17+F18+F19)/4 -> 0.5 | G20: BUENO | K20: SI | L20: NO | M20: PARCIAL | P20: 1 | Q20: Se tienen identificados los procesos vitales para el funcionamiento de su organización? | R20: X | U20: 1
B21: PUNTO A EVALUAR | C21: Respuesta | F21: CALIFICACION | G21: OBSERVACIONES | J21: 3. Equipos | P21: 2 | Q21: Se cuenta con un plan de continuidad del negocio? | T21: X | U21: 0.5
C22: SI | D22: NO | E22: PARCIAL | I22: 1 | J22: ¿Se cuenta con sistemas de detección y/o monitoreo de la amenaza identificada? | M22: X | N22: 0.5 | P22: 3 | Q22: ¿Se cuenta con algún sistema de seguros para los integrantes de la organización? | T22: X | U22: 0.5
B23: 3. Caracterisiticas de Seguridad | I23: 2 | J23: ¿Se cuenta con algún sistema de alarma en caso de emergencia? | L23: X | N23: 1 | P23: 4 | Q23: ¿Se tienen aseguradas las edificaciones y los bienes en general para cada amenaza identificada? | S23: X | U23: 0
A24: 1 | B24: ¿Se ha identificado y clasificado el personal fijo y flotante en los diferentes horarios laborales y no laborales (menores de edad, adultos mayores, personas con discapacidad física)? | D24: X | F24: 0 | I24: 3 | J24: ¿Se cuenta con sistemas de control o mitigación de la amenaza identificada? | K24: X | N24: 1 | P24: 5 | Q24: ¿Se encuentra asegurada la información digital y análoga de la organización? | S24: X | U24: 0
A25: 2 | B25: ¿Se han contemplado acciones específicas teniendo en cuenta la clasificación de la población en la preparación y respuesta a emergencias? | D25: X | F25: 0 | I25: 4 | J25: ¿Se cuenta con un sistema de comunicaciones internas para la respuesta a emergencias? | K25: X | N25: 1 | Q25: Promedio Recuperacion | U25: =(+U20+U21+U22+U23+U24)/5 -> 0.4 | V25: REGULAR
A26: 3 | B26: ¿Se cuenta con elementos de protección suficientes y adecuados para el personal de la organización en sus actividades de rutina? | C26: X | F26: 1 | I26: 5 | J26: ¿Se cuenta con medios de transporte para el apoyo logístico en una emergencia? | L26: X | N26: 0 | Q26: SUMA TOTAL PROMEDIOS | U26: =+U25+U16+U9 -> 0.9 | V26: ALTA
A27: 4 | B27: ¿Se cuenta con elementos de protección personal para la respuesta a emergencias, de acuerdo con las amenazas identificadas y las necesidades de su Organización? | C27: X | F27: 1 | I27: 6 | J27: ¿Se cuenta con programa de mantenimiento preventivo y correctivo para los equipos de emergencia? | L27: X | N27: 0
A28: 5 | B28: ¿Se cuenta con un esquema de seguridad física? | D28: X | F28: 0 | J28: Promedio de Equipos | N28: =(+N22+N23+N24+N25+N26+N27)/6 -> 0.58333333 | O28: BUENO
B29: Promedio Características de Seguridad | F29: =(+F24+F25+F26+F27+F28)/5 -> 0.4 | G29: BUENO | J29: SUMA TOTAL PROMEDIOS | N29: =+N28+N18+N7 -> 1.6190476 | O29: MEDIA | X29: RANGO | Y29: INTERPRETACION | Z29: COLOR
B30: SUMA TOTAL PROMEDIOS | F30: =+F29+F20+F12 -> 1.0428571 | G30: MEDIA | X30: 0.0 – 1.00 | Y30: ALTA | Z30: ROJO
X31: 1.01 – 2.00 | Y31: MEDIA | Z31: AMARILLO
X32: 2.01 – 3.00 | Y32: BAJA | Z32: VERDE

Sheet  ATENTADOS
B1: ANALISIS DE VULNERABILIDAD PERSONAS | J1: ANALISIS DE VULNERABILIDAD RECURSOS | Q1: ANALISIS DE VULNERABILIDAD DE PROCESOS | X1: Interpretación de la calificación para cada respuesta
B2: PUNTO A EVALUAR | C2: Respuesta | F2: CALIFICACIÓN | G2: OBSERVACIONES | J2: PUNTO A EVALUAR | K2: Respuesta | N2: CALIFICACION | O2: OBSERVACIONES | Q2: PUNTO A EVALUAR | R2: Respuesta | U2: CALIFICACION | V2: OBSERVACIONES | X2: CRITERIO DE RESPUESTA | Y2: INTERPRETACION | Z2: CALIFICACION
C3: SI | D3: NO | E3: PARCIAL | K3: SI | L3: NO | M3: PARCIAL | R3: SI | S3: NO | T3: PARCIAL
B4: 1. Gestion Organizacional | J4: 1. Suministro | Q4: 1. Servicios
A5: 1 | B5: ¿Existe una política general en Gestión del Riesgo donde se indican lineamientos de emergencias? | D5: X | F5: 0 | I5: 1 | J5: ¿Se cuenta con implementos básicos para la respuesta de acuerdo con la amenaza identificada? | M5: X | N5: 0.5 | P5: 1 | Q5: ¿Se cuenta suministro de energía permanente? | T5: X | U5: 0.5 | X5: SI | Y5: Cuando existe o tiene un nivel bueno o Cuando se dispone de los elementos, recursos o cuando se realizan los procedimientos de manera parcial, entre otros. | Z5: 1
A6: 2 | B6: ¿Existe un esquema organizacional para la respuesta a emergencias con funciones y responsables asignados (Brigadas, Sistema Comando de Incidentes – SCI, entre otros) y se mantiene actualizado? | D6: X | F6: 0 | I6: 2 | J6: ¿Se cuenta con implementos básicos para la atención de heridos, tales como: camillas, botiquines, guantes, entre otros, de acuerdo con las necesidades de su Organización? | M6: X | N6: 0.5 | P6: 2 | Q6: ¿Se cuenta suministro de agua permanente? | T6: X | U6: 0.5 | X6: NO | Y6: Cuando no existe o tiene un nivel deficiente | Z6: 0
A7: 3 | B7: ¿Promueve activamente la participación de sus trabajadores en un programa de preparación para emergencias? | D7: X | F7: 0 | J7: Promedio Suministro | N7: =(+N5+N6)/2 -> 0.5 | O7: BUENO | P7: 3 | Q7: ¿Se cuenta con un programa de gestión de residuos? | T7: X | U7: 0.5 | X7: PARCIAL | Y7: Cuando la implementación no está terminada o tiene un nivel regular o Cuando se carece de los elementos, recursos o cuando no se realizan los procedimientos, entre otros | Z7: 0.5
A8: 4 | B8: ¿La estructura organizacional para la respuesta a emergencias garantiza la respuesta a los eventos que se puedan presentar tanto en los horarios laborales como en los no laborales? | D8: x | F8: 0 | J8: PUNTO A EVALUAR | K8: Respuesta | N8: CALIFICACION | O8: OBSERVACIONES | P8: 4 | Q8: ¿Se cuenta con servicio de comunicaciones internas? | T8: X | U8: 0.5
A9: 5 | B9: ¿Han establecido mecanismos de interacción con su entorno que faciliten dar respuesta apropiada a los eventos que se puedan presentar? (Comités de Ayuda Mutua –CAM, Mapa Comunitario de Riesgos, Sistemas de Alerta Temprana – SAT, etc.) | D9: X | F9: 0 | K9: SI | L9: NO | M9: PARCIAL | Q9: Promedio Servicios | U9: =(+U5+U6+U7+U8)/4 -> 0.5 | V9: BUENO
A10: 6 | B10: ¿Existen instrumentos para hacer inspecciones a las áreas para la identificación de condiciones inseguras que puedan generar emergencias? | E10: X | F10: 0.5 | J10: 2. Edificaciones | Q10: PUNTO A EVALUAR | R10: Respuesta | U10: CALIFICACION | V10: OBSERVACIONES
A11: 7 | B11: ¿Existe y se mantiene actualizado todos los componentes del Plan de Emergencias y Contingencias? | D11: X | F11: 0 | I11: 1 | J11: ¿El tipo de construcción es sismoresistente o cuenta con un refuerzo estructural? | M11: X | N11: 0.5 | R11: SI | S11: NO | T11: PARCIAL
B12: Promedio Gestion Organizacional | F12: =(F5+F6+F7+F8+F9+F10+F11)/7 -> 0.071428571 | G12: REGULAR | I12: 2 | J12: ¿Existen puertas y muros cortafuego, puertas antipánico, entre otras características de seguridad? | L12: X | N12: 0 | Q12: 2. Sistemas Alternos
B13: PUNTO A EVALUAR | C13: Respuesta | F13: CALIFICACION | G13: OBSERVACIONES | I13: 3 | J13: ¿Las escaleras de emergencia se encuentran en buen estado, poseen doble pasamano, señalización, antideslizantes, entre otras características de seguridad? | M13: X | N13: 0.5 | P13: 1 | Q13: ¿Se cuenta con sistemas redundantes para el suministro de agua (tanque de reserva de agua, pozos subterráneos, carrotanque, entre otros? | S13: X | U13: 0
C14: SI | D14: NO | E14: PARCIAL | I14: 4 | J14: ¿Están definidas las rutas de evacuación y salidas de emergencia, debidamente señalizadas y con iluminación alterna? | M14: X | N14: 0.5 | P14: 2 | Q14: ¿Se cuenta con sistemas redundantes para el suministro de energía (plantas eléctricas,acumuladores, paneles solares, entre otros? | S14: X | U14: 0
B15: 2. Capacitacion y Entrenamiento | I15: 5 | J15: ¿Se tienen identificados espacios para la ubicación de instalaciones de emergencias (puntos de encuentro, puestos de mando, módulos de estabilización de heridos, entre otros)? | L15: X | N15: 0 | P15: 3 | Q15: ¿Se cuenta con hidrantes internos y/o externos? | S15: X | U15: 0
A16: 1 | B16: ¿Se cuenta con un programa de capacitación en prevención y respuesta a emergencias? | C16: X | F16: 1 | I16: 6 | J16: ¿Las ventanas cuentan con película de seguridad? | L16: X | N16: 0 | Q16: Promedio Alternos | U16: =(+U13+U14+U15)/3 -> 0 | V16: MALO
A17: 2 | B17: ¿Todos los miembros de la organización se han capacitado de acuerdo al programa de capacitación en prevención y respuesta a emergencias? | D17: X | F17: 0 | I17: 7 | J17: ¿Se tienen asegurados o anclados enseres, gabinetes u objetos que puedan caer? | M17: X | N17: 0.5 | Q17: PUNTO A EVALUAR | R17: Respuesta | U17: CALIFICACION | V17: OBSERVACIONES
A18: 3 | B18: ¿Se cuenta con un programa de entrenamiento en respuesta a emergencias para todos los miembros de la organización? | E18: X | F18: 0.5 | J18: Promedio Edificaciones | N18: =(+N11+N12+N13+N14+N15+N16+N17)/7 -> 0.28571429 | O18: REGULAR | R18: SI | S18: NO | T18: PARCIAL
A19: 4 | B19: ¿Se cuenta con mecanismos de difusión en temas de prevención y respuesta a emergencias? | E19: X | F19: 0.5 | J19: PUNTO A EVALUAR | K19: Respuesta | N19: CALIFICACION | O19: OBSERVACIONES | Q19: 3. Recuperacion
B20: Promedio Capacitación y Entrenamiento | F20: =(+F16+F17+F18+F19)/4 -> 0.5 | G20: BUENO | K20: SI | L20: NO | M20: PARCIAL | P20: 1 | Q20: Se tienen identificados los procesos vitales para el funcionamiento de su organización? | R20: X | U20: 1
B21: PUNTO A EVALUAR | C21: Respuesta | F21: CALIFICACION | G21: OBSERVACIONES | J21: 3. Equipos | P21: 2 | Q21: Se cuenta con un plan de continuidad del negocio? | T21: X | U21: 0.5
C22: SI | D22: NO | E22: PARCIAL | I22: 1 | J22: ¿Se cuenta con sistemas de detección y/o monitoreo de la amenaza identificada? | L22: X | N22: 0.5 | P22: 3 | Q22: ¿Se cuenta con algún sistema de seguros para los integrantes de la organización? | T22: X | U22: 0.5
B23: 3. Caracterisiticas de Seguridad | I23: 2 | J23: ¿Se cuenta con algún sistema de alarma en caso de emergencia? | L23: X | N23: 0 | P23: 4 | Q23: ¿Se tienen aseguradas las edificaciones y los bienes en general para cada amenaza identificada? | S23: X | U23: 0
A24: 1 | B24: ¿Se ha identificado y clasificado el personal fijo y flotante en los diferentes horarios laborales y no laborales (menores de edad, adultos mayores, personas con discapacidad física)? | D24: X | F24: 0 | I24: 3 | J24: ¿Se cuenta con sistemas de control o mitigación de la amenaza identificada? | M24: X | N24: 0.5 | P24: 5 | Q24: ¿Se encuentra asegurada la información digital y análoga de la organización? | S24: X | U24: 0
A25: 2 | B25: ¿Se han contemplado acciones específicas teniendo en cuenta la clasificación de la población en la preparación y respuesta a emergencias? | D25: X | F25: 0 | I25: 4 | J25: ¿Se cuenta con un sistema de comunicaciones internas para la respuesta a emergencias? | M25: X | N25: 0.5 | Q25: Promedio Recuperacion | U25: =(+U20+U21+U22+U23+U24)/5 -> 0.4 | V25: REGULAR
A26: 3 | B26: ¿Se cuenta con elementos de protección suficientes y adecuados para el personal de la organización en sus actividades de rutina? | C26: X | F26: 1 | I26: 5 | J26: ¿Se cuenta con medios de transporte para el apoyo logístico en una emergencia? | L26: X | N26: 0.5 | Q26: SUMA TOTAL PROMEDIOS | U26: =+U25+U16+U9 -> 0.9 | V26: ALTA
A27: 4 | B27: ¿Se cuenta con elementos de protección personal para la respuesta a emergencias, de acuerdo con las amenazas identificadas y las necesidades de su Organización? | D27: X | F27: 0 | I27: 6 | J27: ¿Se cuenta con programa de mantenimiento preventivo y correctivo para los equipos de emergencia? | L27: X | N27: 0
A28: 5 | B28: ¿Se cuenta con un esquema de seguridad física? | D28: X | F28: 0 | J28: Promedio de Equipos | N28: =(+N22+N23+N24+N25+N26+N27)/6 -> 0.33333333 | O28: BUENO
B29: Promedio Características de Seguridad | F29: =(+F24+F25+F26+F27+F28)/5 -> 0.2 | G29: BUENO | J29: SUMA TOTAL PROMEDIOS | N29: =+N28+N18+N7 -> 1.1190476 | O29: MEDIA | X29: RANGO | Y29: INTERPRETACION | Z29: COLOR
B30: SUMA TOTAL PROMEDIOS | F30: =+F29+F20+F12 -> 0.77142857 | G30: ALTA | X30: 0.0 – 1.00 | Y30: ALTA | Z30: ROJO
X31: 1.01 – 2.00 | Y31: MEDIA | Z31: AMARILLO
X32: 2.01 – 3.00 | Y32: BAJA | Z32: VERDE

Sheet AMENAZA ANTROPICA
B1: ANALISIS DE VULNERABILIDAD PERSONAS | J1: ANALISIS DE VULNERABILIDAD RECURSOS | Q1: ANALISIS DE VULNERABILIDAD DE PROCESOS | X1: Interpretación de la calificación para cada respuesta
B2: PUNTO A EVALUAR | C2: Respuesta | F2: CALIFICACIÓN | G2: OBSERVACIONES | J2: PUNTO A EVALUAR | K2: Respuesta | N2: CALIFICACION | O2: OBSERVACIONES | Q2: PUNTO A EVALUAR | R2: Respuesta | U2: CALIFICACION | V2: OBSERVACIONES | X2: CRITERIO DE RESPUESTA | Y2: INTERPRETACION | Z2: CALIFICACION
C3: SI | D3: NO | E3: PARCIAL | K3: SI | L3: NO | M3: PARCIAL | R3: SI | S3: NO | T3: PARCIAL
B4: 1. Gestion Organizacional | J4: 1. Suministro | Q4: 1. Servicios
A5: 1 | B5: ¿Existe una política general en Gestión del Riesgo donde se indican lineamientos de emergencias? | D5: X | F5: 0 | I5: 1 | J5: ¿Se cuenta con implementos básicos para la respuesta de acuerdo con la amenaza identificada? | K5: X | N5: 1 | P5: 1 | Q5: ¿Se cuenta suministro de energía permanente? | T5: X | U5: 0.5 | X5: SI | Y5: Cuando existe o tiene un nivel bueno o Cuando se dispone de los elementos, recursos o cuando se realizan los procedimientos de manera parcial, entre otros. | Z5: 1
A6: 2 | B6: ¿Existe un esquema organizacional para la respuesta a emergencias con funciones y responsables asignados (Brigadas, Sistema Comando de Incidentes – SCI, entre otros) y se mantiene actualizado? | D6: X | F6: 0 | I6: 2 | J6: ¿Se cuenta con implementos básicos para la atención de heridos, tales como: camillas, botiquines, guantes, entre otros, de acuerdo con las necesidades de su Organización? | M6: X | N6: 0.5 | P6: 2 | Q6: ¿Se cuenta suministro de agua permanente? | T6: X | U6: 0.5 | X6: NO | Y6: Cuando no existe o tiene un nivel deficiente | Z6: 0
A7: 3 | B7: ¿Promueve activamente la participación de sus trabajadores en un programa de preparación para emergencias? | D7: X | F7: 0 | J7: Promedio Suministro | N7: =(+N5+N6)/2 -> 0.75 | O7: BUENO | P7: 3 | Q7: ¿Se cuenta con un programa de gestión de residuos? | T7: X | U7: 0.5 | X7: PARCIAL | Y7: Cuando la implementación no está terminada o tiene un nivel regular o Cuando se carece de los elementos, recursos o cuando no se realizan los procedimientos, entre otros | Z7: 0.5
A8: 4 | B8: ¿La estructura organizacional para la respuesta a emergencias garantiza la respuesta a los eventos que se puedan presentar tanto en los horarios laborales como en los no laborales? | D8: x | F8: 0 | J8: PUNTO A EVALUAR | K8: Respuesta | N8: CALIFICACION | O8: OBSERVACIONES | P8: 4 | Q8: ¿Se cuenta con servicio de comunicaciones internas? | T8: X | U8: 0.5
A9: 5 | B9: ¿Han establecido mecanismos de interacción con su entorno que faciliten dar respuesta apropiada a los eventos que se puedan presentar? (Comités de Ayuda Mutua –CAM, Mapa Comunitario de Riesgos, Sistemas de Alerta Temprana – SAT, etc.) | D9: X | F9: 0 | K9: SI | L9: NO | M9: PARCIAL | Q9: Promedio Servicios | U9: =(+U5+U6+U7+U8)/4 -> 0.5 | V9: BUENO
