Workbook

Sheet AMENAZAS
D2: ANALISIS DE VULNERBILIDAD | H2: CODIGO: SGI- SSTQ-FOR-017
D3: VERSION:001 | F3: FECHA:AGOSTO 2022
J4: La calificación de la amenaza se realiza mediante colores teniendo en cuenta la probabilidad de ocurrencia, de la siguiente forma
B5: N. | C5: AMENAZAS | D5: INTERNO | E5: EXTERNO | F5: DESCRIPCION DE LA AMENAZA | G5: CALIFICACIÓN | H5: COLOR
B6: 1 | C6: SISMO, TERREMOTO | E6: X | F6: Movimiento de placas tectónicas, con liberación de energía, Según el área en que se encuentra ubicada la empresa por la cercanía al nido sísmico de la Mesa de los Santos se identifica estaamenaza comoprobable. | G6: PROBABLE | J6: FENOMENO | K6: COMPORTAMIENTO | L6: COLOR ASIGNADO
B7: 2 | C7: INUNDACIÓN | D7: X | E7: X | F7: Lluvias fuertes. Deficiencia en la infraestructura hidráulica, fuga de agua al interior de las instalaciones | G7: POSIBLE | J7: POSIBLE | K7: Es aquel fenómeno que nunca ha sucedido, puede suceder o es factible porque no existen razones históricas y científicas para decir que esto no sucederá, es decir que no se descarta su ocurrencia.
B8: 3 | C8: HURTO | F8: Situación socioeconómica del país, pretensión de grupos delincuenciales sobre el recurso económico de la empresa. | G8: PROBABLE | J8: PROBABLE | K8: Es aquel fenómeno que ya ha ocurrido en el lugar o en unas condiciones similares, es decir que existen razones y argumentos técnicos científicos para creer que sucederá
B9: 4 | C9: INCENDIIO | D9: X | F9: Corto circuito riesgo eléctrico uso de gasodomesticos | G9: PROBABLE | J9: INMINENTE | K9: Es aquel fenómeno esperado que tiene alta probabilidad de ocurriro con información que lo hace evidente o detectable.
B10: 5 | C10: FUGA DE GAS | D10: X | F10: Fallas en las válvulas Sobrepresión Perforación de tubería de gas subterránea. | G10: POSIBLE | J10: POSIBLE: NUNCA HA SUCEDIDO Color Verde. PROBABLE: YA HA OCURRIDO Color Amarillo. INMINENTE: EVIDENTE, DETECTABLE Color Rojo
B11: 6 | C11: ATENTADOS TERRORISTAS ASONADAS | E11: X | F11: Intención de la delincuencia común en contra de las instalaciones de centroo de personalidades que ingresan o transitan por esta vía y/o | G11: PROBABLE
B12: 7 | C12: EXPLOSIÓN | D12: X | F12: Manejo inadecuado de una fuga Sobrepresión Incendio | G12: POSIBLE
B13: 8 | C13: ACCIDENTES | D13: X | E13: X | F13: Atropellamientos Caídas -Golpes -Cortaduras Derrumbes TRANSITO | G13: PROBABLE
B14: 9 | C14: AMENAZA ANTROPICA DESCOMPOSICION DE ALIMENTOS | D14: X | F14: Se almacenan cantidades bajas de comida pudiendo presentarse por mal manejo de almacenamiento o de residuos descomposición y emergencia sanitaria | G14: POSIBLE

Sheet SISMO-TERREM 
B1: ANALISIS DE VULNERABILIDAD PERSONAS | J1: ANALISIS DE VULNERABILIDAD RECURSOS | Q1: ANALISIS DE VULNERABILIDAD DE PROCESOS | X1: Interpretación de la calificación para cada respuesta
B2: PUNTO A EVALUAR | C2: Respuesta | F2: CALIFICACIÓN | G2: OBSERVACIONES | J2: PUNTO A EVALUAR | K2: Respuesta | N2: CALIFICACION | O2: OBSERVACIONES | Q2: PUNTO A EVALUAR | R2: Respuesta | U2: CALIFICACION | V2: OBSERVACIONES | X2: CRITERIO DE RESPUESTA | Y2: INTERPRETACION | Z2: CALIFICACION
C3: SI | D3: NO | E3: PARCIAL | K3: SI | L3: NO | M3: PARCIAL | R3: SI | S3: NO | T3: PARCIAL
B4: 1. Gestion Organizacional | J4: 1. Suministro | Q4: 1. Servicios
A5: 1 | B5: ¿Existe una política general en Gestión del Riesgo donde se indican lineamientos de emergencias? | D5: X | F5: 0 | I5: 1 | J5: ¿Se cuenta con implementos básicos para la respuesta de acuerdo con la amenaza identificada? | M5: X | N5: 0.5 | P5: 1 | Q5: ¿Se cuenta suministro de energía permanente? | R5: X | U5: 1 | X5: SI | Y5: Cuando existe o tiene un nivel bueno o Cuando se dispone de los elementos, recursos o cuando se realizan los procedimientos de manera parcial, entre otros. | Z5: 1
A6: 2 | B6: ¿Existe un esquema organizacional para la respuesta a emergencias con funciones y responsables asignados (Brigadas, Sistema Comando de Incidentes – SCI, entre otros) y se mantiene actualizado? | D6: X | F6: 0 | I6: 2 | J6: ¿Se cuenta con implementos básicos para la atención de heridos, tales como: camillas, botiquines, guantes, entre otros, de acuerdo con las necesidades de su Organización? | M6: X | N6: 0.5 | P6: 2 | Q6: ¿Se cuenta suministro de agua permanente? | T6: X | U6: 0.5 | X6: NO | Y6: Cuando no existe o tiene un nivel deficiente | Z6: 0
A7: 3 | B7: ¿Promueve activamente la participación de sus trabajadores en un programa de preparación para emergencias? | D7: X | F7: 0 | J7: Promedio Suministro | N7: =(+N5+N6)/2 -> 0.5 | O7: BUENO | P7: 3 | Q7: ¿Se cuenta con un programa de gestión de residuos? | T7: X | U7: 0.5 | X7: PARCIAL | Y7: Cuando la implementación no está terminada o tiene un nivel regular o Cuando se carece de los elementos, recursos o cuando no se realizan los procedimientos, entre otros | Z7: 0.5
A8: 4 | B8: ¿La estructura organizacional para la respuesta a emergencias garantiza la respuesta a los eventos que se puedan presentar tanto en los horarios laborales como en los no laborales? | D8: x | F8: 0 | J8: PUNTO A EVALUAR | K8: Respuesta | N8: CALIFICACION | O8: OBSERVACIONES | P8: 4 | Q8: ¿Se cuenta con servicio de comunicaciones internas? | T8: X | U8: 0.5
A9: 5 | B9: ¿Han establecido mecanismos de interacción con su entorno que faciliten dar respuesta apropiada a los eventos que se puedan presentar? (Comités de Ayuda Mutua –CAM, Mapa Comunitario de Riesgos, Sistemas de Alerta Temprana – SAT, etc.) | D9: X | F9: 0 | K9: SI | L9: NO | M9: PARCIAL | Q9: Promedio Servicios | U9: =(+U5+U6+U7+U8)/4 -> 0.625 | V9: BUENO
A10: 6 | B10: ¿Existen instrumentos para hacer inspecciones a las áreas para la identificación de condiciones inseguras que puedan generar emergencias? | E10: X | F10: 0.5 | J10: 2. Edificaciones | Q10: PUNTO A EVALUAR | R10: Respuesta | U10: CALIFICACION | V10: OBSERVACIONES
A11: 7 | B11: ¿Existe y se mantiene actualizado todos los componentes del Plan de Emergencias y Contingencias? | D11: X | F11: 0 | I11: 1 | J11: ¿El tipo de construcción es sismoresistente o cuenta con un refuerzo estructural? | L11: X | N11: 0 | R11: SI | S11: NO | T11: PARCIAL
B12: Promedio Gestion Organizacional | F12: =(F5+F6+F7+F8+F9+F10+F11)/7 -> 0.071428571 | G12: REGULAR | I12: 2 | J12: ¿Existen puertas y muros cortafuego, puertas antipánico, entre otras características de seguridad? | L12: X | N12: 0 | Q12: 2. Sistemas Alternos
B13: PUNTO A EVALUAR | C13: Respuesta | F13: CALIFICACION | G13: OBSERVACIONES | I13: 3 | J13: ¿Las escaleras de emergencia se encuentran en buen estado, poseen doble pasamano, señalización, antideslizantes, entre otras características de seguridad? | M13: X | N13: 0.5 | P13: 1 | Q13: ¿Se cuenta con sistemas redundantes para el suministro de agua (tanque de reserva de agua, pozos subterráneos, carrotanque, entre otros? | S13: X | U13: 0
C14: SI | D14: NO | E14: PARCIAL | I14: 4 | J14: ¿Están definidas las rutas de evacuación y salidas de emergencia, debidamente señalizadas y con iluminación alterna? | M14: X | N14: 0.5 | P14: 2 | Q14: ¿Se cuenta con sistemas redundantes para el suministro de energía (plantas eléctricas,acumuladores, paneles solares, entre otros? | S14: X | U14: 0
B15: 2. Capacitacion y Entrenamiento | I15: 5 | J15: ¿Se tienen identificados espacios para la ubicación de instalaciones de emergencias (puntos de encuentro, puestos de mando, módulos de estabilización de heridos, entre otros)? | L15: X | N15: 0 | P15: 3 | Q15: ¿Se cuenta con hidrantes internos y/o externos? | S15: X | U15: 0
A16: 1 | B16: ¿Se cuenta con un programa de capacitación en prevención y respuesta a emergencias? | C16: X | F16: 1 | I16: 6 | J16: ¿Las ventanas cuentan con película de seguridad? | L16: X | N16: 0 | Q16: Promedio Alternos | U16: =(+U13+U14+U15)/3 -> 0 | V16: MALO
A17: 2 | B17: ¿Todos los miembros de la organización se han capacitado de acuerdo al programa de capacitación en prevención y respuesta a emergencias? | D17: X | F17: 0 | I17: 7 | J17: ¿Se tienen asegurados o anclados enseres, gabinetes u objetos que puedan caer? | M17: X | N17: 0.5 | Q17: PUNTO A EVALUAR | R17: Respuesta | U17: CALIFICACION | V17: OBSERVACIONES
A18: 3 | B18: ¿Se cuenta con un programa de entrenamiento en respuesta a emergencias para todos los miembros de la organización? | E18: X | F18: 0.5 | J18: Promedio Edificaciones | N18: =(+N11+N12+N13+N14+N15+N16+N17)/7 -> 0.21428571 | O18: REGULAR | R18: SI | S18: NO | T18: PARCIAL
A19: 4 | B19: ¿Se cuenta con mecanismos de difusión en temas de prevención y respuesta a emergencias? | E19: X | F19: 0.5 | J19: PUNTO A EVALUAR | K19: Respuesta | N19: CALIFICACION | O19: OBSERVACIONES | Q19: 3. Recuperacion
B20: Promedio Capacitación y Entrenamiento | F20: =(+F16+F17+F18+F19)/4 -> 0.5 | G20: BUENO | K20: SI | L20: NO | M20: PARCIAL | P20: 1 | Q20: Se tienen identificados los procesos vitales para el funcionamiento de su organización? | R20: X | U20: 1
B21: PUNTO A EVALUAR | C21: Respuesta | F21: CALIFICACION | G21: OBSERVACIONES | J21: 3. Equipos | P21: 2 | Q21: Se cuenta con un plan de continuidad del negocio? | T21: X | U21: 0.5
C22: SI | D22: NO | E22: PARCIAL | I22: 1 | J22: ¿Se cuenta con sistemas de detección y/o monitoreo de la amenaza identificada? | L22: X | N22: 0 | P22: 3 | Q22: ¿Se cuenta con algún sistema de seguros para los integrantes de la organización? | T22: X | U22: 0.5
B23: 3. Caracterisiticas de Seguridad | I23: 2 | J23: ¿Se cuenta con algún sistema de alarma en caso de emergencia? | L23: X | N23: 0 | P23: 4 | Q23: ¿Se tienen aseguradas las edificaciones y los bienes en general para cada amenaza identificada? | S23: X | U23: 0
A24: 1 | B24: ¿Se ha identificado y clasificado el personal fijo y flotante en los diferentes horarios laborales y no laborales (menores de edad, adultos mayores, personas con discapacidad física)? | D24: X | F24: 0 | I24: 3 | J24: ¿Se cuenta con sistemas de control o mitigación de la amenaza identificada? | M24: X | N24: 0.5 | P24: 5 | Q24: ¿Se encuentra asegurada la información digital y análoga de la organización? | S24: X | U24: 0
A25: 2 | B25: ¿Se han contemplado acciones específicas teniendo en cuenta la clasificación de la población en la preparación y respuesta a emergencias? | D25: X | F25: 0 | I25: 4 | J25: ¿Se cuenta con un sistema de comunicaciones internas para la respuesta a emergencias? | M25: X | N25: 0.5 | Q25: Promedio Recuperacion | U25: =(+U20+U21+U22+U23+U24)/5 -> 0.4 | V25: REGULAR
A26: 3 | B26: ¿Se cuenta con elementos de protección suficientes y adecuados para el personal de la organización en sus actividades de rutina? | C26: X | F26: 1 | I26: 5 | J26: ¿Se cuenta con medios de transporte para el apoyo logístico en una emergencia? | L26: X | N26: 0 | Q26: SUMA TOTAL PROMEDIOS | U26: =+U25+U16+U9 -> 1.025 | V26: MEDIA
A27: 4 | B27: ¿Se cuenta con elementos de protección personal para la respuesta a emergencias, de acuerdo con las amenazas identificadas y las necesidades de su Organización? | E27: X | F27: 0.5 | I27: 6 | J27: ¿Se cuenta con programa de mantenimiento preventivo y correctivo para los equipos de emergencia? | L27: X | N27: 0
A28: 5 | B28: ¿Se cuenta con un esquema de seguridad física? | D28: X | F28: 0 | J28: Promedio de Equipos | N28: =(+N22+N23+N24+N25+N26+N27)/6 -> 0.16666667 | O28: BUENO
B29: Promedio Características de Seguridad | F29: =(+F24+F25+F26+F27+F28)/5 -> 0.3 | G29: BUENO | J29: SUMA TOTAL PROMEDIOS | N29: =+N28+N18+N7 -> 0.88095238 | O29: ALTA | X29: RANGO | Y29: INTERPRETACION | Z29: COLOR
B30: SUMA TOTAL PROMEDIOS | F30: =+F29+F20+F12 -> 0.87142857 | G30: ALTA | X30: 0.0 – 1.00 | Y30: ALTA | Z30: ROJO
X31: 1.01 – 2.00 | Y31: MEDIA | Z31: AMARILLO
X32: 2.01 – 3.00 | Y32: BAJA | Z32: VERDE

Sheet  INUNDACION
B1: ANALISIS DE VULNERABILIDAD PERSONAS | J1: ANALISIS DE VULNERABILIDAD RECURSOS | Q1: ANALISIS DE VULNERABILIDAD DE PROCESOS | X1: Interpretación de la calificación para cada respuesta
B2: PUNTO A EVALUAR | C2: Respuesta | F2: CALIFICACIÓN | G2: OBSERVACIONES | J2: PUNTO A EVALUAR | K2: Respuesta | N2: CALIFICACION | O2: OBSERVACIONES | Q2: PUNTO A EVALUAR | R2: Respuesta | U2: CALIFICACION | V2: OBSERVACIONES | X2: CRITERIO DE RESPUESTA | Y2: INTERPRETACION | Z2: CALIFICACION
C3: SI | D3: NO | E3: PARCIAL | K3: SI | L3: NO | M3: PARCIAL | R3: SI | S3: NO | T3: PARCIAL
B4: 1. Gestion Organizacional | J4: 1. Suministro | Q4: 1. Servicios
A5: 1 | B5: ¿Existe una política general en Gestión del Riesgo donde se indican lineamientos de emergencias? | D5: X | F5: 0 | I5: 1 | J5: ¿Se cuenta con implementos básicos para la respuesta de acuerdo con la amenaza identificada? | M5: X | N5: 0.5 | P5: 1 | Q5: ¿Se cuenta suministro de energía permanente? | R5: X | U5: 1 | X5: SI | Y5: Cuando existe o tiene un nivel bueno o Cuando se dispone de los elementos, recursos o cuando se realizan los procedimientos de manera parcial, entre otros. | Z5: 1
A6: 2 | B6: ¿Existe un esquema organizacional para la respuesta a emergencias con funciones y responsables asignados (Brigadas, Sistema Comando de Incidentes – SCI, entre otros) y se mantiene actualizado? | D6: X | F6: 0 | I6: 2 | J6: ¿Se cuenta con implementos básicos para la atención de heridos, tales como: camillas, botiquines, guantes, entre otros, de acuerdo con las necesidades de su Organización? | M6: X | N6: 0.5 | P6: 2 | Q6: ¿Se cuenta suministro de agua permanente? | T6: X | U6: 0.5 | X6: NO | Y6: Cuando no existe o tiene un nivel deficiente | Z6: 0
A7: 3 | B7: ¿Promueve activamente la participación de sus trabajadores en un programa de preparación para emergencias? | D7: X | F7: 0 | J7: Promedio Suministro | N7: =(+N5+N6)/2 -> 0.5 | O7: BUENO | P7: 3 | Q7: ¿Se cuenta con un programa de gestión de residuos? | T7: X | U7: 0.5 | X7: PARCIAL | Y7: Cuando la implementación no está terminada o tiene un nivel regular o Cuando se carece de los elementos, recursos o cuando no se realizan los procedimientos, entre otros | Z7: 0.5
A8: 4 | B8: ¿La estructura organizacional para la respuesta a emergencias garantiza la respuesta a los eventos que se puedan presentar tanto en los horarios laborales como en los no laborales? | D8: x | F8: 0 | J8: PUNTO A EVALUAR | K8: Respuesta | N8: CALIFICACION | O8: OBSERVACIONES | P8: 4 | Q8: ¿Se cuenta con servicio de comunicaciones internas? | T8: X | U8: 0.5
A9: 5 | B9: ¿Han establecido mecanismos de interacción con su entorno que faciliten dar respuesta apropiada a los eventos que se puedan presentar? (Comités de Ayuda Mutua –CAM, Mapa Comunitario de Riesgos, Sistemas de Alerta Temprana – SAT, etc.) | D9: X | F9: 0 | K9: SI | L9: NO | M9: PARCIAL | Q9: Promedio Servicios | U9: =(+U5+U6+U7+U8)/4 -> 0.625 | V9: BUENO
A10: 6 | B10: ¿Existen instrumentos para hacer inspecciones a las áreas para la identificación de condiciones inseguras que puedan generar emergencias? | E10: X | F10: 0.5 | J10: 2. Edificaciones | Q10: PUNTO A EVALUAR | R10: Respuesta | U10: CALIFICACION | V10: OBSERVACIONES
A11: 7 | B11: ¿Existe y se mantiene actualizado todos los componentes del Plan de Emergencias y Contingencias? | D11: X | F11: 0 | I11: 1 | J11: ¿El tipo de construcción es sismoresistente o cuenta con un refuerzo estructural? | M11: X | N11: 0.5 | R11: SI | S11: NO | T11: PARCIAL
B12: Promedio Gestion Organizacional | F12: =(F5+F6+F7+F8+F9+F10+F11)/7 -> 0.071428571 | G12: REGULAR | I12: 2 | J12: ¿Existen puertas y muros cortafuego, puertas antipánico, entre otras características de seguridad? | L12: X | N12: 0 | Q12: 2. Sistemas Alternos
B13: PUNTO A EVALUAR | C13: Respuesta | F13: CALIFICACION | G13: OBSERVACIONES | I13: 3 | J13: ¿Las escaleras de emergencia se encuentran en buen estado, poseen doble pasamano, señalización, antideslizantes, entre otras características de seguridad? | M13: X | N13: 0.5 | P13: 1 | Q13: ¿Se cuenta con sistemas redundantes para el suministro de agua (tanque de reserva de agua, pozos subterráneos, carrotanque, entre otros? | S13: X | U13: 0
C14: SI | D14: NO | E14: PARCIAL | I14: 4 | J14: ¿Están definidas las rutas de evacuación y salidas de emergencia, debidamente señalizadas y con iluminación alterna? | M14: X | N14: 0.5 | P14: 2 | Q14: ¿Se cuenta con sistemas redundantes para el suministro de energía (plantas eléctricas,acumuladores, paneles solares, entre otros? | S14: X | U14: 0
B15: 2. Capacitacion y Entrenamiento | I15: 5 | J15: ¿Se tienen identificados espacios para la ubicación de instalaciones de emergencias (puntos de encuentro, puestos de mando, módulos de estabilización de heridos, entre otros)? | L15: X | N15: 0 | P15: 3 | Q15: ¿Se cuenta con hidrantes internos y/o externos? | S15: X | U15: 0
A16: 1 | B16: ¿Se cuenta con un programa de capacitación en prevención y respuesta a emergencias? | C16: X | F16: 1 | I16: 6 | J16: ¿Las ventanas cuentan con película de seguridad? | L16: X | N16: 0 | Q16: Promedio Alternos | U16: =(+U13+U14+U15)/3 -> 0 | V16: MALO
A17: 2 | B17: ¿Todos los miembros de la organización se han capacitado de acuerdo al programa de capacitación en prevención y respuesta a emergencias? | D17: X | F17: 0 | I17: 7 | J17: ¿Se tienen asegurados o anclados enseres, gabinetes u objetos que puedan caer? | M17: X | N17: 0.5 | Q17: PUNTO A EVALUAR | R17: Respuesta | U17: CALIFICACION | V17: OBSERVACIONES
A18: 3 | B18: ¿Se cuenta con un programa de entrenamiento en respuesta a emergencias para todos los miembros de la organización? | E18: X | F18: 0.5 | J18: Promedio Edificaciones | N18: =(+N11+N12+N13+N14+N15+N16+N17)/7 -> 0.28571429 | O18: REGULAR | R18: SI | S18: NO | T18: PARCIAL
A19: 4 | B19: ¿Se cuenta con mecanismos de difusión en temas de prevención y respuesta a emergencias? | E19: X | F19: 0.5 | J19: PUNTO A EVALUAR | K19: Respuesta | N19: CALIFICACION | O19: OBSERVACIONES | Q19: 3. Recuperacion
B20: Promedio Capacitación y Entrenamiento | F20: =(+F16+F17+F18+F19)/4 -> 0.5 | G20: BUENO | K20: SI | L20: NO | M20: PARCIAL | P20: 1 | Q20: Se tienen identificados los procesos vitales para el funcionamiento de su organización? | R20: X | U20: 1
B21: PUNTO A EVALUAR | C21: Respuesta | F21: CALIFICACION | G21: OBSERVACIONES | J21: 3. Equipos | P21: 2 | Q21: Se cuenta con un plan de continuidad del negocio? | T21: X | U21: 0.5
C22: SI | D22: NO | E22: PARCIAL | I22: 1 | J22: ¿Se cuenta con sistemas de detección y/o monitoreo de la amenaza identificada? | M22: X | N22: 0.5 | P22: 3 | Q22: ¿Se cuenta con algún sistema de seguros para los integrantes de la organización? | T22: X | U22: 0.5
B23: 3. Caracterisiticas de Seguridad | I23: 2 | J23: ¿Se cuenta con algún sistema de alarma en caso de emergencia? | K23: X | N23: 1 | P23: 4 | Q23: ¿Se tienen aseguradas las edificaciones y los bienes en general para cada amenaza identificada? | S23: X | U23: 0
A24: 1 | B24: ¿Se ha identificado y clasificado el personal fijo y flotante en los diferentes horarios laborales y no laborales (menores de edad, adultos mayores, personas con discapacidad física)? | D24: X | F24: 0 | I24: 3 | J24: ¿Se cuenta con sistemas de control o mitigación de la amenaza identificada? | M24: X | N24: 0.5 | P24: 5 | Q24: ¿Se encuentra asegurada la información digital y análoga de la organización? | S24: X | U24: 0
A25: 2 | B25: ¿Se han contemplado acciones específicas teniendo en cuenta la clasificación de la población en la preparación y respuesta a emergencias? | D25: X | F25: 0 | I25: 4 | J25: ¿Se cuenta con un sistema de comunicaciones internas para la respuesta a emergencias? | K25: X | N25: 1 | Q25: Promedio Recuperacion | U25: =(+U20+U21+U22+U23+U24)/5 -> 0.4 | V25: REGULAR
A26: 3 | B26: ¿Se cuenta con elementos de protección suficientes y adecuados para el personal de la organización en sus actividades de rutina? | C26: X | F26: 1 | I26: 5 | J26: ¿Se cuenta con medios de transporte para el apoyo logístico en una emergencia? | L26: X | N26: 0 | Q26: SUMA TOTAL PROMEDIOS | U26: =+U25+U16+U9 -> 1.025 | V26: MEDIA
A27: 4 | B27: ¿Se cuenta con elementos de protección personal para la respuesta a emergencias, de acuerdo con las amenazas identificadas y las necesidades de su Organización? | C27: X | F27: 1 | I27: 6 | J27: ¿Se cuenta con programa de mantenimiento preventivo y correctivo para los equipos de emergencia? | L27: X | N27: 0
A28: 5 | B28: ¿Se cuenta con un esquema de seguridad física? | D28: X | F28: 0 | J28: Promedio de Equipos | N28: =(+N22+N23+N24+N25+N26+N27)/6 -> 0.5 | O28: BUENO
B29: Promedio Características de Seguridad | F29: =(+F24+F25+F26+F27+F28)/5 -> 0.4 | G29: BUENO | J29: SUMA TOTAL PROMEDIOS | N29: =+N28+N18+N7 -> 1.2857143 | O29: MEDIA | X29: RANGO | Y29: INTERPRETACION | Z29: COLOR
B30: SUMA TOTAL PROMEDIOS | F30: =+F29+F20+F12 -> 0.97142857 | G30: ALTA | X30: 0.0 – 1.00 | Y30: ALTA | Z30: ROJO
X31: 1.01 – 2.00 | Y31: MEDIA | Z31: AMARILLO
X32: 2.01 – 3.00 | Y32: BAJA | Z32: VERDE

Sheet  HURTO
B1: ANALISIS DE VULNERABILIDAD PERSONAS | J1: ANALISIS DE VULNERABILIDAD RECURSOS | Q1: ANALISIS DE VULNERABILIDAD DE PROCESOS | X1: Interpretación de la calificación para cada respuesta
B2: PUNTO A EVALUAR | C2: Respuesta | F2: CALIFICACIÓN | G2: OBSERVACIONES | J2: PUNTO A EVALUAR | K2: Respuesta | N2: CALIFICACION | O2: OBSERVACIONES | Q2: PUNTO A EVALUAR | R2: Respuesta | U2: CALIFICACION | V2: OBSERVACIONES | X2: CRITERIO DE RESPUESTA | Y2: INTERPRETACION | Z2: CALIFICACION
C3: SI | D3: NO | E3: PARCIAL | K3: SI | L3: NO | M3: PARCIAL | R3: SI | S3: NO | T3: PARCIAL
B4: 1. Gestion Organizacional | J4: 1. Suministro | Q4: 1. Servicios
A5: 1 | B5: ¿Existe una política general en Gestión del Riesgo donde se indican lineamientos de emergencias? | D5: X | F5: 0 | I5: 1 | J5: ¿Se cuenta con implementos básicos para la respuesta de acuerdo con la amenaza identificada? | M5: X | N5: 0.5 | P5: 1 | Q5: ¿Se cuenta suministro de energía permanente? | T5: X | U5: 0.5 | X5: SI | Y5: Cuando existe o tiene un nivel bueno o Cuando se dispone de los elementos, recursos o cuando se realizan los procedimientos de manera parcial, entre otros. | Z5: 1
A6: 2 | B6: ¿Existe un esquema organizacional para la respuesta a emergencias con funciones y responsables asignados (Brigadas, Sistema Comando de Incidentes – SCI, entre otros) y se mantiene actualizado? | D6: X | F6: 0 | I6: 2 | J6: ¿Se cuenta con implementos básicos para la atención de heridos, tales como: camillas, botiquines, guantes, entre otros, de acuerdo con las necesidades de su Organización? | M6: X | N6: 0.5 | P6: 2 | Q6: ¿Se cuenta suministro de agua permanente? | T6: X | U6: 0.5 | X6: NO | Y6: Cuando no existe o tiene un nivel deficiente | Z6: 0
A7: 3 | B7: ¿Promueve activamente la participación de sus trabajadores en un programa de preparación para emergencias? | D7: X | F7: 0 | J7: Promedio Suministro | N7: =(+N5+N6)/2 -> 0.5 | O7: BUENO | P7: 3 | Q7: ¿Se cuenta con un programa de gestión de residuos? | T7: X | U7: 0.5 | X7: PARCIAL | Y7: Cuando la implementación no está terminada o tiene un nivel regular o Cuando se carece de los elementos, recursos o cuando no se realizan los procedimientos, entre otros | Z7: 0.5
A8: 4 | B8: ¿La estructura organizacional para la respuesta a emergencias garantiza la respuesta a los eventos que se puedan presentar tanto en los horarios laborales como en los no laborales? | D8: x | F8: 0 | J8: PUNTO A EVALUAR | K8: Respuesta | N8: CALIFICACION | O8: OBSERVACIONES | P8: 4 | Q8: ¿Se cuenta con servicio de comunicaciones internas? | T8: X | U8: 0.5
A9: 5 | B9: ¿Han establecido mecanismos de interacción con su entorno que faciliten dar respuesta apropiada a los eventos que se puedan presentar? (Comités de Ayuda Mutua –CAM, Mapa Comunitario de Riesgos, Sistemas de Alerta Temprana – SAT, etc.) | D9: X | F9: 0 | K9: SI | L9: NO | M9: PARCIAL | Q9: Promedio Servicios | U9: =(+U5+U6+U7+U8)/4 -> 0.5 | V9: BUENO
A10: 6 | B10: ¿Existen instrumentos para hacer inspecciones a las áreas para la identificación de condiciones inseguras que puedan generar emergencias? | E10: X | F10: 0.5 | J10: 2. Edificaciones | Q10: PUNTO A EVALUAR | R10: Respuesta | U10: CALIFICACION | V10: OBSERVACIONES
A11: 7 | B11: ¿Existe y se mantiene actualizado todos los componentes del Plan de Emergencias y Contingencias? | D11: X | F11: 0 | I11: 1 | J11: ¿El tipo de construcción es sismoresistente o cuenta con un refuerzo estructural? | M11: X | N11: 0.5 | R11: SI | S11: NO | T11: PARCIAL
B12: Promedio Gestion Organizacional | F12: =(F5+F6+F7+F8+F9+F10+F11)/7 -> 0.071428571 | G12: REGULAR | I12: 2 | J12: ¿Existen puertas y muros cortafuego, puertas antipánico, entre otras características de seguridad? | L12: X | N12: 0 | Q12: 2. Sistemas Alternos
B13: PUNTO A EVALUAR | C13: Respuesta | F13: CALIFICACION | G13: OBSERVACIONES | I13: 3 | J13: ¿Las escaleras de emergencia se encuentran en buen estado, poseen doble pasamano, señalización, antideslizantes, entre otras características de seguridad? | M13: X | N13: 0.5 | P13: 1 | Q13: ¿Se cuenta con sistemas redundantes para el suministro de agua (tanque de reserva de agua, pozos subterráneos, carrotanque, entre otros? | S13: X | U13: 0
C14: SI | D14: NO | E14: PARCIAL | I14: 4 | J14: ¿Están definidas las rutas de evacuación y salidas de emergencia, debidamente señalizadas y con iluminación alterna? | M14: X | N14: 0.5 | P14: 2 | Q14: ¿Se cuenta con sistemas redundantes para el suministro de energía (plantas eléctricas,acumuladores, paneles solares, entre otros? | S14: X | U14: 0
B15: 2. Capacitacion y Entrenamiento | I15: 5 | J15: ¿Se tienen identificados espacios para la ubicación de instalaciones de emergencias (puntos de encuentro, puestos de mando, módulos de estabilización de heridos, entre otros)? | L15: X | N15: 0 | P15: 3 | Q15: ¿Se cuenta con hidrantes internos y/o externos? | S15: X | U15: 0
A16: 1 | B16: ¿Se cuenta con un programa de capacitación en prevención y respuesta a emergencias? | C16: X | F16: 1 | I16: 6 | J16: ¿Las ventanas cuentan con película de seguridad? | L16: X | N16: 0 | Q16: Promedio Alternos | U16: =(+U13+U14+U15)/3 -> 0 | V16: MALO
A17: 2 | B17: ¿Todos los miembros de la organización se han capacitado de acuerdo al programa de capacitación en prevención y respuesta a emergencias? | D17: X | F17: 0 | I17: 7 | J17: ¿Se tienen asegurados o anclados enseres, gabinetes u objetos que puedan caer? | M17: X | N17: 0.5 | Q17: PUNTO A EVALUAR | R17: Respuesta | U17: CALIFICACION | V17: OBSERVACIONES
A18: 3 | B18: ¿Se cuenta con un programa de entrenamiento en respuesta a emergencias para todos los miembros de la organización? | E18: X | F18: 0.5 | J18: Promedio Edificaciones | N18: =(+N11+N12+N13+N14+N15+N16+N17)/7 -> 0.28571429 | O18: REGULAR | R18: SI | S18: NO | T18: PARCIAL
A19: 4 | B19: ¿Se cuenta con mecanismos de difusión en temas de prevención y respuesta a emergencias? | E19: X | F19: 0.5 | J19: PUNTO A EVALUAR | K19: Respuesta | N19: CALIFICACION | O19: OBSERVACIONES | Q19: 3. Recuperacion
B20: Promedio Capacitación y Entrenamiento | F20: =(+F16+F17+F18+F19)/4 -> 0.5 | G20: BUENO | K20: SI | L20: NO | M20: PARCIAL | P20: 1 | Q20: Se tienen identificados los procesos vitales para el funcionamiento de su organización? | R20: X | U20: 1
B21: PUNTO A EVALUAR | C21: Respuesta | F21: CALIFICACION | G21: OBSERVACIONES | J21: 3. Equipos | P21: 2 | Q21: Se cuenta con un plan de continuidad del negocio? | T21: X | U21: 0.5
C22: SI | D22: NO | E22: PARCIAL | I22: 1 | J22: ¿Se cuenta con sistemas de detección y/o monitoreo de la amenaza identificada? | L22: X | N22: 0.5 | P22: 3 | Q22: ¿Se cuenta con algún sistema de seguros para los integrantes de la organización? | T22: X | U22: 0.5
B23: 3. Caracterisiticas de Seguridad | I23: 2 | J23: ¿Se cuenta con algún sistema de alarma en caso de emergencia? | L23: X | N23: 0 | P23: 4 | Q23: ¿Se tienen aseguradas las edificaciones y los bienes en general para cada amenaza identificada? | S23: X | U23: 0
A24: 1 | B24: ¿Se ha identificado y clasificado el personal fijo y flotante en los diferentes horarios laborales y no laborales (menores de edad, adultos mayores, personas con discapacidad física)? | D24: X | F24: 0 | I24: 3 | J24: ¿Se cuenta con sistemas de control o mitigación de la amenaza identificada? | M24: X | N24: 0.5 | P24: 5 | Q24: ¿Se encuentra asegurada la información digital y análoga de la organización? | S24: X | U24: 0
A25: 2 | B25: ¿Se han contemplado acciones específicas teniendo en cuenta la clasificación de la población en la preparación y respuesta a emergencias? | D25: X | F25: 0 | I25: 4 | J25: ¿Se cuenta con un sistema de comunicaciones internas para la respuesta a emergencias? | M25: X | N25: 0.5 | Q25: Promedio Recuperacion | U25: =(+U20+U21+U22+U23+U24)/5 -> 0.4 | V25: REGULAR
A26: 3 | B26: ¿Se cuenta con elementos de protección suficientes y adecuados para el personal de la organización en sus actividades de rutina? | C26: X | F26: 1 | I26: 5 | J26: ¿Se cuenta con medios de transporte para el apoyo logístico en una emergencia? | L26: X | N26: 0.5 | Q26: SUMA TOTAL PROMEDIOS | U26: =+U25+U16+U9 -> 0.9 | V26: ALTA
A27: 4 | B27: ¿Se cuenta con elementos de protección personal para la respuesta a emergencias, de acuerdo con las amenazas identificadas y las necesidades de su Organización? | D27: X | F27: 0 | I27: 6 | J27: ¿Se cuenta con programa de mantenimiento preventivo y correctivo para los equipos de emergencia? | L27: X | N27: 0
A28: 5 | B28: ¿Se cuenta con un esquema de seguridad física? | D28: X | F28: 0 | J28: Promedio de Equipos | N28: =(+N22+N23+N24+N25+N26+N27)/6 -> 0.33333333 | O28: BUENO
B29: Promedio Características de Seguridad | F29: =(+F24+F25+F26+F27+F28)/5 -> 0.2 | G29: BUENO | J29: SUMA TOTAL PROMEDIOS | N29: =+N28+N18+N7 -> 1.1190476 | O29: MEDIA | X29: RANGO | Y29: INTERPRETACION | Z29: COLOR
B30: SUMA TOTAL PROMEDIOS | F30: =+F29+F20+F12 -> 0.77142857 | G30: ALTA | X30: 0.0 – 1.00 | Y30: ALTA | Z30: ROJO
X31: 1.01 – 2.00 | Y31: MEDIA | Z31: AMARILLO
X32: 2.01 – 3.00 | Y32: BAJA | Z32: VERDE

Sheet  INCENDIO
B1: ANALISIS DE VULNERABILIDAD PERSONAS | J1: ANALISIS DE VULNERABILIDAD RECURSOS | Q1: ANALISIS DE VULNERABILIDAD DE PROCESOS | X1: Interpretación de la calificación para cada respuesta
B2: PUNTO A EVALUAR | C2: Respuesta | F2: CALIFICACIÓN | G2: OBSERVACIONES | J2: PUNTO A EVALUAR | K2: Respuesta | N2: CALIFICACION | O2: OBSERVACIONES | Q2: PUNTO A EVALUAR | R2: Respuesta | U2: CALIFICACION | V2: OBSERVACIONES | X2: CRITERIO DE RESPUESTA | Y2: INTERPRETACION | Z2: CALIFICACION
C3: SI | D3: NO | E3: PARCIAL | K3: SI | L3: NO | M3: PARCIAL | R3: SI | S3: NO | T3: PARCIAL
B4: 1. Gestion Organizacional | J4: 1. Suministro | Q4: 1. Servicios
A5: 1 | B5: ¿Existe una política general en Gestión del Riesgo donde se indican lineamientos de emergencias? | D5: X | F5: 0 | I5: 1 | J5: ¿Se cuenta con implementos básicos para la respuesta de acuerdo con la amenaza identificada? | K5: X | N5: 1 | P5: 1 | Q5: ¿Se cuenta suministro de energía permanente? | T5: X | U5: 0.5 | X5: SI | Y5: Cuando existe o tiene un nivel bueno o Cuando se dispone de los elementos, recursos o cuando se realizan los procedimientos de manera parcial, entre otros. | Z5: 1
A6: 2 | B6: ¿Existe un esquema organizacional para la respuesta a emergencias con funciones y responsables asignados (Brigadas, Sistema Comando de Incidentes – SCI, entre otros) y se mantiene actualizado? | D6: X | F6: 0 | I6: 2 | J6: ¿Se cuenta con implementos básicos para la atención de heridos, tales como: camillas, botiquines, guantes, entre otros, de acuerdo con las necesidades de su Organización? | M6: X | N6: 0.5 | P6: 2 | Q6: ¿Se cuenta suministro de agua permanente? | T6: X | U6: 0.5 | X6: NO | Y6: Cuando no existe o tiene un nivel deficiente | Z6: 0
A7: 3 | B7: ¿Promueve activamente la participación de sus trabajadores en un programa de preparación para emergencias? | D7: X | F7: 0 | J7: Promedio Suministro | N7: =(+N5+N6)/2 -> 0.75 | O7: BUENO | P7: 3 | Q7: ¿Se cuenta con un programa de gestión de residuos? | T7: X | U7: 0.5 | X7: PARCIAL | Y7: Cuando la implementación no está terminada o tiene un nivel regular o Cuando se carece de los elementos, recursos o cuando no se realizan los procedimientos, entre otros | Z7: 0.5
A8: 4 | B8: ¿La estructura organizacional para la respuesta a emergencias garantiza la respuesta a los eventos que se puedan presentar tanto en los horarios laborales como en los no laborales? | D8: x | F8: 0 | J8: PUNTO A EVALUAR | K8: Respuesta | N8: CALIFICACION | O8: OBSERVACIONES | P8: 4 | Q8: ¿Se cuenta con servicio de comunicaciones internas? | T8: X | U8: 0.5
A9: 5 | B9: ¿Han establecido mecanismos de interacción con su entorno que faciliten dar respuesta apropiada a los eventos que se puedan presentar? (Comités de Ayuda Mutua –CAM, Mapa Comunitario de Riesgos, Sistemas de Alerta Temprana – SAT, etc.) | D9: X | F9: 0 | K9: SI | L9: NO | M9: PARCIAL | Q9: Promedio Servicios | U9: =(+U5+U6+U7+U8)/4 -> 0.5 | V9: BUENO
A10: 6 | B10: ¿Existen instrumentos para hacer inspecciones a las áreas para la identificación de condiciones inseguras que puedan generar emergencias? | C10: X | F10: 1 | J10: 2. Edificaciones | Q10: PUNTO A EVALUAR | R10: Respuesta | U10: CALIFICACION | V10: OBSERVACIONES
A11: 7 | B11: ¿Existe y se mantiene actualizado todos los componentes del Plan de Emergencias y Contingencias? | D11: X | F11: 0 | I11: 1 | J11: ¿El tipo de construcción es sismoresistente o cuenta con un refuerzo estructural? | M11: X | N11: 0.5 | R11: SI | S11: NO | T11: PARCIAL
B12: Promedio Gestion Organizacional | F12: =(F5+F6+F7+F8+F9+F10+F11)/7 -> 0.14285714 | G12: REGULAR | I12: 2 | J12: ¿Existen puertas y muros cortafuego, puertas antipánico, entre otras características de seguridad? | L12: X | N12: 0 | Q12: 2. Sistemas Alternos
B13: PUNTO A EVALUAR | C13: Respuesta | F13: CALIFICACION | G13: OBSERVACIONES | I13: 3 | J13: ¿Las escaleras de emergencia se encuentran en buen estado, poseen doble pasamano, señalización, antideslizantes, entre otras características de seguridad? | M13: X | N13: 0.5 | P13: 1 | Q13: ¿Se cuenta con sistemas redundantes para el suministro de agua (tanque de reserva de agua, pozos subterráneos, carrotanque, entre otros? | S13: X | U13: 0
C14: SI | D14: NO | E14: PARCIAL | I14: 4 | J14: ¿Están definidas las rutas de evacuación y salidas de emergencia, debidamente señalizadas y con iluminación alterna? | M14: X | N14: 0.5 | P14: 2 | Q14: ¿Se cuenta con sistemas redundantes para el suministro de energía (plantas eléctricas,acumuladores, paneles solares, entre otros? | S14: X | U14: 0
B15: 2. Capacitacion y Entrenamiento | I15: 5 | J15: ¿Se tienen identificados espacios para la ubicación de instalaciones de emergencias (puntos de encuentro, puestos de mando, módulos de estabilización de heridos, entre otros)? | L15: X | N15: 0 | P15: 3 | Q15: ¿Se cuenta con hidrantes internos y/o externos? | S15: X | U15: 0
A16: 1 | B16: ¿Se cuenta con un programa de capacitación en prevención y respuesta a emergencias? | C16: X | F16: 1 | I16: 6 | J16: ¿Las ventanas cuentan con película de seguridad? | L16: X | N16: 0 | Q16: Promedio Alternos | U16: =(+U13+U14+U15)/3 -> 0 | V16: MALO
A17: 2 | B17: ¿Todos los miembros de la organización se han capacitado de acuerdo al programa de capacitación en prevención y respuesta a emergencias? | D17: X | F17: 0 | I17: 7 | J17: ¿Se tienen asegurados o anclados enseres, gabinetes u objetos que puedan caer? | M17: X | N17: 0.5 | Q17: PUNTO A EVALUAR | R17: Respuesta | U17: CALIFICACION | V17: OBSERVACIONES
A18: 3 | B18: ¿Se cuenta con un programa de entrenamiento en respuesta a emergencias para todos los miembros de la organización? | E18: X | F18: 0.5 | J18: Promedio Edificaciones | N18: =(+N11+N12+N13+N14+N15+N16+N17)/7 -> 0.28571429 | O18: REGULAR | R18: SI | S18: NO | T18: PARCIAL
A19: 4 | B19: ¿Se cuenta con mecanismos de difusión en temas de prevención y respuesta a emergencias? | E19: X | F19: 0.5 | J19: PUNTO A EVALUAR | K19: Respuesta | N19: CALIFICACION | O19: OBSERVACIONES | Q19: 3. Recuperacion
B20: Promedio Capacitación y Entrenamiento | F20: =(+F16+F17+F18+F19)/4 -> 0.5 | G20: BUENO | K20: SI | L20: NO | M20: PARCIAL | P20: 1 | Q20: Se tienen identificados los procesos vitales para el funcionamiento de su organización? | R20: X | U20: 1
B21: PUNTO A EVALUAR | C21: Respuesta | F21: CALIFICACION | G21: OBSERVACIONES | J21: 3. Equipos | P21: 2 | Q21: Se cuenta con un plan de continuidad del negocio? | T21: X | U21: 0.5
C22: SI | D22: NO | E22: PARCIAL | I22: 1 | J22: ¿Se cuenta con sistemas de detección y/o monitoreo de la amenaza identificada? | M22: X | N22: 0.5 | P22: 3 | Q22: ¿Se cuenta con algún sistema de seguros para los integrantes de la organización? | T22: X | U22: 0.5
B23: 3. Caracterisiticas de Seguridad | I23: 2 | J23: ¿Se cuenta con algún sistema de alarma en caso de emergencia? | L23: X | N23: 1 | P23: 4 | Q23: ¿Se tienen aseguradas las edificaciones y los bienes en general para cada amenaza identificada? | S23: X | U23: 0
A24: 1 | B24: ¿Se ha identificado y clasificado el personal fijo y flotante en los diferentes horarios laborales y no laborales (menores de edad, adultos mayores, personas con discapacidad física)? | D24: X | F24: 0 | I24: 3 | J24: ¿Se cuenta con sistemas de control o mitigación de la amenaza identificada? | K24: X | N24: 1 | P24: 5 | Q24: ¿Se encuentra asegurada la información digital y análoga de la organización? | S24: X | U24: 0
A25: 2 | B25: ¿Se han contemplado acciones específicas teniendo en cuenta la clasificación de la población en la preparación y respuesta a emergencias? | D25: X | F25: 0 | I25: 4 | J25: ¿Se cuenta con un sistema de comunicaciones internas para la respuesta a emergencias? | K25: X | N25: 1 | Q25: Promedio Recuperacion | U25: =(+U20+U21+U22+U23+U24)/5 -> 0.4 | V25: REGULAR
A26: 3 | B26: ¿Se cuenta con elementos de protección suficientes y adecuados para el personal de la organización en sus actividades de rutina? | C26: X | F26: 1 | I26: 5 | J26: ¿Se cuenta con medios de transporte para el apoyo logístico en una emergencia? | L26: X | N26: 0 | Q26: SUMA TOTAL PROMEDIOS | U26: =+U25+U16+U9 -> 0.9 | V26: ALTA
A27: 4 | B27: ¿Se cuenta con elementos de protección personal para la respuesta a emergencias, de acuerdo con las amenazas identificadas y las necesidades de su Organización? | C27: X | F27: 1 | I27: 6 | J27: ¿Se cuenta con programa de mantenimiento preventivo y correctivo para los equipos de emergencia? | L27: X | N27: 0
A28: 5 | B28: ¿Se cuenta con un esquema de seguridad física? | D28: X | F28: 0 | J28: Promedio de Equipos | N28: =(+N22+N23+N24+N25+N26+N27)/6 -> 0.58333333 | O28: BUENO
B29: Promedio Características de Seguridad | F29: =(+F24+F25+F26+F27+F28)/5 -> 0.4 | G29: BUENO | J29: SUMA TOTAL PROMEDIOS | N29: =+N28+N18+N7 -> 1.6190476 | O29: MEDIA | X29: RANGO | Y29: INTERPRETACION | Z29: COLOR
B30: SUMA TOTAL PROMEDIOS | F30: =+F29+F20+F12 -> 1.0428571 | G30: MEDIA | X30: 0.0 – 1.00 | Y30: ALTA | Z30: ROJO
X31: 1.01 – 2.00 | Y31: MEDIA | Z31: AMARILLO
X32: 2.01 – 3.00 | Y32: BAJA | Z32: VERDE

Sheet FUGA DE GAS
B1: ANALISIS DE VULNERABILIDAD PERSONAS | J1: ANALISIS DE VULNERABILIDAD RECURSOS | Q1: ANALISIS DE VULNERABILIDAD DE PROCESOS | X1: Interpretación de la calificación para cada respuesta
B2: PUNTO A EVALUAR | C2: Respuesta | F2: CALIFICACIÓN | G2: OBSERVACIONES | J2: PUNTO A EVALUAR | K2: Respuesta | N2: CALIFICACION | O2: OBSERVACIONES | Q2: PUNTO A EVALUAR | R2: Respuesta | U2: CALIFICACION | V2: OBSERVACIONES | X2: CRITERIO DE RESPUESTA | Y2: INTERPRETACION | Z2: CALIFICACION
C3: SI | D3: NO | E3: PARCIAL | K3: SI | L3: NO | M3: PARCIAL | R3: SI | S3: NO | T3: PARCIAL
B4: 1. Gestion Organizacional | J4: 1. Suministro | Q4: 1. Servicios
A5: 1 | B5: ¿Existe una política general en Gestión del Riesgo donde se indican lineamientos de emergencias? | D5: X | F5: 0 | I5: 1 | J5: ¿Se cuenta con implementos básicos para la respuesta de acuerdo con la amenaza identificada? | K5: X | N5: 1 | P5: 1 | Q5: ¿Se cuenta suministro de energía permanente? | T5: X | U5: 0.5 | X5: SI | Y5: Cuando existe o tiene un nivel bueno o Cuando se dispone de los elementos, recursos o cuando se realizan los procedimientos de manera parcial, entre otros. | Z5: 1
A6: 2 | B6: ¿Existe un esquema organizacional para la respuesta a emergencias con funciones y responsables asignados (Brigadas, Sistema Comando de Incidentes – SCI, entre otros) y se mantiene actualizado? | D6: X | F6: 0 | I6: 2 | J6: ¿Se cuenta con implementos básicos para la atención de heridos, tales como: camillas, botiquines, guantes, entre otros, de acuerdo con las necesidades de su Organización? | M6: X | N6: 0.5 | P6: 2 | Q6: ¿Se cuenta suministro de agua permanente? | T6: X | U6: 0.5 | X6: NO | Y6: Cuando no existe o tiene un nivel deficiente | Z6: 0
A7: 3 | B7: ¿Promueve activamente la participación de sus trabajadores en un programa de preparación para emergencias? | D7: X | F7: 0 | J7: Promedio Suministro | N7: =(+N5+N6)/2 -> 0.75 | O7: BUENO | P7: 3 | Q7: ¿Se cuenta con un programa de gestión de residuos? | T7: X | U7: 0.5 | X7: PARCIAL | Y7: Cuando la implementación no está terminada o tiene un nivel regular o Cuando se carece de los elementos, recursos o cuando no se realizan los procedimientos, entre otros | Z7: 0.5
A8: 4 | B8: ¿La estructura organizacional para la respuesta a emergencias garantiza la respuesta a los eventos que se puedan presentar tanto en los horarios laborales como en los no laborales? | D8: x | F8: 0 | J8: PUNTO A EVALUAR | K8: Respuesta | N8: CALIFICACION | O8: OBSERVACIONES | P8: 4 | Q8: ¿Se cuenta con servicio de comunicaciones internas? | T8: X | U8: 0.5
A9: 5 | B9: ¿Han establecido mecanismos de interacción con su entorno que faciliten dar respuesta apropiada a los eventos que se puedan presentar? (Comités de Ayuda Mutua –CAM, Mapa Comunitario de Riesgos, Sistemas de Alerta Temprana – SAT, etc.) | D9: X | F9: 0 | K9: SI | L9: NO | M9: PARCIAL | Q9: Promedio Servicios | U9: =(+U5+U6+U7+U8)/4 -> 0.5 | V9: BUENO
A10: 6 | B10: ¿Existen instrumentos para hacer inspecciones a las áreas para la identificación de condiciones inseguras que puedan generar emergencias? | C10: X | F10: 1 | J10: 2. Edificaciones | Q10: PUNTO A EVALUAR | R10: Respuesta | U10: CALIFICACION | V10: OBSERVACIONES
A11: 7 | B11: ¿Existe y se mantiene actualizado todos los componentes del Plan de Emergencias y Contingencias? | D11: X | F11: 0 | I11: 1 | J11: ¿El tipo de construcción es sismoresistente o cuenta con un refuerzo estructural? | M11: X | N11: 0.5 | R11: SI | S11: NO | T11: PARCIAL
B12: Promedio Gestion Organizacional | F12: =(F5+F6+F7+F8+F9+F10+F11)/7 -> 0.14285714 | G12: REGULAR | I12: 2 | J12: ¿Existen puertas y muros cortafuego, puertas antipánico, entre otras características de seguridad? | L12: X | N12: 0 | Q12: 2. Sistemas Alternos
B13: PUNTO A EVALUAR | C13: Respuesta | F13: CALIFICACION | G13: OBSERVACIONES | I13: 3 | J13: ¿Las escaleras de emergencia se encuentran en buen estado, poseen doble pasamano, señalización, antideslizantes, entre otras características de seguridad? | M13: X | N13: 0.5 | P13: 1 | Q13: ¿Se cuenta con sistemas redundantes para el suministro de agua (tanque de reserva de agua, pozos subterráneos, carrotanque, entre otros? | S13: X | U13: 0
C14: SI | D14: NO | E14: PARCIAL | I14: 4 | J14: ¿Están definidas las rutas de evacuación y salidas de emergencia, debidamente señalizadas y con iluminación alterna? | M14: X | N14: 0.5 | P14: 2 | Q14: ¿Se cuenta con sistemas redundantes para el suministro de energía (plantas eléctricas,acumuladores, paneles solares, entre otros? | S14: X | U14: 0
B15: 2. Capacitacion y Entrenamiento | I15: 5 | J15: ¿Se tienen identificados espacios para la ubicación de instalaciones de emergencias (puntos de encuentro, puestos de mando, módulos de estabilización de heridos, entre otros)? | L15: X | N15: 0 | P15: 3 | Q15: ¿Se cuenta con hidrantes internos y/o externos? | S15: X | U15: 0
A16: 1 | B16: ¿Se cuenta con un programa de capacitación en prevención y respuesta a emergencias? | C16: X | F16: 1 | I16: 6 | J16: ¿Las ventanas cuentan con película de seguridad? | L16: X | N16: 0 | Q16: Promedio Alternos | U16: =(+U13+U14+U15)/3 -> 0 | V16: MALO
A17: 2 | B17: ¿Todos los miembros de la organización se han capacitado de acuerdo al programa de capacitación en prevención y respuesta a emergencias? | D17: X | F17: 0 | I17: 7 | J17: ¿Se tienen asegurados o anclados enseres, gabinetes u objetos que puedan caer? | M17: X | N17: 0.5 | Q17: PUNTO A EVALUAR | R17: Respuesta | U17: CALIFICACION | V17: OBSERVACIONES
A18: 3 | B18: ¿Se cuenta con un programa de entrenamiento en respuesta a emergencias para todos los miembros de la organización? | E18: X | F18: 0.5 | J18: Promedio Edificaciones | N18: =(+N11+N12+N13+N14+N15+N16+N17)/7 -> 0.28571429 | O18: REGULAR | R18: SI | S18: NO | T18: PARCIAL
A19: 4 | B19: ¿Se cuenta con mecanismos de difusión en temas de prevención y respuesta a emergencias? | E19: X | F19: 0.5 | J19: PUNTO A EVALUAR | K19: Respuesta | N19: CALIFICACION | O19: OBSERVACIONES | Q19: 3. Recuperacion
B20: Promedio Capacitación y Entrenamiento | F20: =(+F16+F17+F18+F19)/4 -> 0.5 | G20: BUENO | K20: SI | L20: NO | M20: PARCIAL | P20: 1 | Q20: Se tienen identificados los procesos vitales para el funcionamiento de su organización? | R20: X | U20: 1
B21: PUNTO A EVALUAR | C21: Respuesta | F21: CALIFICACION | G21: OBSERVACIONES | J21: 3. Equipos | P21: 2 | Q21: Se cuenta con un plan de continuidad del negocio? | T21: X | U21: 0.5
C22: SI | D22: NO | E22: PARCIAL | I22: 1 | J22: ¿Se cuenta con sistemas de detección y/o monitoreo de la amenaza identificada? | M22: X | N22: 0.5 | P22: 3 | Q22: ¿Se cuenta con algún sistema de seguros para los integrantes de la organización? | T22: X | U22: 0.5
B23: 3. Caracterisiticas de Seguridad | I23: 2 | J23: ¿Se cuenta con algún sistema de alarma en caso de emergencia? | L23: X | N23: 1 | P23: 4 | Q23: ¿Se tienen aseguradas las edificaciones y los bienes en general para cada amenaza identificada? | S23: X | U23: 0
A24: 1 | B24: ¿Se ha identificado y clasificado el personal fijo y flotante en los diferentes horarios laborales y no laborales (menores de edad, adultos mayores, personas con discapacidad física)? | D24: X | F24: 0 | I24: 3 | J24: ¿Se cuenta con sistemas de control o mitigación de la amenaza identificada? | K24: X | N24: 1 | P24: 5 | Q24: ¿Se encuentra asegurada la información digital y análoga de la organización? | S24: X | U24: 0
A25: 2 | B25: ¿Se han contemplado acciones específicas teniendo en cuenta la clasificación de la población en la preparación y respuesta a emergencias? | D25: X | F25: 0 | I25: 4 | J25: ¿Se cuenta con un sistema de comunicaciones internas para la respuesta a emergencias? | K25: X | N25: 1 | Q25: Promedio Recuperacion | U25: =(+U20+U21+U22+U23+U24)/5 -> 0.4 | V25: REGULAR
A26: 3 | B26: ¿Se cuenta con elementos de protección suficientes y adecuados para el personal de la organización en sus actividades de rutina? | C26: X | F26: 1 | I26: 5 | J26: ¿Se cuenta con medios de transporte para el apoyo logístico en una emergencia? | L26: X | N26: 0 | Q26: SUMA TOTAL PROMEDIOS | U26: =+U25+U16+U9 -> 0.9 | V26: ALTA
A27: 4 | B27: ¿Se cuenta con elementos de protección personal para la respuesta a emergencias, de acuerdo con las amenazas identificadas y las necesidades de su Organización? | C27: X | F27: 1 | I27: 6 | J27: ¿Se cuenta con programa de mantenimiento preventivo y correctivo para los equipos de emergencia? | L27: X | N27: 0
A28: 5 | B28: ¿Se cuenta con un esquema de seguridad física? | D28: X | F28: 0 | J28: Promedio de Equipos | N28: =(+N22+N23+N24+N25+N26+N27)/6 -> 0.58333333 | O28: BUENO
B29: Promedio Características de Seguridad | F29: =(+F24+F25+F26+F27+F28)/5 -> 0.4 | G29: BUENO | J29: SUMA TOTAL PROMEDIOS | N29: =+N28+N18+N7 -> 1.6190476 | O29: MEDIA | X29: RANGO | Y29: INTERPRETACION | Z29: COLOR
B30: SUMA TOTAL PROMEDIOS | F30: =+F29+F20+F12 -> 1.0428571 | G30: MEDIA | X30: 0.0 – 1.00 | Y30: ALTA | Z30: ROJO
X31: 1.01 – 2.00 | Y31: MEDIA | Z31: AMARILLO
X32: 2.01 – 3.00 | Y32: BAJA | Z32: VERDE

Sheet  ATENTADOS
B1: ANALISIS DE VULNERABILIDAD PERSONAS | J1: ANALISIS DE VULNERABILIDAD RECURSOS | Q1: ANALISIS DE VULNERABILIDAD DE PROCESOS | X1: Interpretación de la calificación para cada respuesta
B2: PUNTO A EVALUAR | C2: Respuesta | F2: CALIFICACIÓN | G2: OBSERVACIONES | J2: PUNTO A EVALUAR | K2: Respuesta | N2: CALIFICACION | O2: OBSERVACIONES | Q2: PUNTO A EVALUAR | R2: Respuesta | U2: CALIFICACION | V2: OBSERVACIONES | X2: CRITERIO DE RESPUESTA | Y2: INTERPRETACION | Z2: CALIFICACION
C3: SI | D3: NO | E3: PARCIAL | K3: SI | L3: NO | M3: PARCIAL | R3: SI | S3: NO | T3: PARCIAL
B4: 1. Gestion Organizacional | J4: 1. Suministro | Q4: 1. Servicios
A5: 1 | B5: ¿Existe una política general en Gestión del Riesgo donde se indican lineamientos de emergencias? | D5: X | F5: 0 | I5: 1 | J5: ¿Se cuenta con implementos básicos para la respuesta de acuerdo con la amenaza identificada? | M5: X | N5: 0.5 | P5: 1 | Q5: ¿Se cuenta suministro de energía permanente? | T5: X | U5: 0.5 | X5: SI | Y5: Cuando existe o tiene un nivel bueno o Cuando se dispone de los elementos, recursos o cuando se realizan los procedimientos de manera parcial, entre otros. | Z5: 1
A6: 2 | B6: ¿Existe un esquema organizacional para la respuesta a emergencias con funciones y responsables asignados (Brigadas, Sistema Comando de Incidentes – SCI, entre otros) y se mantiene actualizado? | D6: X | F6: 0 | I6: 2 | J6: ¿Se cuenta con implementos básicos para la atención de heridos, tales como: camillas, botiquines, guantes, entre otros, de acuerdo con las necesidades de su Organización? | M6: X | N6: 0.5 | P6: 2 | Q6: ¿Se cuenta suministro de agua permanente? | T6: X | U6: 0.5 | X6: NO | Y6: Cuando no existe o tiene un nivel deficiente | Z6: 0
A7: 3 | B7: ¿Promueve activamente la participación de sus trabajadores en un programa de preparación para emergencias? | D7: X | F7: 0 | J7: Promedio Suministro | N7: =(+N5+N6)/2 -> 0.5 | O7: BUENO | P7: 3 | Q7: ¿Se cuenta con un programa de gestión de residuos? | T7: X | U7: 0.5 | X7: PARCIAL | Y7: Cuando la implementación no está terminada o tiene un nivel regular o Cuando se carece de los elementos, recursos o cuando no se realizan los procedimientos, entre otros | Z7: 0.5
A8: 4 | B8: ¿La estructura organizacional para la respuesta a emergencias garantiza la respuesta a los eventos que se puedan presentar tanto en los horarios laborales como en los no laborales? | D8: x | F8: 0 | J8: PUNTO A EVALUAR | K8: Respuesta | N8: CALIFICACION | O8: OBSERVACIONES | P8: 4 | Q8: ¿Se cuenta con servicio de comunicaciones internas? | T8: X | U8: 0.5
A9: 5 | B9: ¿Han establecido mecanismos de interacción con su entorno que faciliten dar respuesta apropiada a los eventos que se puedan presentar? (Comités de Ayuda Mutua –CAM, Mapa Comunitario de Riesgos, Sistemas de Alerta Temprana – SAT, etc.) | D9: X | F9: 0 | K9: SI | L9: NO | M9: PARCIAL | Q9: Promedio Servicios | U9: =(+U5+U6+U7+U8)/4 -> 0.5 | V9: BUENO
A10: 6 | B10: ¿Existen instrumentos para hacer inspecciones a las áreas para la identificación de condiciones inseguras que puedan generar emergencias? | E10: X | F10: 0.5 | J10: 2. Edificaciones | Q10: PUNTO A EVALUAR | R10: Respuesta | U10: CALIFICACION | V10: OBSERVACIONES
A11: 7 | B11: ¿Existe y se mantiene actualizado todos los componentes del Plan de Emergencias y Contingencias? | D11: X | F11: 0 | I11: 1 | J11: ¿El tipo de construcción es sismoresistente o cuenta con un refuerzo estructural? | M11: X | N11: 0.5 | R11: SI | S11: NO | T11: PARCIAL
B12: Promedio Gestion Organizacional | F12: =(F5+F6+F7+F8+F9+F10+F11)/7 -> 0.071428571 | G12: REGULAR | I12: 2 | J12: ¿Existen puertas y muros cortafuego, puertas antipánico, entre otras características de seguridad? | L12: X | N12: 0 | Q12: 2. Sistemas Alternos
B13: PUNTO A EVALUAR | C13: Respuesta | F13: CALIFICACION | G13: OBSERVACIONES | I13: 3 | J13: ¿Las escaleras de emergencia se encuentran en buen estado, poseen doble pasamano, señalización, antideslizantes, entre otras características de seguridad? | M13: X | N13: 0.5 | P13: 1 | Q13: ¿Se cuenta con sistemas redundantes para el suministro de agua (tanque de reserva de agua, pozos subterráneos, carrotanque, entre otros? | S13: X | U13: 0
C14: SI | D14: NO | E14: PARCIAL | I14: 4 | J14: ¿Están definidas las rutas de evacuación y salidas de emergencia, debidamente señalizadas y con iluminación alterna? | M14: X | N14: 0.5 | P14: 2 | Q14: ¿Se cuenta con sistemas redundantes para el suministro de energía (plantas eléctricas,acumuladores, paneles solares, entre otros? | S14: X | U14: 0
B15: 2. Capacitacion y Entrenamiento | I15: 5 | J15: ¿Se tienen identificados espacios para la ubicación de instalaciones de emergencias (puntos de encuentro, puestos de mando, módulos de estabilización de heridos, entre otros)? | L15: X | N15: 0 | P15: 3 | Q15: ¿Se cuenta con hidrantes internos y/o externos? | S15: X | U15: 0
A16: 1 | B16: ¿Se cuenta con un programa de capacitación en prevención y respuesta a emergencias? | C16: X | F16: 1 | I16: 6 | J16: ¿Las ventanas cuentan con película de seguridad? | L16: X | N16: 0 | Q16: Promedio Alternos | U16: =(+U13+U14+U15)/3 -> 0 | V16: MALO
A17: 2 | B17: ¿Todos los miembros de la organización se han capacitado de acuerdo al programa de capacitación en prevención y respuesta a emergencias? | D17: X | F17: 0 | I17: 7 | J17: ¿Se tienen asegurados o anclados enseres, gabinetes u objetos que puedan caer? | M17: X | N17: 0.5 | Q17: PUNTO A EVALUAR | R17: Respuesta | U17: CALIFICACION | V17: OBSERVACIONES
A18: 3 | B18: ¿Se cuenta con un programa de entrenamiento en respuesta a emergencias para todos los miembros de la organización? | E18: X | F18: 0.5 | J18: Promedio Edificaciones | N18: =(+N11+N12+N13+N14+N15+N16+N17)/7 -> 0.28571429 | O18: REGULAR | R18: SI | S18: NO | T18: PARCIAL
A19: 4 | B19: ¿Se cuenta con mecanismos de difusión en temas de prevención y respuesta a emergencias? | E19: X | F19: 0.5 | J19: PUNTO A EVALUAR | K19: Respuesta | N19: CALIFICACION | O19: OBSERVACIONES | Q19: 3. Recuperacion
B20: Promedio Capacitación y Entrenamiento | F20: =(+F16+F17+F18+F19)/4 -> 0.5 | G20: BUENO | K20: SI | L20: NO | M20: PARCIAL | P20: 1 | Q20: Se tienen identificados los procesos vitales para el funcionamiento de su organización? | R20: X | U20: 1
B21: PUNTO A EVALUAR | C21: Respuesta | F21: CALIFICACION | G21: OBSERVACIONES | J21: 3. Equipos | P21: 2 | Q21: Se cuenta con un plan de continuidad del negocio? | T21: X | U21: 0.5
C22: SI | D22: NO | E22: PARCIAL | I22: 1 | J22: ¿Se cuenta con sistemas de detección y/o monitoreo de la amenaza identificada? | L22: X | N22: 0.5 | P22: 3 | Q22: ¿Se cuenta con algún sistema de seguros para los integrantes de la organización? | T22: X | U22: 0.5
B23: 3. Caracterisiticas de Seguridad | I23: 2 | J23: ¿Se cuenta con algún sistema de alarma en caso de emergencia? | L23: X | N23: 0 | P23: 4 | Q23: ¿Se tienen aseguradas las edificaciones y los bienes en general para cada amenaza identificada? | S23: X | U23: 0
A24: 1 | B24: ¿Se ha identificado y clasificado el personal fijo y flotante en los diferentes horarios laborales y no laborales (menores de edad, adultos mayores, personas con discapacidad física)? | D24: X | F24: 0 | I24: 3 | J24: ¿Se cuenta con sistemas de control o mitigación de la amenaza identificada? | M24: X | N24: 0.5 | P24: 5 | Q24: ¿Se encuentra asegurada la información digital y análoga de la organización? | S24: X | U24: 0
A25: 2 | B25: ¿Se han contemplado acciones específicas teniendo en cuenta la clasificación de la población en la preparación y respuesta a emergencias? | D25: X | F25: 0 | I25: 4 | J25: ¿Se cuenta con un sistema de comunicaciones internas para la respuesta a emergencias? | M25: X | N25: 0.5 | Q25: Promedio Recuperacion | U25: =(+U20+U21+U22+U23+U24)/5 -> 0.4 | V25: REGULAR
A26: 3 | B26: ¿Se cuenta con elementos de protección suficientes y adecuados para el personal de la organización en sus actividades de rutina? | C26: X | F26: 1 | I26: 5 | J26: ¿Se cuenta con medios de transporte para el apoyo logístico en una emergencia? | L26: X | N26: 0.5 | Q26: SUMA TOTAL PROMEDIOS | U26: =+U25+U16+U9 -> 0.9 | V26: ALTA
A27: 4 | B27: ¿Se cuenta con elementos de protección personal para la respuesta a emergencias, de acuerdo con las amenazas identificadas y las necesidades de su Organización? | D27: X | F27: 0 | I27: 6 | J27: ¿Se cuenta con programa de mantenimiento preventivo y correctivo para los equipos de emergencia? | L27: X | N27: 0
A28: 5 | B28: ¿Se cuenta con un esquema de seguridad física? | D28: X | F28: 0 | J28: Promedio de Equipos | N28: =(+N22+N23+N24+N25+N26+N27)/6 -> 0.33333333 | O28: BUENO
B29: Promedio Características de Seguridad | F29: =(+F24+F25+F26+F27+F28)/5 -> 0.2 | G29: BUENO | J29: SUMA TOTAL PROMEDIOS | N29: =+N28+N18+N7 -> 1.1190476 | O29: MEDIA | X29: RANGO | Y29: INTERPRETACION | Z29: COLOR
B30: SUMA TOTAL PROMEDIOS | F30: =+F29+F20+F12 -> 0.77142857 | G30: ALTA | X30: 0.0 – 1.00 | Y30: ALTA | Z30: ROJO
X31: 1.01 – 2.00 | Y31: MEDIA | Z31: AMARILLO
X32: 2.01 – 3.00 | Y32: BAJA | Z32: VERDE

Sheet AMENAZA ANTROPICA
B1: ANALISIS DE VULNERABILIDAD PERSONAS | J1: ANALISIS DE VULNERABILIDAD RECURSOS | Q1: ANALISIS DE VULNERABILIDAD DE PROCESOS | X1: Interpretación de la calificación para cada respuesta
B2: PUNTO A EVALUAR | C2: Respuesta | F2: CALIFICACIÓN | G2: OBSERVACIONES | J2: PUNTO A EVALUAR | K2: Respuesta | N2: CALIFICACION | O2: OBSERVACIONES | Q2: PUNTO A EVALUAR | R2: Respuesta | U2: CALIFICACION | V2: OBSERVACIONES | X2: CRITERIO DE RESPUESTA | Y2: INTERPRETACION | Z2: CALIFICACION
C3: SI | D3: NO | E3: PARCIAL | K3: SI | L3: NO | M3: PARCIAL | R3: SI | S3: NO | T3: PARCIAL
B4: 1. Gestion Organizacional | J4: 1. Suministro | Q4: 1. Servicios
A5: 1 | B5: ¿Existe una política general en Gestión del Riesgo donde se indican lineamientos de emergencias? | D5: X | F5: 0 | I5: 1 | J5: ¿Se cuenta con implementos básicos para la respuesta de acuerdo con la amenaza identificada? | K5: X | N5: 1 | P5: 1 | Q5: ¿Se cuenta suministro de energía permanente? | T5: X | U5: 0.5 | X5: SI | Y5: Cuando existe o tiene un nivel bueno o Cuando se dispone de los elementos, recursos o cuando se realizan los procedimientos de manera parcial, entre otros. | Z5: 1
A6: 2 | B6: ¿Existe un esquema organizacional para la respuesta a emergencias con funciones y responsables asignados (Brigadas, Sistema Comando de Incidentes – SCI, entre otros) y se mantiene actualizado? | D6: X | F6: 0 | I6: 2 | J6: ¿Se cuenta con implementos básicos para la atención de heridos, tales como: camillas, botiquines, guantes, entre otros, de acuerdo con las necesidades de su Organización? | M6: X | N6: 0.5 | P6: 2 | Q6: ¿Se cuenta suministro de agua permanente? | T6: X | U6: 0.5 | X6: NO | Y6: Cuando no existe o tiene un nivel deficiente | Z6: 0
A7: 3 | B7: ¿Promueve activamente la participación de sus trabajadores en un programa de preparación para emergencias? | D7: X | F7: 0 | J7: Promedio Suministro | N7: =(+N5+N6)/2 -> 0.75 | O7: BUENO | P7: 3 | Q7: ¿Se cuenta con un programa de gestión de residuos? | T7: X | U7: 0.5 | X7: PARCIAL | Y7: Cuando la implementación no está terminada o tiene un nivel regular o Cuando se carece de los elementos, recursos o cuando no se realizan los procedimientos, entre otros | Z7: 0.5
A8: 4 | B8: ¿La estructura organizacional para la respuesta a emergencias garantiza la respuesta a los eventos que se puedan presentar tanto en los horarios laborales como en los no laborales? | D8: x | F8: 0 | J8: PUNTO A EVALUAR | K8: Respuesta | N8: CALIFICACION | O8: OBSERVACIONES | P8: 4 | Q8: ¿Se cuenta con servicio de comunicaciones internas? | T8: X | U8: 0.5
A9: 5 | B9: ¿Han establecido mecanismos de interacción con su entorno que faciliten dar respuesta apropiada a los eventos que se puedan presentar? (Comités de Ayuda Mutua –CAM, Mapa Comunitario de Riesgos, Sistemas de Alerta Temprana – SAT, etc.) | D9: X | F9: 0 | K9: SI | L9: NO | M9: PARCIAL | Q9: Promedio Servicios | U9: =(+U5+U6+U7+U8)/4 -> 0.5 | V9: BUENO
A10: 6 | B10: ¿Existen instrumentos para hacer inspecciones a las áreas para la identificación de condiciones inseguras que puedan generar emergencias? | C10: X | F10: 1 | J10: 2. Edificaciones | Q10: PUNTO A EVALUAR | R10: Respuesta | U10: CALIFICACION | V10: OBSERVACIONES
A11: 7 | B11: ¿Existe y se mantiene actualizado todos los componentes del Plan de Emergencias y Contingencias? | D11: X | F11: 0 | I11: 1 | J11: ¿El tipo de construcción es sismoresistente o cuenta con un refuerzo estructural? | M11: X | N11: 0.5 | R11: SI | S11: NO | T11: PARCIAL
B12: Promedio Gestion Organizacional | F12: =(F5+F6+F7+F8+F9+F10+F11)/7 -> 0.14285714 | G12: REGULAR | I12: 2 | J12: ¿Existen puertas y muros cortafuego, puertas antipánico, entre otras características de seguridad? | L12: X | N12: 0 | Q12: 2. Sistemas Alternos
B13: PUNTO A EVALUAR | C13: Respuesta | F13: CALIFICACION | G13: OBSERVACIONES | I13: 3 | J13: ¿Las escaleras de emergencia se encuentran en buen estado, poseen doble pasamano, señalización, antideslizantes, entre otras características de seguridad? | M13: X | N13: 0.5 | P13: 1 | Q13: ¿Se cuenta con sistemas redundantes para el suministro de agua (tanque de reserva de agua, pozos subterráneos, carrotanque, entre otros? | S13: X | U13: 0
C14: SI | D14: NO | E14: PARCIAL | I14: 4 | J14: ¿Están definidas las rutas de evacuación y salidas de emergencia, debidamente señalizadas y con iluminación alterna? | M14: X | N14: 0.5 | P14: 2 | Q14: ¿Se cuenta con sistemas redundantes para el suministro de energía (plantas eléctricas,acumuladores, paneles solares, entre otros? | S14: X | U14: 0
B15: 2. Capacitacion y Entrenamiento | I15: 5 | J15: ¿Se tienen identificados espacios para la ubicación de instalaciones de emergencias (puntos de encuentro, puestos de mando, módulos de estabilización de heridos, entre otros)? | L15: X | N15: 0 | P15: 3 | Q15: ¿Se cuenta con hidrantes internos y/o externos? | S15: X | U15: 0
A16: 1 | B16: ¿Se cuenta con un programa de capacitación en prevención y respuesta a emergencias? | C16: X | F16: 1 | I16: 6 | J16: ¿Las ventanas cuentan con película de seguridad? | L16: X | N16: 0 | Q16: Promedio Alternos | U16: =(+U13+U14+U15)/3 -> 0 | V16: MALO
A17: 2 | B17: ¿Todos los miembros de la organización se han capacitado de acuerdo al programa de capacitación en prevención y respuesta a emergencias? | D17: X | F17: 0 | I17: 7 | J17: ¿Se tienen asegurados o anclados enseres, gabinetes u objetos que puedan caer? | M17: X | N17: 0.5 | Q17: PUNTO A EVALUAR | R17: Respuesta | U17: CALIFICACION | V17: OBSERVACIONES
A18: 3 | B18: ¿Se cuenta con un programa de entrenamiento en respuesta a emergencias para todos los miembros de la organización? | E18: X | F18: 0.5 | J18: Promedio Edificaciones | N18: =(+N11+N12+N13+N14+N15+N16+N17)/7 -> 0.28571429 | O18: REGULAR | R18: SI | S18: NO | T18: PARCIAL
A19: 4 | B19: ¿Se cuenta con mecanismos de difusión en temas de prevención y respuesta a emergencias? | E19: X | F19: 0.5 | J19: PUNTO A EVALUAR | K19: Respuesta | N19: CALIFICACION | O19: OBSERVACIONES | Q19: 3. Recuperacion
B20: Promedio Capacitación y Entrenamiento | F20: =(+F16+F17+F18+F19)/4 -> 0.5 | G20: BUENO | K20: SI | L20: NO | M20: PARCIAL | P20: 1 | Q20: Se tienen identificados los procesos vitales para el funcionamiento de su organización? | R20: X | U20: 1
B21: PUNTO A EVALUAR | C21: Respuesta | F21: CALIFICACION | G21: OBSERVACIONES | J21: 3. Equipos | P21: 2 | Q21: Se cuenta con un plan de continuidad del negocio? | T21: X | U21: 0.5
C22: SI | D22: NO | E22: PARCIAL | I22: 1 | J22: ¿Se cuenta con sistemas de detección y/o monitoreo de la amenaza identificada? | M22: X | N22: 0.5 | P22: 3 | Q22: ¿Se cuenta con algún sistema de seguros para los integrantes de la organización? | T22: X | U22: 0.5
B23: 3. Caracterisiticas de Seguridad | I23: 2 | J23: ¿Se cuenta con algún sistema de alarma en caso de emergencia? | L23: X | N23: 1 | P23: 4 | Q23: ¿Se tienen aseguradas las edificaciones y los bienes en general para cada amenaza identificada? | S23: X | U23: 0
A24: 1 | B24: ¿Se ha identificado y clasificado el personal fijo y flotante en los diferentes horarios laborales y no laborales (menores de edad, adultos mayores, personas con discapacidad física)? | D24: X | F24: 0 | I24: 3 | J24: ¿Se cuenta con sistemas de control o mitigación de la amenaza identificada? | K24: X | N24: 1 | P24: 5 | Q24: ¿Se encuentra asegurada la información digital y análoga de la organización? | S24: X | U24: 0
A25: 2 | B25: ¿Se han contemplado acciones específicas teniendo en cuenta la clasificación de la población en la preparación y respuesta a emergencias? | D25: X | F25: 0 | I25: 4 | J25: ¿Se cuenta con un sistema de comunicaciones internas para la respuesta a emergencias? | K25: X | N25: 1 | Q25: Promedio Recuperacion | U25: =(+U20+U21+U22+U23+U24)/5 -> 0.4 | V25: REGULAR
A26: 3 | B26: ¿Se cuenta con elementos de protección suficientes y adecuados para el personal de la organización en sus actividades de rutina? | C26: X | F26: 1 | I26: 5 | J26: ¿Se cuenta con medios de transporte para el apoyo logístico en una emergencia? | L26: X | N26: 0 | Q26: SUMA TOTAL PROMEDIOS | U26: =+U25+U16+U9 -> 0.9 | V26: ALTA
A27: 4 | B27: ¿Se cuenta con elementos de protección personal para la respuesta a emergencias, de acuerdo con las amenazas identificadas y las necesidades de su Organización? | C27: X | F27: 1 | I27: 6 | J27: ¿Se cuenta con programa de mantenimiento preventivo y correctivo para los equipos de emergencia? | L27: X | N27: 0
A28: 5 | B28: ¿Se cuenta con un esquema de seguridad física? | D28: X | F28: 0 | J28: Promedio de Equipos | N28: =(+N22+N23+N24+N25+N26+N27)/6 -> 0.58333333 | O28: BUENO
B29: Promedio Características de Seguridad | F29: =(+F24+F25+F26+F27+F28)/5 -> 0.4 | G29: BUENO | J29: SUMA TOTAL PROMEDIOS | N29: =+N28+N18+N7 -> 1.6190476 | O29: MEDIA | X29: RANGO | Y29: INTERPRETACION | Z29: COLOR
B30: SUMA TOTAL PROMEDIOS | F30: =+F29+F20+F12 -> 1.0428571 | G30: MEDIA | X30: 0.0 – 1.00 | Y30: ALTA | Z30: ROJO
X31: 1.01 – 2.00 | Y31: MEDIA | Z31: AMARILLO
X32: 2.01 – 3.00 | Y32: BAJA | Z32: VERDE

Sheet  ACCIDENTES
B1: ANALISIS DE VULNERABILIDAD PERSONAS | J1: ANALISIS DE VULNERABILIDAD RECURSOS | Q1: ANALISIS DE VULNERABILIDAD DE PROCESOS | X1: Interpretación de la calificación para cada respuesta
B2: PUNTO A EVALUAR | C2: Respuesta | F2: CALIFICACIÓN | G2: OBSERVACIONES | J2: PUNTO A EVALUAR | K2: Respuesta | N2: CALIFICACION | O2: OBSERVACIONES | Q2: PUNTO A EVALUAR | R2: Respuesta | U2: CALIFICACION | V2: OBSERVACIONES | X2: CRITERIO DE RESPUESTA | Y2: INTERPRETACION | Z2: CALIFICACION
C3: SI | D3: NO | E3: PARCIAL | K3: SI | L3: NO | M3: PARCIAL | R3: SI | S3: NO | T3: PARCIAL
B4: 1. Gestion Organizacional | J4: 1. Suministro | Q4: 1. Servicios
A5: 1 | B5: ¿Existe una política general en Gestión del Riesgo donde se indican lineamientos de emergencias? | D5: X | F5: 0 | I5: 1 | J5: ¿Se cuenta con implementos básicos para la respuesta de acuerdo con la amenaza identificada? | M5: X | N5: 0.5 | P5: 1 | Q5: ¿Se cuenta suministro de energía permanente? | T5: X | U5: 0.5 | X5: SI | Y5: Cuando existe o tiene un nivel bueno o Cuando se dispone de los elementos, recursos o cuando se realizan los procedimientos de manera parcial, entre otros. | Z5: 1
A6: 2 | B6: ¿Existe un esquema organizacional para la respuesta a emergencias con funciones y responsables asignados (Brigadas, Sistema Comando de Incidentes – SCI, entre otros) y se mantiene actualizado? | D6: X | F6: 0 | I6: 2 | J6: ¿Se cuenta con implementos básicos para la atención de heridos, tales como: camillas, botiquines, guantes, entre otros, de acuerdo con las necesidades de su Organización? | M6: X | N6: 0.5 | P6: 2 | Q6: ¿Se cuenta suministro de agua permanente? | T6: X | U6: 0.5 | X6: NO | Y6: Cuando no existe o tiene un nivel deficiente | Z6: 0
A7: 3 | B7: ¿Promueve activamente la participación de sus trabajadores en un programa de preparación para emergencias? | D7: X | F7: 0 | J7: Promedio Suministro | N7: =(+N5+N6)/2 -> 0.5 | O7: BUENO | P7: 3 | Q7: ¿Se cuenta con un programa de gestión de residuos? | T7: X | U7: 0.5 | X7: PARCIAL | Y7: Cuando la implementación no está terminada o tiene un nivel regular o Cuando se carece de los elementos, recursos o cuando no se realizan los procedimientos, entre otros | Z7: 0.5
A8: 4 | B8: ¿La estructura organizacional para la respuesta a emergencias garantiza la respuesta a los eventos que se puedan presentar tanto en los horarios laborales como en los no laborales? | D8: x | F8: 0 | J8: PUNTO A EVALUAR | K8: Respuesta | N8: CALIFICACION | O8: OBSERVACIONES | P8: 4 | Q8: ¿Se cuenta con servicio de comunicaciones internas? | T8: X | U8: 0.5
A9: 5 | B9: ¿Han establecido mecanismos de interacción con su entorno que faciliten dar respuesta apropiada a los eventos que se puedan presentar? (Comités de Ayuda Mutua –CAM, Mapa Comunitario de Riesgos, Sistemas de Alerta Temprana – SAT, etc.) | D9: X | F9: 0 | K9: SI | L9: NO | M9: PARCIAL | Q9: Promedio Servicios | U9: =(+U5+U6+U7+U8)/4 -> 0.5 | V9: BUENO
A10: 6 | B10: ¿Existen instrumentos para hacer inspecciones a las áreas para la identificación de condiciones inseguras que puedan generar emergencias? | C10: X | F10: 1 | J10: 2. Edificaciones | Q10: PUNTO A EVALUAR | R10: Respuesta | U10: CALIFICACION | V10: OBSERVACIONES
A11: 7 | B11: ¿Existe y se mantiene actualizado todos los componentes del Plan de Emergencias y Contingencias? | D11: X | F11: 0 | I11: 1 | J11: ¿El tipo de construcción es sismoresistente o cuenta con un refuerzo estructural? | M11: X | N11: 0.5 | R11: SI | S11: NO | T11: PARCIAL
B12: Promedio Gestion Organizacional | F12: =(F5+F6+F7+F8+F9+F10+F11)/7 -> 0.14285714 | G12: REGULAR | I12: 2 | J12: ¿Existen puertas y muros cortafuego, puertas antipánico, entre otras características de seguridad? | L12: X | N12: 0 | Q12: 2. Sistemas Alternos
B13: PUNTO A EVALUAR | C13: Respuesta | F13: CALIFICACION | G13: OBSERVACIONES | I13: 3 | J13: ¿Las escaleras de emergencia se encuentran en buen estado, poseen doble pasamano, señalización, antideslizantes, entre otras características de seguridad? | M13: X | N13: 0.5 | P13: 1 | Q13: ¿Se cuenta con sistemas redundantes para el suministro de agua (tanque de reserva de agua, pozos subterráneos, carrotanque, entre otros? | S13: X | U13: 0
C14: SI | D14: NO | E14: PARCIAL | I14: 4 | J14: ¿Están definidas las rutas de evacuación y salidas de emergencia, debidamente señalizadas y con iluminación alterna? | M14: X | N14: 0.5 | P14: 2 | Q14: ¿Se cuenta con sistemas redundantes para el suministro de energía (plantas eléctricas,acumuladores, paneles solares, entre otros? | S14: X | U14: 0
B15: 2. Capacitacion y Entrenamiento | I15: 5 | J15: ¿Se tienen identificados espacios para la ubicación de instalaciones de emergencias (puntos de encuentro, puestos de mando, módulos de estabilización de heridos, entre otros)? | L15: X | N15: 0 | P15: 3 | Q15: ¿Se cuenta con hidrantes internos y/o externos? | S15: X | U15: 0
A16: 1 | B16: ¿Se cuenta con un programa de capacitación en prevención y respuesta a emergencias? | C16: X | F16: 1 | I16: 6 | J16: ¿Las ventanas cuentan con película de seguridad? | L16: X | N16: 0 | Q16: Promedio Alternos | U16: =(+U13+U14+U15)/3 -> 0 | V16: MALO
A17: 2 | B17: ¿Todos los miembros de la organización se han capacitado de acuerdo al programa de capacitación en prevención y respuesta a emergencias? | D17: X | F17: 0 | I17: 7 | J17: ¿Se tienen asegurados o anclados enseres, gabinetes u objetos que puedan caer? | M17: X | N17: 0.5 | Q17: PUNTO A EVALUAR | R17: Respuesta | U17: CALIFICACION | V17: OBSERVACIONES
A18: 3 | B18: ¿Se cuenta con un programa de entrenamiento en respuesta a emergencias para todos los miembros de la organización? | E18: X | F18: 0.5 | J18: Promedio Edificaciones | N18: =(+N11+N12+N13+N14+N15+N16+N17)/7 -> 0.28571429 | O18: REGULAR | R18: SI | S18: NO | T18: PARCIAL
A19: 4 | B19: ¿Se cuenta con mecanismos de difusión en temas de prevención y respuesta a emergencias? | E19: X | F19: 0.5 | J19: PUNTO A EVALUAR | K19: Respuesta | N19: CALIFICACION | O19: OBSERVACIONES | Q19: 3. Recuperacion
B20: Promedio Capacitación y Entrenamiento | F20: =(+F16+F17+F18+F19)/4 -> 0.5 | G20: BUENO | K20: SI | L20: NO | M20: PARCIAL | P20: 1 | Q20: Se tienen identificados los procesos vitales para el funcionamiento de su organización? | R20: X | U20: 1
B21: PUNTO A EVALUAR | C21: Respuesta | F21: CALIFICACION | G21: OBSERVACIONES | J21: 3. Equipos | P21: 2 | Q21: Se cuenta con un plan de continuidad del negocio? | T21: X | U21: 0.5
C22: SI | D22: NO | E22: PARCIAL | I22: 1 | J22: ¿Se cuenta con sistemas de detección y/o monitoreo de la amenaza identificada? | M22: X | N22: 0.5 | P22: 3 | Q22: ¿Se cuenta con algún sistema de seguros para los integrantes de la organización? | T22: X | U22: 0.5
B23: 3. Caracterisiticas de Seguridad | I23: 2 | J23: ¿Se cuenta con algún sistema de alarma en caso de emergencia? | K23: X | N23: 1 | P23: 4 | Q23: ¿Se tienen aseguradas las edificaciones y los bienes en general para cada amenaza identificada? | S23: X | U23: 0
A24: 1 | B24: ¿Se ha identificado y clasificado el personal fijo y flotante en los diferentes horarios laborales y no laborales (menores de edad, adultos mayores, personas con discapacidad física)? | D24: X | F24: 0 | I24: 3 | J24: ¿Se cuenta con sistemas de control o mitigación de la amenaza identificada? | M24: X | N24: 0.5 | P24: 5 | Q24: ¿Se encuentra asegurada la información digital y análoga de la organización? | S24: X | U24: 0
A25: 2 | B25: ¿Se han contemplado acciones específicas teniendo en cuenta la clasificación de la población en la preparación y respuesta a emergencias? | D25: X | F25: 0 | I25: 4 | J25: ¿Se cuenta con un sistema de comunicaciones internas para la respuesta a emergencias? | M25: X | N25: 0.5 | Q25: Promedio Recuperacion | U25: =(+U20+U21+U22+U23+U24)/5 -> 0.4 | V25: REGULAR
A26: 3 | B26: ¿Se cuenta con elementos de protección suficientes y adecuados para el personal de la organización en sus actividades de rutina? | C26: X | F26: 1 | I26: 5 | J26: ¿Se cuenta con medios de transporte para el apoyo logístico en una emergencia? | M26: X | N26: 0.5 | Q26: SUMA TOTAL PROMEDIOS | U26: =+U25+U16+U9 -> 0.9 | V26: ALTA
A27: 4 | B27: ¿Se cuenta con elementos de protección personal para la respuesta a emergencias, de acuerdo con las amenazas identificadas y las necesidades de su Organización? | E27: X | F27: 0.5 | I27: 6 | J27: ¿Se cuenta con programa de mantenimiento preventivo y correctivo para los equipos de emergencia? | L27: X | N27: 0
A28: 5 | B28: ¿Se cuenta con un esquema de seguridad física? | D28: X | F28: 0 | J28: Promedio de Equipos | N28: =(+N22+N23+N24+N25+N26+N27)/6 -> 0.5 | O28: BUENO
B29: Promedio Características de Seguridad | F29: =(+F24+F25+F26+F27+F28)/5 -> 0.3 | G29: BUENO | J29: SUMA TOTAL PROMEDIOS | N29: =+N28+N18+N7 -> 1.2857143 | O29: MEDIA | X29: RANGO | Y29: INTERPRETACION | Z29: COLOR
B30: SUMA TOTAL PROMEDIOS | F30: =+F29+F20+F12 -> 0.94285714 | G30: ALTA | X30: 0.0 – 1.00 | Y30: ALTA | Z30: ROJO
X31: 1.01 – 2.00 | Y31: MEDIA | Z31: AMARILLO
X32: 2.01 – 3.00 | Y32: BAJA | Z32: VERDE

Sheet  EXPLOSION
B1: ANALISIS DE VULNERABILIDAD PERSONAS | J1: ANALISIS DE VULNERABILIDAD RECURSOS | Q1: ANALISIS DE VULNERABILIDAD DE PROCESOS | X1: Interpretación de la calificación para cada respuesta
B2: PUNTO A EVALUAR | C2: Respuesta | F2: CALIFICACIÓN | G2: OBSERVACIONES | J2: PUNTO A EVALUAR | K2: Respuesta | N2: CALIFICACION | O2: OBSERVACIONES | Q2: PUNTO A EVALUAR | R2: Respuesta | U2: CALIFICACION | V2: OBSERVACIONES | X2: CRITERIO DE RESPUESTA | Y2: INTERPRETACION | Z2: CALIFICACION
C3: SI | D3: NO | E3: PARCIAL | K3: SI | L3: NO | M3: PARCIAL | R3: SI | S3: NO | T3: PARCIAL
B4: 1. Gestion Organizacional | J4: 1. Suministro | Q4: 1. Servicios
A5: 1 | B5: ¿Existe una política general en Gestión del Riesgo donde se indican lineamientos de emergencias? | D5: X | F5: 0 | I5: 1 | J5: ¿Se cuenta con implementos básicos para la respuesta de acuerdo con la amenaza identificada? | K5: X | N5: 1 | P5: 1 | Q5: ¿Se cuenta suministro de energía permanente? | T5: X | U5: 0.5 | X5: SI | Y5: Cuando existe o tiene un nivel bueno o Cuando se dispone de los elementos, recursos o cuando se realizan los procedimientos de manera parcial, entre otros. | Z5: 1
A6: 2 | B6: ¿Existe un esquema organizacional para la respuesta a emergencias con funciones y responsables asignados (Brigadas, Sistema Comando de Incidentes – SCI, entre otros) y se mantiene actualizado? | D6: X | F6: 0 | I6: 2 | J6: ¿Se cuenta con implementos básicos para la atención de heridos, tales como: camillas, botiquines, guantes, entre otros, de acuerdo con las necesidades de su Organización? | M6: X | N6: 0.5 | P6: 2 | Q6: ¿Se cuenta suministro de agua permanente? | T6: X | U6: 0.5 | X6: NO | Y6: Cuando no existe o tiene un nivel deficiente | Z6: 0
A7: 3 | B7: ¿Promueve activamente la participación de sus trabajadores en un programa de preparación para emergencias? | D7: X | F7: 0 | J7: Promedio Suministro | N7: =(+N5+N6)/2 -> 0.75 | O7: BUENO | P7: 3 | Q7: ¿Se cuenta con un programa de gestión de residuos? | T7: X | U7: 0.5 | X7: PARCIAL | Y7: Cuando la implementación no está terminada o tiene un nivel regular o Cuando se carece de los elementos, recursos o cuando no se realizan los procedimientos, entre otros | Z7: 0.5
A8: 4 | B8: ¿La estructura organizacional para la respuesta a emergencias garantiza la respuesta a los eventos que se puedan presentar tanto en los horarios laborales como en los no laborales? | D8: x | F8: 0 | J8: PUNTO A EVALUAR | K8: Respuesta | N8: CALIFICACION | O8: OBSERVACIONES | P8: 4 | Q8: ¿Se cuenta con servicio de comunicaciones internas? | T8: X | U8: 0.5
A9: 5 | B9: ¿Han establecido mecanismos de interacción con su entorno que faciliten dar respuesta apropiada a los eventos que se puedan presentar? (Comités de Ayuda Mutua –CAM, Mapa Comunitario de Riesgos, Sistemas de Alerta Temprana – SAT, etc.) | D9: X | F9: 0 | K9: SI | L9: NO | M9: PARCIAL | Q9: Promedio Servicios | U9: =(+U5+U6+U7+U8)/4 -> 0.5 | V9: BUENO
A10: 6 | B10: ¿Existen instrumentos para hacer inspecciones a las áreas para la identificación de condiciones inseguras que puedan generar emergencias? | C10: X | F10: 1 | J10: 2. Edificaciones | Q10: PUNTO A EVALUAR | R10: Respuesta | U10: CALIFICACION | V10: OBSERVACIONES
A11: 7 | B11: ¿Existe y se mantiene actualizado todos los componentes del Plan de Emergencias y Contingencias? | D11: X | F11: 0 | I11: 1 | J11: ¿El tipo de construcción es sismoresistente o cuenta con un refuerzo estructural? | M11: X | N11: 0.5 | R11: SI | S11: NO | T11: PARCIAL
B12: Promedio Gestion Organizacional | F12: =(F5+F6+F7+F8+F9+F10+F11)/7 -> 0.14285714 | G12: REGULAR | I12: 2 | J12: ¿Existen puertas y muros cortafuego, puertas antipánico, entre otras características de seguridad? | L12: X | N12: 0 | Q12: 2. Sistemas Alternos
B13: PUNTO A EVALUAR | C13: Respuesta | F13: CALIFICACION | G13: OBSERVACIONES | I13: 3 | J13: ¿Las escaleras de emergencia se encuentran en buen estado, poseen doble pasamano, señalización, antideslizantes, entre otras características de seguridad? | M13: X | N13: 0.5 | P13: 1 | Q13: ¿Se cuenta con sistemas redundantes para el suministro de agua (tanque de reserva de agua, pozos subterráneos, carrotanque, entre otros? | S13: X | U13: 0
C14: SI | D14: NO | E14: PARCIAL | I14: 4 | J14: ¿Están definidas las rutas de evacuación y salidas de emergencia, debidamente señalizadas y con iluminación alterna? | M14: X | N14: 0.5 | P14: 2 | Q14: ¿Se cuenta con sistemas redundantes para el suministro de energía (plantas eléctricas,acumuladores, paneles solares, entre otros? | S14: X | U14: 0
B15: 2. Capacitacion y Entrenamiento | I15: 5 | J15: ¿Se tienen identificados espacios para la ubicación de instalaciones de emergencias (puntos de encuentro, puestos de mando, módulos de estabilización de heridos, entre otros)? | L15: X | N15: 0 | P15: 3 | Q15: ¿Se cuenta con hidrantes internos y/o externos? | S15: X | U15: 0
A16: 1 | B16: ¿Se cuenta con un programa de capacitación en prevención y respuesta a emergencias? | C16: X | F16: 1 | I16: 6 | J16: ¿Las ventanas cuentan con película de seguridad? | L16: X | N16: 0 | Q16: Promedio Alternos | U16: =(+U13+U14+U15)/3 -> 0 | V16: MALO
A17: 2 | B17: ¿Todos los miembros de la organización se han capacitado de acuerdo al programa de capacitación en prevención y respuesta a emergencias? | D17: X | F17: 0 | I17: 7 | J17: ¿Se tienen asegurados o anclados enseres, gabinetes u objetos que puedan caer? | M17: X | N17: 0.5 | Q17: PUNTO A EVALUAR | R17: Respuesta | U17: CALIFICACION | V17: OBSERVACIONES
A18: 3 | B18: ¿Se cuenta con un programa de entrenamiento en respuesta a emergencias para todos los miembros de la organización? | E18: X | F18: 0.5 | J18: Promedio Edificaciones | N18: =(+N11+N12+N13+N14+N15+N16+N17)/7 -> 0.28571429 | O18: REGULAR | R18: SI | S18: NO | T18: PARCIAL
A19: 4 | B19: ¿Se cuenta con mecanismos de difusión en temas de prevención y respuesta a emergencias? | E19: X | F19: 0.5 | J19: PUNTO A EVALUAR | K19: Respuesta | N19: CALIFICACION | O19: OBSERVACIONES | Q19: 3. Recuperacion
B20: Promedio Capacitación y Entrenamiento | F20: =(+F16+F17+F18+F19)/4 -> 0.5 | G20: BUENO | K20: SI | L20: NO | M20: PARCIAL | P20: 1 | Q20: Se tienen identificados los procesos vitales para el funcionamiento de su organización? | R20: X | U20: 1
B21: PUNTO A EVALUAR | C21: Respuesta | F21: CALIFICACION | G21: OBSERVACIONES | J21: 3. Equipos | P21: 2 | Q21: Se cuenta con un plan de continuidad del negocio? | T21: X | U21: 0.5
C22: SI | D22: NO | E22: PARCIAL | I22: 1 | J22: ¿Se cuenta con sistemas de detección y/o monitoreo de la amenaza identificada? | M22: X | N22: 0.5 | P22: 3 | Q22: ¿Se cuenta con algún sistema de seguros para los integrantes de la organización? | T22: X | U22: 0.5
B23: 3. Caracterisiticas de Seguridad | I23: 2 | J23: ¿Se cuenta con algún sistema de alarma en caso de emergencia? | L23: X | N23: 1 | P23: 4 | Q23: ¿Se tienen aseguradas las edificaciones y los bienes en general para cada amenaza identificada? | S23: X | U23: 0
A24: 1 | B24: ¿Se ha identificado y clasificado el personal fijo y flotante en los diferentes horarios laborales y no laborales (menores de edad, adultos mayores, personas con discapacidad física)? | D24: X | F24: 0 | I24: 3 | J24: ¿Se cuenta con sistemas de control o mitigación de la amenaza identificada? | K24: X | N24: 1 | P24: 5 | Q24: ¿Se encuentra asegurada la información digital y análoga de la organización? | S24: X | U24: 0
A25: 2 | B25: ¿Se han contemplado acciones específicas teniendo en cuenta la clasificación de la población en la preparación y respuesta a emergencias? | D25: X | F25: 0 | I25: 4 | J25: ¿Se cuenta con un sistema de comunicaciones internas para la respuesta a emergencias? | K25: X | N25: 1 | Q25: Promedio Recuperacion | U25: =(+U20+U21+U22+U23+U24)/5 -> 0.4 | V25: REGULAR
A26: 3 | B26: ¿Se cuenta con elementos de protección suficientes y adecuados para el personal de la organización en sus actividades de rutina? | C26: X | F26: 1 | I26: 5 | J26: ¿Se cuenta con medios de transporte para el apoyo logístico en una emergencia? | L26: X | N26: 0 | Q26: SUMA TOTAL PROMEDIOS | U26: =+U25+U16+U9 -> 0.9 | V26: ALTA
A27: 4 | B27: ¿Se cuenta con elementos de protección personal para la respuesta a emergencias, de acuerdo con las amenazas identificadas y las necesidades de su Organización? | C27: X | F27: 1 | I27: 6 | J27: ¿Se cuenta con programa de mantenimiento preventivo y correctivo para los equipos de emergencia? | L27: X | N27: 0
A28: 5 | B28: ¿Se cuenta con un esquema de seguridad física? | D28: X | F28: 0 | J28: Promedio de Equipos | N28: =(+N22+N23+N24+N25+N26+N27)/6 -> 0.58333333 | O28: BUENO
B29: Promedio Características de Seguridad | F29: =(+F24+F25+F26+F27+F28)/5 -> 0.4 | G29: BUENO | J29: SUMA TOTAL PROMEDIOS | N29: =+N28+N18+N7 -> 1.6190476 | O29: MEDIA | X29: RANGO | Y29: INTERPRETACION | Z29: COLOR
B30: SUMA TOTAL PROMEDIOS | F30: =+F29+F20+F12 -> 1.0428571 | G30: MEDIA | X30: 0.0 – 1.00 | Y30: ALTA | Z30: ROJO
X31: 1.01 – 2.00 | Y31: MEDIA | Z31: AMARILLO
X32: 2.01 – 3.00 | Y32: BAJA | Z32: VERDE

Sheet cons. analis. de riesgo
B2: ANALISIS DE AMENAZA | E2: ANALISIS DE VULNERABILIDAD | T2: NIVEL DE RIESGO
E3: PERSONAS | J3: RECURSOS | O3: SISTEMAS Y PROCESOS
B4: AMENAZA | C4: CALIFICACION | D4: COLOR ROMBO | E4: 1. GESTION ORGANIZACIONAL | F4: 2. CAPACITACION Y ENTRENAMIENTO | G4: 3. CARACTERISTICAS DE SEGURIDAD | H4: TOTAL VULNERABILIDAD DE PERSONAS | I4: COLOR ROMBO DE PERSONAS | J4: 1. SUMINISTRO | K4: 2. EDIFICACIONES | L4: 3. EQUIPOS | M4: TOTAL VULNERABILIDAD DE RECURSOS | N4: COLOR ROMBO DE RECURSOS | O4: 1. SERVICIOS | P4: 2. SISTEMAS ALTERNOS | Q4: 3. RECUPERACION | R4: TOTAL VULNERABILIDAD DE SISTEMAS Y PROCESOS | S4: COLOR ROMBO SISTEMAS Y PROCESOS | T4: DIAMANTE DE RIESGO | U4: INTERPRETACION
B5: SISMO, TERREMOTO | C5: PROBABLE | E5: =+'SISMO-TERREM '!F12 -> 0.071428571 | F5: =+'SISMO-TERREM '!$F$20 -> 0.5 | G5: =+'SISMO-TERREM '!$F$29 -> 0.3 | H5: =+E5+F5+G5 -> 0.87142857 | J5: =+'SISMO-TERREM '!$N$7 -> 0.5 | K5: =+'SISMO-TERREM '!$N$18 -> 0.21428571 | L5: =+'SISMO-TERREM '!$N$28 -> 0.16666667 | M5: =+SUM(J5:L5) -> 0.88095238 | O5: =+'SISMO-TERREM '!$U$9 -> 0.625 | P5: =+'SISMO-TERREM '!$U$16 -> 0 | Q5: =+'SISMO-TERREM '!$U$25 -> 0.4 | R5: =+SUM(O5:Q5) -> 1.025 | U5: MEDIO
B6: INUNDACIÓN | C6: POSIBLE | E6: =+' INUNDACION'!F12 -> 0.071428571 | F6: =+' INUNDACION'!$F$20 -> 0.5 | G6: =+' INUNDACION'!$F$29 -> 0.4 | H6: =+E6+F6+G6 -> 0.97142857 | J6: =+' INUNDACION'!$N$7 -> 0.5 | K6: =+' INUNDACION'!$N$18 -> 0.28571429 | L6: =+' INUNDACION'!$N$28 -> 0.5 | M6: =+SUM(J6:L6) -> 1.2857143 | O6: =+' INUNDACION'!$U$9 -> 0.625 | P6: =+' INUNDACION'!$U$16 -> 0 | Q6: =+' INUNDACION'!$U$25 -> 0.4 | R6: =+SUM(O6:Q6) -> 1.025 | U6: MEDIO
B7: HURTO | C7: PROBABLE | E7: =+' HURTO'!F12 -> 0.071428571 | F7: =+' HURTO'!$F$20 -> 0.5 | G7: =+' HURTO'!$F$29 -> 0.2 | H7: =+E7+F7+G7 -> 0.77142857 | J7: =+' HURTO'!$N$7 -> 0.5 | K7: =+' HURTO'!$N$18 -> 0.28571429 | L7: =+' HURTO'!$N$28 -> 0.33333333 | M7: =+SUM(J7:L7) -> 1.1190476 | O7: =+' HURTO'!$U$9 -> 0.5 | P7: =+' HURTO'!$U$16 -> 0 | Q7: =+' HURTO'!$U$25 -> 0.4 | R7: =+SUM(O7:Q7) -> 0.9 | U7: MEDIO
B8: INCENDIO | C8: PROBABLE | E8: =+' INCENDIO'!F12 -> 0.14285714 | F8: =+' INCENDIO'!$F$20 -> 0.5 | G8: =+' INCENDIO'!$F$29 -> 0.4 | H8: =+E8+F8+G8 -> 1.0428571 | J8: =+' HURTO'!$N$7 -> 0.5 | K8: =+' INCENDIO'!$N$18 -> 0.28571429 | L8: =+' INCENDIO'!$N$28 -> 0.58333333 | M8: =+SUM(J8:L8) -> 1.3690476 | O8: =+' INCENDIO'!$U$9 -> 0.5 | P8: =+' INCENDIO'!$U$16 -> 0 | Q8: =+' INCENDIO'!$U$25 -> 0.4 | R8: =+SUM(O8:Q8) -> 0.9 | U8: MEDIO
B9: FUGA DE GAS | C9: POSIBLE | E9: =+'FUGA DE GAS'!F12 -> 0.14285714 | F9: =+'FUGA DE GAS'!$F$20 -> 0.5 | G9: =+'FUGA DE GAS'!$F$29 -> 0.4 | H9: =+E9+F9+G9 -> 1.0428571 | J9: =+'FUGA DE GAS'!$N$7 -> 0.75 | K9: =+'FUGA DE GAS'!$N$18 -> 0.28571429 | L9: =+'FUGA DE GAS'!$N$28 -> 0.58333333 | M9: =+SUM(J9:L9) -> 1.6190476 | O9: =+'FUGA DE GAS'!$U$9 -> 0.5 | P9: =+'FUGA DE GAS'!$U$16 -> 0 | Q9: =+'FUGA DE GAS'!$U$25 -> 0.4 | R9: =+SUM(O9:Q9) -> 0.9 | U9: MEDIO
B10: ATENTADOS TERRORISTAS ASONADAS | C10: PROBABLE | E10: =+' ATENTADOS'!F12 -> 0.071428571 | F10: =+' ATENTADOS'!$F$20 -> 0.5 | G10: =+' ATENTADOS'!$F$29 -> 0.2 | H10: =+E10+F10+G10 -> 0.77142857 | J10: =+' ATENTADOS'!$N$7 -> 0.5 | K10: =+' ATENTADOS'!$N$18 -> 0.28571429 | L10: =+' ATENTADOS'!$N$28 -> 0.33333333 | M10: =+SUM(J10:L10) -> 1.1190476 | O10: =+' ATENTADOS'!$U$9 -> 0.5 | P10: =+' ATENTADOS'!$U$16 -> 0 | Q10: =+' ATENTADOS'!$U$25 -> 0.4 | R10: =+SUM(O10:Q10) -> 0.9 | U10: MEDIO
B11: EXPLOSIÓN | C11: POSIBLE | E11: =+' EXPLOSION'!F12 -> 0.14285714 | F11: =+' EXPLOSION'!$F$20 -> 0.5 | G11: =+' EXPLOSION'!$F$29 -> 0.4 | H11: =+E11+F11+G11 -> 1.0428571 | J11: =+' EXPLOSION'!$N$7 -> 0.75 | K11: =+' EXPLOSION'!$N$18 -> 0.28571429 | L11: =+' EXPLOSION'!$N$28 -> 0.58333333 | M11: =+SUM(J11:L11) -> 1.6190476 | O11: =+' EXPLOSION'!$U$9 -> 0.5 | P11: =+' EXPLOSION'!$U$16 -> 0 | Q11: =+' EXPLOSION'!$U$25 -> 0.4 | R11: =+SUM(O11:Q11) -> 0.9 | U11: MEDIO
B12: ACCIDENTES | C12: PROBABLE | E12: =+' ACCIDENTES'!F12 -> 0.14285714 | F12: =+' ACCIDENTES'!$F$20 -> 0.5 | G12: =+' ACCIDENTES'!$F$29 -> 0.3 | H12: =+E12+F12+G12 -> 0.94285714 | J12: =+' ACCIDENTES'!$N$7 -> 0.5 | K12: =+' ACCIDENTES'!$N$18 -> 0.28571429 | L12: =+' ACCIDENTES'!$N$28 -> 0.5 | M12: =+SUM(J12:L12) -> 1.2857143 | O12: =+' ACCIDENTES'!$U$9 -> 0.5 | P12: =+' ACCIDENTES'!$U$16 -> 0 | Q12: =+' ACCIDENTES'!$U$25 -> 0.4 | R12: =+SUM(O12:Q12) -> 0.9 | U12: MEDIO
B13: AMENAZA ANTROPICA DESCOMPOSICION DE ALIMENTOS | C13: POSIBLE | E13: =+'AMENAZA ANTROPICA'!F12 -> 0.14285714 | F13: =+'AMENAZA ANTROPICA'!F20 -> 0.5 | G13: =+'AMENAZA ANTROPICA'!F29 -> 0.4 | H13: =+E13+F13+G13 -> 1.0428571 | J13: =+'AMENAZA ANTROPICA'!$N$7 -> 0.75 | K13: =+'AMENAZA ANTROPICA'!$N$18 -> 0.28571429 | L13: =+'AMENAZA ANTROPICA'!$N$28 -> 0.58333333 | M13: =+SUM(J13:L13) -> 1.6190476 | O13: =+'AMENAZA ANTROPICA'!$U$9 -> 0.5 | P13: =+'AMENAZA ANTROPICA'!$U$16 -> 0 | Q13: =+'AMENAZA ANTROPICA'!$U$25 -> 0.4 | R13: =+SUM(O13:Q13) -> 0.9 | U13: MEDIO
C15: RANGO | D15: INTERPRETACION | E15: COLOR
C16: 0.0 – 1.00 | D16: ALTA | E16: ROJO
C17: 1.01 – 2.00 | D17: MEDIA | E17: AMARILLO
C18: 2.01 – 3.00 | D18: BAJA | E18: VERDE

Sheet priorizacion de amenazas
A1: PRIORIZACION DE AMENAZAS Y MEDIDAS DE INTERVENCION
A2: AMENAZA | B2: MEDIDA DE INTEVENCION | C2: TIPO DE MEDIDA
C3: PREVENCION | D3: MITIGACION
A4: SISMO, TERREMOTO
A5: INUNDACIÓN | C5: X
A6: HURTO
A7: INCENDIO
A8: FUGA DE GAS
A9: ATENTADOS TERRORISTAS ASONADAS
A10: EXPLOSIÓN
A11: ACCIDENTES | C11: X
A12: AMENAZA ANTROPICA DESCOMPOSICION DE ALIMENTOS | C12: X
