Workbook
Name nancy: [1]Tabla!$A$3:$C$38
Name nancy: [2]Tabla!$A$3:$C$38

Sheet PROGRAMA
C1: PROGRAMA DE VIGILANCIA EPIDEMIOLOGICA AUDITIVO | U1: CODIGO: SGI-SSTQ-FOR-049
C3: VERSION: 001 | N3: FECHA: 2 de Agosto de 2021
B4: INTRODUCCIÓN
B5: Los programas de vigilancia Epidemiológica a nivel auditivo, son una herramienta indispensable para conocer los procesos generadores de ruido, que pueden afectar negativamente la salud y el bienestar de los trabajadores, los cuales, son expuestos cotidianamente a diferentes ruidos por periodos largos o continuos, presentes en los lugares de trabajo o repentinos, que alteran y disminuyen la capacidad auditiva del oído interno y/o nervio auditivo, siendo la enfermedad ocupacional más frecuente a nivel mundial. Por lo cual, la importancia de prevenir, controlar y mitigar todo lo relacionado a la exposición al ruido.
B6: OBJETIVO
B8: Implementar actividades con el fin de evitar enfermedades laborales por el riesgo AUDITIVO en la ejecucion de las actividades. Generar las medidas de intervención y prevención que se van a establecer en el sistema de vigilancia epidemiológico con el fin de disminuir las alteraciones de salud en la audición de los trabajadores expuestos.
A10: PLANEAR | B10: INDICADORES DE GESTION
B11: Cobertura: | N11: Meta
B12: # trabajadores expuestos que participan en la actividades de riesgo AUDITIVO en el periodo/ # total de trabajadores que deberian participar en las actividades de riesgo AUDITIVO en el periodo*100% | N12: Que el 95% de los trabajadores expuestos participen en las actividades enfocadas a minimizar el riesgo AUDITIVO
B14: Cumplimiento | N14: Meta
B15: # de actividades ejecutadas / # actividades programadas*100 | N15: Cumplir con el 90% de las actividades programadas
B18: Prevalencia: | N18: Meta
B19: (Número de casos nuevos y antiguos de enfermedad laboral en el periodo «Z» / Promedio de trabajadores en el periodo «Z») * 100.000 | N19: Mantener en cero (0) la presencia de casos nuevos y antiguos por riesgo AUDITIVO
B21: Incidencia: | N21: Meta
B22: (Número de casos nuevos de enfermedad laboral en el periodo «Z» / Promedio de trabajadores en el periodo «Z»)* 100.000 | N22: Mantener en cero (0) la presencia de casos nuevos por riesgo AUDITIVO
B23: periodo de medicion: 2022 el periodo de medicion sera semestral
B24: CRONOGRAMA DE ACTIVIDADES
A25: HACER | B25: ACTIVIDADES/MES | C25: ESTADO | D25: Enero | E25: Febrero | F25: Marzo | G25: Abril | H25: Mayo | I25: Junio | J25: Julio | K25: Agosto | L25: Septiembre | M25: Octubre | N25: Noviembre | O25: Diciembre | P25: TOTAL P | Q25: TOTAL E | R25: %CUM | S25: RESPONSABLES | T25: RECURSOS | U25: REGISTROS
B26: Ejecución de exámenes ocupacionales de acuqerdo con profesiograma y exposición al riesgo AUDITIVO y seguimiento a recomendaciones por persona | C26: PROG | H26: 1 | I26: 1 | J26: 1 | K26: 1 | L26: 1 | M26: 1 | N26: 1 | O26: 1 | P26: =SUM(D26:O26) -> 8 | R26: =(Q27/P26)*100% -> 1 | S26: Gestión humana y SSTQ | T26: Humanos, tecnologicos, economicos y de infraestrcutira | U26: Registros de asistencia y de entrega de EPP
C27: EJEC | H27: 1 | I27: 1 | J27: 1 | K27: 1 | L27: 1 | M27: 1 | N27: 1 | O27: 1 | Q27: =SUM(D27:O27) -> 8
C28: NO TRABAJADORES ASISTIERON | P28: 31 | Q28: 30 | R28: =+Q28/P28 -> 0.96774194
B29: Ejecución de estudio higienico de SONOMETRIA en áreas identificadas de riesgo licuadora industrial y campana extractora para identificar riesgos y definir e implementar controles ambientales | C29: PROG | H29: 1 | P29: 28 | R29: =(Q30/P29)*100% -> 1 | S29: SSTQ
C30: EJEC | H30: 1 | Q30: 28
C31: NO TRABAJADORES ASISTIERON | P31: 2 | Q31: 2 | R31: =+Q31/P31 -> 1
B32: Implementación de controles y acciones recomendadas del estudio higienico e Inspección de condiciones de trabajo | C32: PROG | H32: 1 | I32: 1 | J32: 1 | K32: 1 | L32: 1 | M32: 1 | N32: 1 | O32: 1 | P32: 30 | R32: =(Q33/P32)*100% -> 1 | S32: SSTQ
C33: EJEC | H33: 1 | I33: 1 | J33: 1 | K33: 1 | L33: 1 | M33: 1 | N33: 1 | O33: 1 | Q33: 30
C34: NO TRABAJADORES ASISTIERON/ACTIVIDADES REALIZADAS | P34: 30 | Q34: 31 | R34: =+Q34/P34 -> 1.0333333
B35: Riesgos asociados a la labor / Matriz de Identificacion de peligros, riesgos prioritarios y programas de gestión incluyendo el AUDITIVO | C35: PROG | L35: 1 | P35: =SUM(D35:O35) -> 1 | R35: =(Q36/P35)*100% -> 1 | S35: SSTQ
C36: EJEC | L36: 1 | Q36: =SUM(D36:O36) -> 1
C37: NO TRABAJADORES ASISTIERON/ACTIVIDADES REALIZADAS | L37: 31 | P37: 30 | Q37: =+SUM(D37:O37) -> 31 | R37: =+Q37/P37 -> 1.0333333
B38: Seguimiento de pve y replanteamiento de acciones | C38: PROG | K38: 1 | O38: 1 | P38: =SUM(D38:O38) -> 2 | R38: =(Q39/P38)*100% -> 1 | S38: SSTQ, GERENCIA
C39: EJEC | K39: 1 | O39: 1 | Q39: =SUM(D39:O39) -> 2
C40: NO TRABAJADORES ASISTIERON/ACTIVIDADES REALIZADAS | K40: 2 | O40: 2 | P40: 4 | Q40: =+SUM(D40:O40) -> 4 | R40: =+Q40/P40 -> 1
B41: TOTAL DE ACTIVIDADES | C41: PROG | H41: =H38+H26+H32+H29 -> 3 | I41: =I38+I26+I32+I29 -> 2 | J41: =J38+J26+J32+J29 -> 2 | K41: =K38+K26+K32+K29 -> 3 | L41: =L38+L26+L32+L29 -> 2 | M41: =M38+M26+M32+M29 -> 2 | N41: =N38+N26+N32+N29 -> 2 | O41: =O38+O26+O32+O29 -> 3 | ... Q41: =Q38+Q26+Q32+Q29 -> 0
C42: EJEC | H42: =H39+H27+H33+H30 -> 3 | I42: =I39+I27+I33+I30 -> 2 | J42: =J39+J27+J33+J30 -> 2 | K42: =K39+K27+K33+K30 -> 3 | L42: =L39+L27+L33+L30 -> 2 | M42: =M39+M27+M33+M30 -> 2 | N42: =N39+N27+N33+N30 -> 2 | O42: =O39+O27+O33+O30 -> 3 | ... Q42: =Q39+Q27+Q33+Q30 -> 68 | R42: =+Q42/P42 -> #DIV/0! | S42: % de cumplimiento
C43: % CUMP | H43: =H42/H41 -> 1 | I43: =I42/I41 -> 1 | J43: =J42/J41 -> 1 | K43: =K42/K41 -> 1 | L43: =L42/L41 -> 1 | M43: =M42/M41 -> 1 | N43: =N42/N41 -> 1 | O43: =O42/O41 -> 1 | P43: =+Q42/P41 -> 1
B44: CONVENCIONES
B45: PROGRAMADO | C45: 1 | D45: Actividad programada
B46: EJECUTADO | C46: 1 | D46: Actividad ejecutada
B47: ANALISIS DE TENDENCIAS
...

Sheet ANALISIS COBERTURA
D1: PROGRAMA DE VIGILANCIA EPIDEMIOLOGICO AUDITIVO | H1: CODIGO: SGI-SSTQ-FOR-049
D3: VERSION: 001 | F3: FECHA: 2 de Agosto de 2021
B5: COBERTURA
B6: No | C6: Actividades | F6: CANTIDAD DE TRABAJADORES EXPUESTOS | G6: CANTIDAD DE TRABAJADORES QUE PARTICIPARON | H6: % COBERTURA
B7: 1 | C7: =+PROGRAMA!B26 -> Ejecución de exámenes ocupacionales de acuqerdo con profesiograma y exposición al riesgo AUDITIVO y seguimiento a recomendaciones por persona | F7: =+PROGRAMA!P28 -> 31 | G7: =+PROGRAMA!Q28 -> 30 | H7: =G7/F7 -> 0.96774194
B8: 2 | C8: =+PROGRAMA!B29 -> Ejecución de estudio higienico de SONOMETRIA en áreas identificadas de riesgo licuadora industrial y campana extractora para identificar riesgos y definir e implementar controles ambientales | F8: =+PROGRAMA!P31 -> 2 | G8: =+PROGRAMA!Q31 -> 2 | H8: =G8/F8 -> 1
B9: 3 | C9: =+PROGRAMA!B32 -> Implementación de controles y acciones recomendadas del estudio higienico e Inspección de condiciones de trabajo | F9: =+PROGRAMA!P34 -> 30 | G9: =+PROGRAMA!Q34 -> 31 | H9: =G9/F9 -> 1.0333333
B10: 4 | C10: =+PROGRAMA!B35 -> Riesgos asociados a la labor / Matriz de Identificacion de peligros, riesgos prioritarios y programas de gestión incluyendo el AUDITIVO | F10: =+PROGRAMA!P37 -> 30 | G10: =+PROGRAMA!Q37 -> 31 | H10: =G10/F10 -> 1.0333333
B11: 5 | C11: =+PROGRAMA!B38 -> Seguimiento de pve y replanteamiento de acciones | F11: =+PROGRAMA!P40 -> 4 | G11: =+PROGRAMA!Q40 -> 4 | H11: =G11/F11 -> 1
G12: % DE CUMPLIMIENTO | H12: =AVERAGE(H7:H11) -> 1.0068817
B13: ANALISIS DE TENDENCIAS
B31: ANALISIS DE COBERTURA: Se da cumplimiento a la cobertura definida de acuerdo a los trabajadores expuestos al tipo de riesgo y a la actividad planteada, sin embargo serecomienda una capacitación esepcifica en riesgo auditivo y uso de epp en áreas identificadas de riesgo alto especialmente
B35: Analisis y reformulacion de actividades del programa: Se requiere continuar con el seguimiento especifico de casos en recomendación
A40: ACTUAR
B41: No | C41: ACTIVIDAD | E41: FECHA DE PROGRAMACION | G41: FECHA DE EJECUCION | H41: ABIERTA
B46: OBSERVACIONES | D46: No aplica plan de acción frente a la cobertura.

Sheet INCIDENCIA Y PREVALENCIA
E1: PROGRAMA DE VIGILANCIA EPIDEMIOLOGICO AUDITIVO | S1: CODIGO: SGI-SSTQ-FOR-049
E3: VERSION: 001 | M3: FECHA: 2 de Agosto de 2021
B5: % INCIDENCIA TOTAL DEL PERSONAL
B6: PERIODO | D6: CASOS NUEVO | G6: No. TRABAJADORES | H6: %incidencia por mes general | K6: ANALSISIS DE TENDENCIA DE CUMPLIMIENTO | S6: ACCIONES DE MEJORA
B7: ENERO | D7: 0 | G7: 30 | H7: =+D7/G7 -> 0 | K7: No se presentaron casos | S7: No aplica continuar con actividades programadas
B8: FEBRERO | D8: 0 | G8: 30 | H8: =+D8/G8 -> 0
B9: MARZO | D9: 0 | G9: 30 | H9: =+D9/G9 -> 0
B10: ABRIL | D10: 0 | G10: 30 | H10: =+D10/G10 -> 0
B11: MAYO | D11: 0 | G11: 30 | H11: =+D11/G11 -> 0
B12: JUNIO | D12: 0 | G12: 30 | H12: =+D12/G12 -> 0
B13: JULIO | D13: 0 | G13: 30 | H13: =+D13/G13 -> 0 | K13: No se presentaron casos | S13: No aplica continuar con actividades programadas
B14: AGOSTO | D14: 0 | G14: 30 | H14: =+D14/G14 -> 0
B15: SEPTIEMBRE | D15: 0 | G15: 30 | H15: =+D15/G15 -> 0
B16: OCTUBRE | D16: 0 | G16: 30 | H16: =+D16/G16 -> 0
B17: NOVIEMBRE | D17: 0 | G17: 30 | H17: =+D17/G17 -> 0
B18: DICIEMBRE | D18: 0 | G18: 30 | H18: =+D18/G18 -> 0
B19: TOTALES | D19: =+SUM(D7:F18) -> 0 | G19: =+AVERAGEA(G7:G18) -> 30 | H19: =+D19/G19 -> 0 | K19: % DE CUMPLIMIENTO
G20: RESULTADO | H20: META
B21: % INCIDENCIA AÑO ANTERIOR | G21: 0 | H21: 0 | K21: 1
B22: % INCIDENCIA I TRIMESTRE | G22: 0 | H22: 0 | K22: 1
B23: % INCIDENCIA II TRIMESTE | G23: 0 | H23: 0 | K23: 1
B24: % INCIDENCIA III TRIMESTRE | G24: 0 | H24: 0 | K24: 1
B25: % INCIDENCIA IV TRIMESTRE | G25: 0 | H25: 0 | K25: 1
B35: % PREVALENCIA TOTAL DEL PERSONAL
B36: PERIODO | D36: CASOS ANTIGUOS | E36: CASOS NUEVO | G36: No. TRABAJADORES | H36: %incidencia por mes general | K36: ANALSISIS DE TENDENCIA DE CUMPLIMIENTO | S36: ACCIONES DE MEJORA
B37: ENERO | D37: 0 | E37: 0 | G37: 30 | H37: =+(D37+E37)/G37 -> 0 | K37: No se presentaron casos | S37: No aplica continuar con actividades programadas
B38: FEBRERO | D38: 0 | E38: 0 | G38: 30 | H38: =+(D38+E38)/G38 -> 0
B39: MARZO | D39: 0 | E39: 0 | G39: 30 | H39: =+(D39+E39)/G39 -> 0
B40: ABRIL | D40: 0 | E40: 0 | G40: 30 | H40: =+(D40+E40)/G40 -> 0
B41: MAYO | D41: 0 | E41: 0 | G41: 30 | H41: =+(D41+E41)/G41 -> 0
B42: JUNIO | D42: 0 | E42: 0 | G42: 30 | H42: =+(D42+E42)/G42 -> 0
B43: JULIO | D43: 0 | E43: 0 | G43: 30 | H43: =+(D43+E43)/G43 -> 0 | K43: No se presentaron casos | S43: No aplica continuar con actividades programadas
B44: AGOSTO | D44: 0 | E44: 0 | G44: 30 | H44: =+(D44+E44)/G44 -> 0
B45: SEPTIEMBRE | D45: 0 | E45: 0 | G45: 30 | H45: =+(D45+E45)/G45 -> 0
B46: OCTUBRE | D46: 0 | E46: 0 | G46: 30 | H46: =+(D46+E46)/G46 -> 0
B47: NOVIEMBRE | D47: 0 | E47: 0 | G47: 30 | H47: =+(D47+E47)/G47 -> 0
B48: DICIEMBRE | D48: 0 | E48: 0 | G48: 30 | H48: =+(D48+E48)/G48 -> 0
B49: TOTALES | D49: =+SUM(D37:D48) -> 0 | E49: =+SUM(E37:E48) -> 0 | G49: =+AVERAGEA(G37:G48) -> 30 | H49: =+(D49+E49)/G49 -> 0 | K49: % DE CUMPLIMIENTO
G50: RESULTADO | H50: META
B51: % PREVALENCIA AÑO ANTERIOR | G51: 0 | H51: 0 | K51: 1
...
