Workbook

Sheet TOTAL HORAS AL AÑO 
B1: HORAS HOMBRE TRABAJADAS | D1: Código:
B2: Versión: 001 | C2: Fecha: Agosto 2022 | D2: SGI- ADM-GH-FOR- 006
A4: MES | B4: CANTIDAD
A5: ENERO | B5: =+ENERO!K21 -> 0
A6: FEBRERO | B6: =+FEBRERO!K21 -> 144
A7: MARZO | B7: =+MARZO!K21 -> 186.5
A8: ABRIL | B8: =ABRIL!$K$21 -> 0
A9: MAYO | B9: =MAYO!$K$21 -> 0
A10: JUNIO | B10: =JUNIO!$K$21 -> 0
A11: JULIO | B11: =JULIO!$K$21 -> 0
A12: AGOSTO | B12: =AGOSTO!$K$21 -> 0
A13: SEPTIEMBRE | B13: =SEPTIEMBRE!$K$21 -> 0
A14: OCTUBRE | B14: =OCTUBRE!$K$21 -> 0
A15: NOVIEMBRE | B15: =NOVIEMBRE!$K$21 -> 0
A16: DICIEMBRE | B16: =DICIEMBRE!$K$21 -> 0
A17: Total | B17: =SUM(B5:B16) -> 330.5

Sheet ENERO
D1: HORAS HOMBRE TRABAJADAS | AK1: Código:
D2: Versión: 001 | V2: Fecha: Agosto 2022 | AK2: SGI- ADM-GH-FOR- 006
A4: NOMBRE DEL TRABAJADOR | B4: No. IDENTIFICACIÓN | C4: CARGO | D4: HORAS TRABAJADAS POR DÍA | K4: TOTAL HORAS SEMANA | M4: HORAS TRABAJADAS POR DÍA | T4: TOTAL HORAS SEMANA | V4: HORAS TRABAJADAS POR DÍA | AC4: TOTAL HORAS SEMANA | AE4: HORAS TRABAJADAS POR DÍA | AL4: TOTAL HORAS SEMANA | AM4: HORAS TRABAJADAS POR DÍA | AT4: TOTAL HORAS SEMANA
H5: 1 | I5: 2 | J5: 3 | M5: 4 | N5: 5 | O5: 6 | P5: 7 | Q5: 8 | R5: 9 | S5: 10 | V5: 11 | W5: 12 | X5: 13 | Y5: 14 | Z5: 15 | AA5: 16 | AB5: 17 | AE5: 18 | AF5: 19 | AG5: 20 | AH5: 21 | AI5: 22 | AJ5: 23 | AK5: 24 | AM5: 25 | AN5: 26 | AO5: 27 | AP5: 28 | AQ5: 29 | AR5: 30 | AS5: 31
D6: L | E6: M | F6: M | G6: J | H6: V | I6: S | J6: D | M6: L | N6: M | O6: M | P6: J | Q6: V | R6: S | S6: D | V6: L | W6: M | X6: M | Y6: J | Z6: V | AA6: S | AB6: D | AE6: L | AF6: M | AG6: M | AH6: J | AI6: V | AJ6: S | AK6: D | AM6: L | AN6: M | AO6: M | AP6: J | AQ6: V | AR6: S | AS6: D
K7: =SUM(D7:J7) -> 0 | T7: =SUM(M7:S7) -> 0 | AC7: =SUM(V7:AB7) -> 0 | AL7: =SUM(AE7:AK7) -> 0 | AT7: =SUM(AM7:AS7) -> 0
K8: =SUM(D8:J8) -> 0 | T8: =SUM(M8:S8) -> 0 | AC8: =SUM(V8:AB8) -> 0 | AL8: =SUM(AE8:AK8) -> 0 | AT8: =SUM(AM8:AS8) -> 0
K9: =SUM(D9:J9) -> 0 | T9: =SUM(M9:S9) -> 0 | AC9: =SUM(V9:AB9) -> 0 | AL9: =SUM(AE9:AK9) -> 0 | AT9: =SUM(AM9:AS9) -> 0
K10: =SUM(D10:J10) -> 0 | T10: =SUM(M10:S10) -> 0 | AC10: =SUM(V10:AB10) -> 0 | AL10: =SUM(AE10:AK10) -> 0 | AT10: =SUM(AM10:AS10) -> 0
K11: =SUM(D11:J11) -> 0 | T11: =SUM(M11:S11) -> 0 | AC11: =SUM(V11:AB11) -> 0 | AL11: =SUM(AE11:AK11) -> 0 | AT11: =SUM(AM11:AS11) -> 0
K12: =SUM(D12:J12) -> 0 | T12: =SUM(M12:S12) -> 0 | AC12: =SUM(V12:AB12) -> 0 | AL12: =SUM(AE12:AK12) -> 0 | AT12: =SUM(AM12:AS12) -> 0
K13: =SUM(D13:J13) -> 0 | T13: =SUM(M13:S13) -> 0 | AC13: =SUM(V13:AB13) -> 0 | AL13: =SUM(AE13:AK13) -> 0 | AT13: =SUM(AM13:AS13) -> 0
K14: =SUM(D14:J14) -> 0 | T14: =SUM(M14:S14) -> 0 | AC14: =SUM(V14:AB14) -> 0 | AL14: =SUM(AE14:AK14) -> 0 | AT14: =SUM(AM14:AS14) -> 0
K15: =SUM(D15:J15) -> 0 | T15: =SUM(M15:S15) -> 0 | AC15: =SUM(V15:AB15) -> 0 | AL15: =SUM(AE15:AK15) -> 0 | AT15: =SUM(AM15:AS15) -> 0
K16: =SUM(D16:J16) -> 0 | T16: =SUM(M16:S16) -> 0 | AC16: =SUM(V16:AB16) -> 0 | AL16: =SUM(AE16:AK16) -> 0 | AT16: =SUM(AM16:AS16) -> 0
K17: =SUM(D17:J17) -> 0 | T17: =SUM(M17:S17) -> 0 | AC17: =SUM(V17:AB17) -> 0 | AL17: =SUM(AE17:AK17) -> 0 | AT17: =SUM(AM17:AS17) -> 0
K18: =SUM(D18:J18) -> 0 | T18: =SUM(M18:S18) -> 0 | AC18: =SUM(V18:AB18) -> 0 | AL18: =SUM(AE18:AK18) -> 0 | AT18: =SUM(AM18:AS18) -> 0
A20: TOTAL HORAS SEMANAL | K20: =SUM(K7:K18) -> 0 | M20: TOTAL HORAS SEMANAL | T20: =SUM(T7:T18) -> 0 | V20: TOTAL HORAS SEMANAL | AC20: =SUM(AC7:AC18) -> 0 | AE20: TOTAL HORAS SEMANAL | AL20: =SUM(AL7:AL18) -> 0 | AM20: TOTAL HORAS SEMANAL | AT20: =SUM(AT7:AT18) -> 0
A21: TOTAL HORAS MENSUAL | K21: =K20+T20+AC20+AL20 -> 0

Sheet FEBRERO
D1: HORAS HOMBRE TRABAJADAS | AG1: Código:
D2: Versión: 001 | R2: Fecha: Agosto 2022 | AG2: SGI- ADM-GH-FOR- 006
A4: NOMBRE DEL TRABAJADOR | B4: No. IDENTIFICACIÓN | C4: CARGO | D4: HORAS TRABAJADAS POR DÍA | K4: TOTAL HORAS SEMANA | M4: HORAS TRABAJADAS POR DÍA | T4: TOTAL HORAS SEMANA | V4: HORAS TRABAJADAS POR DÍA | AC4: TOTAL HORAS SEMANA | AE4: HORAS TRABAJADAS POR DÍA | AL4: TOTAL HORAS SEMANA
D5: 1 | E5: 2 | F5: 3 | G5: 4 | H5: 5 | I5: 6 | J5: 7 | M5: 8 | N5: 9 | O5: 10 | P5: 11 | Q5: 12 | R5: 13 | S5: 14 | V5: 15 | W5: 16 | X5: 17 | Y5: 18 | Z5: 19 | AA5: 20 | AB5: 21 | AE5: 22 | AF5: 23 | AG5: 24 | AH5: 25 | AI5: 26 | AJ5: 27 | AK5: 28
D6: L | E6: M | F6: M | G6: J | H6: V | I6: S | J6: D | M6: L | N6: M | O6: M | P6: J | Q6: V | R6: S | S6: D | V6: L | W6: M | X6: M | Y6: J | Z6: V | AA6: S | AB6: D | AE6: L | AF6: M | AG6: M | AH6: J | AI6: V | AJ6: S | AK6: D
A7: YANETH LOZADA | B7: 35264033 | C7: CONTROL PROYECTOS | K7: =SUM(D7:J7) -> 0 | M7: 8.5 | N7: 8.5 | O7: 8.5 | P7: 8.5 | Q7: 8.5 | R7: 5.5 | T7: =SUM(M7:S7) -> 48 | V7: 8.5 | W7: 8.5 | X7: 8.5 | Y7: 8.5 | Z7: 8.5 | AA7: 5.5 | AC7: =SUM(V7:AB7) -> 48 | AE7: 8.5 | AF7: 8.5 | AG7: 8.5 | AH7: 8.5 | AI7: 8.5 | AJ7: 5.5 | AL7: =SUM(AE7:AK7) -> 48
K8: =SUM(D8:J8) -> 0 | T8: =SUM(M8:S8) -> 0 | AC8: =SUM(V8:AB8) -> 0 | AL8: =SUM(AE8:AK8) -> 0
K9: =SUM(D9:J9) -> 0 | T9: =SUM(M9:S9) -> 0 | AC9: =SUM(V9:AB9) -> 0 | AL9: =SUM(AE9:AK9) -> 0
K10: =SUM(D10:J10) -> 0 | T10: =SUM(M10:S10) -> 0 | AC10: =SUM(V10:AB10) -> 0 | AL10: =SUM(AE10:AK10) -> 0
K11: =SUM(D11:J11) -> 0 | T11: =SUM(M11:S11) -> 0 | AC11: =SUM(V11:AB11) -> 0 | AL11: =SUM(AE11:AK11) -> 0
K12: =SUM(D12:J12) -> 0 | T12: =SUM(M12:S12) -> 0 | AC12: =SUM(V12:AB12) -> 0 | AL12: =SUM(AE12:AK12) -> 0
K13: =SUM(D13:J13) -> 0 | T13: =SUM(M13:S13) -> 0 | AC13: =SUM(V13:AB13) -> 0 | AL13: =SUM(AE13:AK13) -> 0
K14: =SUM(D14:J14) -> 0 | T14: =SUM(M14:S14) -> 0 | AC14: =SUM(V14:AB14) -> 0 | AL14: =SUM(AE14:AK14) -> 0
K15: =SUM(D15:J15) -> 0 | T15: =SUM(M15:S15) -> 0 | AC15: =SUM(V15:AB15) -> 0 | AL15: =SUM(AE15:AK15) -> 0
K16: =SUM(D16:J16) -> 0 | T16: =SUM(M16:S16) -> 0 | AC16: =SUM(V16:AB16) -> 0 | AL16: =SUM(AE16:AK16) -> 0
K17: =SUM(D17:J17) -> 0 | T17: =SUM(M17:S17) -> 0 | AC17: =SUM(V17:AB17) -> 0 | AL17: =SUM(AE17:AK17) -> 0
K18: =SUM(D18:J18) -> 0 | T18: =SUM(M18:S18) -> 0 | AC18: =SUM(V18:AB18) -> 0 | AL18: =SUM(AE18:AK18) -> 0
A20: TOTAL HORAS SEMANAL | K20: =SUM(K7:K18) -> 0 | M20: TOTAL HORAS SEMANAL | T20: =SUM(T7:T18) -> 48 | V20: TOTAL HORAS SEMANAL | AC20: =SUM(AC7:AC18) -> 48 | AE20: TOTAL HORAS SEMANAL | AL20: =SUM(AL7:AL18) -> 48
A21: TOTAL HORAS MENSUAL | K21: =K20+T20+AC20+AL20 -> 144

Sheet MARZO
D1: HORAS HOMBRE TRABAJADAS | AO1: Código:
D2: Versión: 001 | U2: Fecha: Agosto 2022 | AO2: SGI- ADM-GH-FOR- 006
A4: NOMBRE DEL TRABAJADOR | B4: No. IDENTIFICACIÓN | C4: CARGO | D4: HORAS TRABAJADAS POR DÍA | K4: TOTAL HORAS SEMANA | M4: HORAS TRABAJADAS POR DÍA | T4: TOTAL HORAS SEMANA | V4: HORAS TRABAJADAS POR DÍA | AC4: TOTAL HORAS SEMANA | AE4: HORAS TRABAJADAS POR DÍA | AL4: TOTAL HORAS SEMANA | AN4: HORAS TRABAJADAS POR DÍA | AU4: TOTAL HORAS SEMANA
D5: 1 | E5: 2 | F5: 3 | G5: 4 | H5: 5 | I5: 6 | J5: 7 | M5: 8 | N5: 9 | O5: 10 | P5: 11 | Q5: 12 | R5: 13 | S5: 14 | V5: 15 | W5: 16 | X5: 17 | Y5: 18 | Z5: 19 | AA5: 20 | AB5: 21 | AE5: 22 | AF5: 23 | AG5: 24 | AH5: 25 | AI5: 26 | AJ5: 27 | AK5: 28 | AN5: 29 | AO5: 30 | AP5: 31
D6: L | E6: M | F6: M | G6: J | H6: V | I6: S | J6: D | M6: L | N6: M | O6: M | P6: J | Q6: V | R6: S | S6: D | V6: L | W6: M | X6: M | Y6: J | Z6: V | AA6: S | AB6: D | AE6: L | AF6: M | AG6: M | AH6: J | AI6: V | AJ6: S | AK6: D | AN6: L | AO6: M | AP6: M | AQ6: J | AR6: V | AS6: S | AT6: D
A7: YANETH LOZADA | B7: 35264033 | C7: CONTROL PROYECTOS | D7: 8.5 | E7: 8.5 | F7: 8.5 | G7: 8.5 | H7: 8.5 | I7: 5.5 | K7: =SUM(D7:J7) -> 48 | M7: 8.5 | N7: 8.5 | O7: 8.5 | P7: 8.5 | Q7: 8.5 | R7: 5.5 | T7: =SUM(M7:S7) -> 48 | V7: 8.5 | W7: 8.5 | X7: 8.5 | Y7: 8.5 | Z7: 8.5 | AA7: 5.5 | AC7: =SUM(V7:AB7) -> 48 | AE7: 8.5 | AF7: 8.5 | AG7: 8.5 | AH7: 8.5 | AI7: 8.5 | AL7: =SUM(AE7:AK7) -> 42.5 | AU7: =SUM(AN7:AT7) -> 0
K8: =SUM(D8:J8) -> 0 | T8: =SUM(M8:S8) -> 0 | AC8: =SUM(V8:AB8) -> 0 | AL8: =SUM(AE8:AK8) -> 0 | AU8: =SUM(AN8:AT8) -> 0
K9: =SUM(D9:J9) -> 0 | T9: =SUM(M9:S9) -> 0 | AC9: =SUM(V9:AB9) -> 0 | AL9: =SUM(AE9:AK9) -> 0 | AU9: =SUM(AN9:AT9) -> 0
K10: =SUM(D10:J10) -> 0 | T10: =SUM(M10:S10) -> 0 | AC10: =SUM(V10:AB10) -> 0 | AL10: =SUM(AE10:AK10) -> 0 | AU10: =SUM(AN10:AT10) -> 0
K11: =SUM(D11:J11) -> 0 | T11: =SUM(M11:S11) -> 0 | AC11: =SUM(V11:AB11) -> 0 | AL11: =SUM(AE11:AK11) -> 0 | AU11: =SUM(AN11:AT11) -> 0
K12: =SUM(D12:J12) -> 0 | T12: =SUM(M12:S12) -> 0 | AC12: =SUM(V12:AB12) -> 0 | AL12: =SUM(AE12:AK12) -> 0 | AU12: =SUM(AN12:AT12) -> 0
K13: =SUM(D13:J13) -> 0 | T13: =SUM(M13:S13) -> 0 | AC13: =SUM(V13:AB13) -> 0 | AL13: =SUM(AE13:AK13) -> 0 | AU13: =SUM(AN13:AT13) -> 0
K14: =SUM(D14:J14) -> 0 | T14: =SUM(M14:S14) -> 0 | AC14: =SUM(V14:AB14) -> 0 | AL14: =SUM(AE14:AK14) -> 0 | AU14: =SUM(AN14:AT14) -> 0
K15: =SUM(D15:J15) -> 0 | T15: =SUM(M15:S15) -> 0 | AC15: =SUM(V15:AB15) -> 0 | AL15: =SUM(AE15:AK15) -> 0 | AU15: =SUM(AN15:AT15) -> 0
K16: =SUM(D16:J16) -> 0 | T16: =SUM(M16:S16) -> 0 | AC16: =SUM(V16:AB16) -> 0 | AL16: =SUM(AE16:AK16) -> 0 | AU16: =SUM(AN16:AT16) -> 0
K17: =SUM(D17:J17) -> 0 | T17: =SUM(M17:S17) -> 0 | AC17: =SUM(V17:AB17) -> 0 | AL17: =SUM(AE17:AK17) -> 0 | AU17: =SUM(AN17:AT17) -> 0
K18: =SUM(D18:J18) -> 0 | T18: =SUM(M18:S18) -> 0 | AC18: =SUM(V18:AB18) -> 0 | AL18: =SUM(AE18:AK18) -> 0 | AU18: =SUM(AN18:AT18) -> 0
A20: TOTAL HORAS SEMANAL | K20: =SUM(K7:K18) -> 48 | M20: TOTAL HORAS SEMANAL | T20: =SUM(T7:T18) -> 48 | V20: TOTAL HORAS SEMANAL | AC20: =SUM(AC7:AC18) -> 48 | AE20: TOTAL HORAS SEMANAL | AL20: =SUM(AL7:AL18) -> 42.5 | AN20: TOTAL HORAS SEMANAL | AU20: =SUM(AU7:AU18) -> 0
A21: TOTAL HORAS MENSUAL | K21: =K20+T20+AC20+AL20+AU20 -> 186.5

Sheet ABRIL
D1: HORAS HOMBRE TRABAJADAS | AO1: Código:
D2: Versión: 001 | U2: Fecha: Agosto 2022 | AO2: SGI- ADM-GH-FOR- 006
A4: NOMBRE DEL TRABAJADOR | B4: No. IDENTIFICACIÓN | C4: CARGO | D4: HORAS TRABAJADAS POR DÍA | K4: TOTAL HORAS SEMANA | M4: HORAS TRABAJADAS POR DÍA | T4: TOTAL HORAS SEMANA | V4: HORAS TRABAJADAS POR DÍA | AC4: TOTAL HORAS SEMANA | AE4: HORAS TRABAJADAS POR DÍA | AL4: TOTAL HORAS SEMANA | AN4: HORAS TRABAJADAS POR DÍA | AU4: TOTAL HORAS SEMANA
G5: 1 | H5: 2 | I5: 3 | J5: 4 | M5: 5 | N5: 6 | O5: 7 | P5: 8 | Q5: 9 | R5: 10 | S5: 11 | V5: 12 | W5: 13 | X5: 14 | Y5: 15 | Z5: 16 | AA5: 17 | AB5: 18 | AE5: 19 | AF5: 20 | AG5: 21 | AH5: 22 | AI5: 23 | AJ5: 24 | AK5: 25 | AN5: 26 | AO5: 27 | AP5: 28 | AQ5: 29 | AR5: 30
G6: J | H6: V | I6: S | J6: D | M6: L | N6: M | O6: M | P6: J | Q6: V | R6: S | S6: D | V6: L | W6: M | X6: M | Y6: J | Z6: V | AA6: S | AB6: D | AE6: L | AF6: M | AG6: M | AH6: J | AI6: V | AJ6: S | AK6: D | AN6: L | AO6: M | AP6: M | AQ6: J | AR6: V
A7: YANETH LOZADA | B7: 35264033 | C7: CONTROL PROYECTOS | K7: =SUM(D7:J7) -> 0 | T7: =SUM(M7:S7) -> 0 | AC7: =SUM(V7:AB7) -> 0 | AL7: =SUM(AE7:AK7) -> 0 | AU7: =SUM(AN7:AT7) -> 0
K8: =SUM(D8:J8) -> 0 | T8: =SUM(M8:S8) -> 0 | AC8: =SUM(V8:AB8) -> 0 | AL8: =SUM(AE8:AK8) -> 0 | AU8: =SUM(AN8:AT8) -> 0
K9: =SUM(D9:J9) -> 0 | T9: =SUM(M9:S9) -> 0 | AC9: =SUM(V9:AB9) -> 0 | AL9: =SUM(AE9:AK9) -> 0 | AU9: =SUM(AN9:AT9) -> 0
K10: =SUM(D10:J10) -> 0 | T10: =SUM(M10:S10) -> 0 | AC10: =SUM(V10:AB10) -> 0 | AL10: =SUM(AE10:AK10) -> 0 | AU10: =SUM(AN10:AT10) -> 0
K11: =SUM(D11:J11) -> 0 | T11: =SUM(M11:S11) -> 0 | AC11: =SUM(V11:AB11) -> 0 | AL11: =SUM(AE11:AK11) -> 0 | AU11: =SUM(AN11:AT11) -> 0
K12: =SUM(D12:J12) -> 0 | T12: =SUM(M12:S12) -> 0 | AC12: =SUM(V12:AB12) -> 0 | AL12: =SUM(AE12:AK12) -> 0 | AU12: =SUM(AN12:AT12) -> 0
K13: =SUM(D13:J13) -> 0 | T13: =SUM(M13:S13) -> 0 | AC13: =SUM(V13:AB13) -> 0 | AL13: =SUM(AE13:AK13) -> 0 | AU13: =SUM(AN13:AT13) -> 0
K14: =SUM(D14:J14) -> 0 | T14: =SUM(M14:S14) -> 0 | AC14: =SUM(V14:AB14) -> 0 | AL14: =SUM(AE14:AK14) -> 0 | AU14: =SUM(AN14:AT14) -> 0
K15: =SUM(D15:J15) -> 0 | T15: =SUM(M15:S15) -> 0 | AC15: =SUM(V15:AB15) -> 0 | AL15: =SUM(AE15:AK15) -> 0 | AU15: =SUM(AN15:AT15) -> 0
K16: =SUM(D16:J16) -> 0 | T16: =SUM(M16:S16) -> 0 | AC16: =SUM(V16:AB16) -> 0 | AL16: =SUM(AE16:AK16) -> 0 | AU16: =SUM(AN16:AT16) -> 0
K17: =SUM(D17:J17) -> 0 | T17: =SUM(M17:S17) -> 0 | AC17: =SUM(V17:AB17) -> 0 | AL17: =SUM(AE17:AK17) -> 0 | AU17: =SUM(AN17:AT17) -> 0
K18: =SUM(D18:J18) -> 0 | T18: =SUM(M18:S18) -> 0 | AC18: =SUM(V18:AB18) -> 0 | AL18: =SUM(AE18:AK18) -> 0 | AU18: =SUM(AN18:AT18) -> 0
A20: TOTAL HORAS SEMANAL | K20: =SUM(K7:K18) -> 0 | M20: TOTAL HORAS SEMANAL | T20: =SUM(T7:T18) -> 0 | V20: TOTAL HORAS SEMANAL | AC20: =SUM(AC7:AC18) -> 0 | AE20: TOTAL HORAS SEMANAL | AL20: =SUM(AL7:AL18) -> 0 | AN20: TOTAL HORAS SEMANAL | AU20: =SUM(AU7:AU18) -> 0
A21: TOTAL HORAS MENSUAL | K21: =K20+T20+AC20+AL20+AU20 -> 0

Sheet MAYO
D1: HORAS HOMBRE TRABAJADAS | AY1: Código:
D2: Versión: 001 | Z2: Fecha: Agosto 2022 | AY2: SGI- ADM-GH-FOR- 006
A4: NOMBRE DEL TRABAJADOR | B4: No. IDENTIFICACIÓN | C4: CARGO | D4: HORAS TRABAJADAS POR DÍA | K4: TOTAL HORAS SEMANA | M4: HORAS TRABAJADAS POR DÍA | T4: TOTAL HORAS SEMANA | V4: HORAS TRABAJADAS POR DÍA | AC4: TOTAL HORAS SEMANA | AE4: HORAS TRABAJADAS POR DÍA | AL4: TOTAL HORAS SEMANA | AN4: HORAS TRABAJADAS POR DÍA | AU4: TOTAL HORAS SEMANA | AW4: HORAS TRABAJADAS POR DÍA | BD4: TOTAL HORAS SEMANA
I5: 1 | J5: 2 | M5: 3 | N5: 4 | O5: 5 | P5: 6 | Q5: 7 | R5: 8 | S5: 9 | V5: 10 | W5: 11 | X5: 12 | Y5: 13 | Z5: 14 | AA5: 15 | AB5: 16 | AE5: 17 | AF5: 18 | AG5: 19 | AH5: 20 | AI5: 21 | AJ5: 22 | AK5: 23 | AN5: 24 | AO5: 25 | AP5: 26 | AQ5: 27 | AR5: 28 | AS5: 29 | AT5: 30 | AW5: 24 | AX5: 25 | AY5: 26 | AZ5: 27 | BA5: 28 | BB5: 29 | BC5: 30
I6: S | J6: D | M6: L | N6: M | O6: M | P6: J | Q6: V | R6: S | S6: D | V6: L | W6: M | X6: M | Y6: J | Z6: V | AA6: S | AB6: D | AE6: L | AF6: M | AG6: M | AH6: J | AI6: V | AJ6: S | AK6: D | AN6: L | AO6: M | AP6: M | AQ6: J | AR6: V | AS6: S | AT6: D | AW6: L | AX6: M | AY6: M | AZ6: J | BA6: V | BB6: S | BC6: D
A7: YANETH LOZADA | B7: 35264033 | C7: CONTROL PROYECTOS | K7: =SUM(D7:J7) -> 0 | T7: =SUM(M7:S7) -> 0 | AC7: =SUM(V7:AB7) -> 0 | AL7: =SUM(AE7:AK7) -> 0 | AU7: =SUM(AN7:AT7) -> 0 | BD7: =SUM(AW7:BC7) -> 0
K8: =SUM(D8:J8) -> 0 | T8: =SUM(M8:S8) -> 0 | AC8: =SUM(V8:AB8) -> 0 | AL8: =SUM(AE8:AK8) -> 0 | AU8: =SUM(AN8:AT8) -> 0 | BD8: =SUM(AW8:BC8) -> 0
K9: =SUM(D9:J9) -> 0 | T9: =SUM(M9:S9) -> 0 | AC9: =SUM(V9:AB9) -> 0 | AL9: =SUM(AE9:AK9) -> 0 | AU9: =SUM(AN9:AT9) -> 0 | BD9: =SUM(AW9:BC9) -> 0
K10: =SUM(D10:J10) -> 0 | T10: =SUM(M10:S10) -> 0 | AC10: =SUM(V10:AB10) -> 0 | AL10: =SUM(AE10:AK10) -> 0 | AU10: =SUM(AN10:AT10) -> 0 | BD10: =SUM(AW10:BC10) -> 0
K11: =SUM(D11:J11) -> 0 | T11: =SUM(M11:S11) -> 0 | AC11: =SUM(V11:AB11) -> 0 | AL11: =SUM(AE11:AK11) -> 0 | AU11: =SUM(AN11:AT11) -> 0 | BD11: =SUM(AW11:BC11) -> 0
K12: =SUM(D12:J12) -> 0 | T12: =SUM(M12:S12) -> 0 | AC12: =SUM(V12:AB12) -> 0 | AL12: =SUM(AE12:AK12) -> 0 | AU12: =SUM(AN12:AT12) -> 0 | BD12: =SUM(AW12:BC12) -> 0
K13: =SUM(D13:J13) -> 0 | T13: =SUM(M13:S13) -> 0 | AC13: =SUM(V13:AB13) -> 0 | AL13: =SUM(AE13:AK13) -> 0 | AU13: =SUM(AN13:AT13) -> 0 | BD13: =SUM(AW13:BC13) -> 0
K14: =SUM(D14:J14) -> 0 | T14: =SUM(M14:S14) -> 0 | AC14: =SUM(V14:AB14) -> 0 | AL14: =SUM(AE14:AK14) -> 0 | AU14: =SUM(AN14:AT14) -> 0 | BD14: =SUM(AW14:BC14) -> 0
K15: =SUM(D15:J15) -> 0 | T15: =SUM(M15:S15) -> 0 | AC15: =SUM(V15:AB15) -> 0 | AL15: =SUM(AE15:AK15) -> 0 | AU15: =SUM(AN15:AT15) -> 0 | BD15: =SUM(AW15:BC15) -> 0
K16: =SUM(D16:J16) -> 0 | T16: =SUM(M16:S16) -> 0 | AC16: =SUM(V16:AB16) -> 0 | AL16: =SUM(AE16:AK16) -> 0 | AU16: =SUM(AN16:AT16) -> 0 | BD16: =SUM(AW16:BC16) -> 0
K17: =SUM(D17:J17) -> 0 | T17: =SUM(M17:S17) -> 0 | AC17: =SUM(V17:AB17) -> 0 | AL17: =SUM(AE17:AK17) -> 0 | AU17: =SUM(AN17:AT17) -> 0 | BD17: =SUM(AW17:BC17) -> 0
K18: =SUM(D18:J18) -> 0 | T18: =SUM(M18:S18) -> 0 | AC18: =SUM(V18:AB18) -> 0 | AL18: =SUM(AE18:AK18) -> 0 | AU18: =SUM(AN18:AT18) -> 0 | BD18: =SUM(AW18:BC18) -> 0
A20: TOTAL HORAS SEMANAL | K20: =SUM(K7:K18) -> 0 | M20: TOTAL HORAS SEMANAL | T20: =SUM(T7:T18) -> 0 | V20: TOTAL HORAS SEMANAL | AC20: =SUM(AC7:AC18) -> 0 | AE20: TOTAL HORAS SEMANAL | AL20: =SUM(AL7:AL18) -> 0 | AN20: TOTAL HORAS SEMANAL | AU20: =SUM(AU7:AU18) -> 0 | AW20: TOTAL HORAS SEMANAL | BD20: =SUM(BD7:BD18) -> 0
A21: TOTAL HORAS MENSUAL | K21: =K20+T20+AC20+AL20+AU20+BD20 -> 0

Sheet JUNIO
D1: HORAS HOMBRE TRABAJADAS | AY1: Código:
D2: Versión: 001 | Z2: Fecha: Agosto 2022 | AY2: SGI- ADM-GH-FOR- 006
A4: NOMBRE DEL TRABAJADOR | B4: No. IDENTIFICACIÓN | C4: CARGO | D4: HORAS TRABAJADAS POR DÍA | K4: TOTAL HORAS SEMANA | M4: HORAS TRABAJADAS POR DÍA | T4: TOTAL HORAS SEMANA | V4: HORAS TRABAJADAS POR DÍA | AC4: TOTAL HORAS SEMANA | AE4: HORAS TRABAJADAS POR DÍA | AL4: TOTAL HORAS SEMANA | AN4: HORAS TRABAJADAS POR DÍA | AU4: TOTAL HORAS SEMANA | AW4: HORAS TRABAJADAS POR DÍA | BD4: TOTAL HORAS SEMANA
E5: 1 | F5: 2 | G5: 3 | H5: 4 | I5: 5 | J5: 6 | M5: 7 | N5: 8 | O5: 9 | P5: 10 | Q5: 11 | R5: 12 | S5: 13 | V5: 14 | W5: 15 | X5: 16 | Y5: 17 | Z5: 18 | AA5: 19 | AB5: 20 | AE5: 21 | AF5: 22 | AG5: 23 | AH5: 24 | AI5: 25 | AJ5: 26 | AK5: 27 | AN5: 28 | AO5: 29 | AP5: 30
E6: M | F6: M | G6: J | H6: V | I6: S | J6: D | M6: L | N6: M | O6: M | P6: J | Q6: V | R6: S | S6: D | V6: L | W6: M | X6: M | Y6: J | Z6: V | AA6: S | AB6: D | AE6: L | AF6: M | AG6: M | AH6: J | AI6: V | AJ6: S | AK6: D | AN6: L | AO6: M | AP6: M
A7: YANETH LOZADA | B7: 35264033 | C7: CONTROL PROYECTOS | K7: =SUM(D7:J7) -> 0 | T7: =SUM(M7:S7) -> 0 | AC7: =SUM(V7:AB7) -> 0 | AL7: =SUM(AE7:AK7) -> 0 | AU7: =SUM(AN7:AT7) -> 0 | BD7: =SUM(AW7:BC7) -> 0
K8: =SUM(D8:J8) -> 0 | T8: =SUM(M8:S8) -> 0 | AC8: =SUM(V8:AB8) -> 0 | AL8: =SUM(AE8:AK8) -> 0 | AU8: =SUM(AN8:AT8) -> 0 | BD8: =SUM(AW8:BC8) -> 0
K9: =SUM(D9:J9) -> 0 | T9: =SUM(M9:S9) -> 0 | AC9: =SUM(V9:AB9) -> 0 | AL9: =SUM(AE9:AK9) -> 0 | AU9: =SUM(AN9:AT9) -> 0 | BD9: =SUM(AW9:BC9) -> 0
K10: =SUM(D10:J10) -> 0 | T10: =SUM(M10:S10) -> 0 | AC10: =SUM(V10:AB10) -> 0 | AL10: =SUM(AE10:AK10) -> 0 | AU10: =SUM(AN10:AT10) -> 0 | BD10: =SUM(AW10:BC10) -> 0
K11: =SUM(D11:J11) -> 0 | T11: =SUM(M11:S11) -> 0 | AC11: =SUM(V11:AB11) -> 0 | AL11: =SUM(AE11:AK11) -> 0 | AU11: =SUM(AN11:AT11) -> 0 | BD11: =SUM(AW11:BC11) -> 0
K12: =SUM(D12:J12) -> 0 | T12: =SUM(M12:S12) -> 0 | AC12: =SUM(V12:AB12) -> 0 | AL12: =SUM(AE12:AK12) -> 0 | AU12: =SUM(AN12:AT12) -> 0 | BD12: =SUM(AW12:BC12) -> 0
K13: =SUM(D13:J13) -> 0 | T13: =SUM(M13:S13) -> 0 | AC13: =SUM(V13:AB13) -> 0 | AL13: =SUM(AE13:AK13) -> 0 | AU13: =SUM(AN13:AT13) -> 0 | BD13: =SUM(AW13:BC13) -> 0
K14: =SUM(D14:J14) -> 0 | T14: =SUM(M14:S14) -> 0 | AC14: =SUM(V14:AB14) -> 0 | AL14: =SUM(AE14:AK14) -> 0 | AU14: =SUM(AN14:AT14) -> 0 | BD14: =SUM(AW14:BC14) -> 0
K15: =SUM(D15:J15) -> 0 | T15: =SUM(M15:S15) -> 0 | AC15: =SUM(V15:AB15) -> 0 | AL15: =SUM(AE15:AK15) -> 0 | AU15: =SUM(AN15:AT15) -> 0 | BD15: =SUM(AW15:BC15) -> 0
K16: =SUM(D16:J16) -> 0 | T16: =SUM(M16:S16) -> 0 | AC16: =SUM(V16:AB16) -> 0 | AL16: =SUM(AE16:AK16) -> 0 | AU16: =SUM(AN16:AT16) -> 0 | BD16: =SUM(AW16:BC16) -> 0
K17: =SUM(D17:J17) -> 0 | T17: =SUM(M17:S17) -> 0 | AC17: =SUM(V17:AB17) -> 0 | AL17: =SUM(AE17:AK17) -> 0 | AU17: =SUM(AN17:AT17) -> 0 | BD17: =SUM(AW17:BC17) -> 0
K18: =SUM(D18:J18) -> 0 | T18: =SUM(M18:S18) -> 0 | AC18: =SUM(V18:AB18) -> 0 | AL18: =SUM(AE18:AK18) -> 0 | AU18: =SUM(AN18:AT18) -> 0 | BD18: =SUM(AW18:BC18) -> 0
A20: TOTAL HORAS SEMANAL | K20: =SUM(K7:K18) -> 0 | M20: TOTAL HORAS SEMANAL | T20: =SUM(T7:T18) -> 0 | V20: TOTAL HORAS SEMANAL | AC20: =SUM(AC7:AC18) -> 0 | AE20: TOTAL HORAS SEMANAL | AL20: =SUM(AL7:AL18) -> 0 | AN20: TOTAL HORAS SEMANAL | AU20: =SUM(AU7:AU18) -> 0 | AW20: TOTAL HORAS SEMANAL | BD20: =SUM(BD7:BD18) -> 0
A21: TOTAL HORAS MENSUAL | K21: =K20+T20+AC20+AL20+AU20+BD20 -> 0

Sheet JULIO
D1: HORAS HOMBRE TRABAJADAS | AY1: Código:
D2: Versión: 001 | Z2: Fecha: Agosto 2022 | AY2: SGI- ADM-GH-FOR- 006
A4: NOMBRE DEL TRABAJADOR | B4: No. IDENTIFICACIÓN | C4: CARGO | D4: HORAS TRABAJADAS POR DÍA | K4: TOTAL HORAS SEMANA | M4: HORAS TRABAJADAS POR DÍA | T4: TOTAL HORAS SEMANA | V4: HORAS TRABAJADAS POR DÍA | AC4: TOTAL HORAS SEMANA | AE4: HORAS TRABAJADAS POR DÍA | AL4: TOTAL HORAS SEMANA | AN4: HORAS TRABAJADAS POR DÍA | AU4: TOTAL HORAS SEMANA | AW4: HORAS TRABAJADAS POR DÍA | BD4: TOTAL HORAS SEMANA
G5: 1 | H5: 2 | I5: 3 | J5: 4 | M5: 5 | N5: 6 | O5: 7 | P5: 8 | Q5: 9 | R5: 10 | S5: 11 | V5: 12 | W5: 13 | X5: 14 | Y5: 15 | Z5: 16 | AA5: 17 | AB5: 18 | AE5: 19 | AF5: 20 | AG5: 21 | AH5: 22 | AI5: 23 | AJ5: 24 | AK5: 25 | AN5: 26 | AO5: 27 | AP5: 28 | AQ5: 29 | AR5: 30 | AS5: 31
E6: M | F6: M | G6: J | H6: V | I6: S | J6: D | M6: L | N6: M | O6: M | P6: J | Q6: V | R6: S | S6: D | V6: L | W6: M | X6: M | Y6: J | Z6: V | AA6: S | AB6: D | AE6: L | AF6: M | AG6: M | AH6: J | AI6: V | AJ6: S | AK6: D | AN6: L | AO6: M | AP6: M | AQ6: J | AR6: V | AS6: S
A7: YANETH LOZADA | B7: 35264033 | C7: CONTROL PROYECTOS | K7: =SUM(D7:J7) -> 0 | T7: =SUM(M7:S7) -> 0 | AC7: =SUM(V7:AB7) -> 0 | AL7: =SUM(AE7:AK7) -> 0 | AU7: =SUM(AN7:AT7) -> 0 | BD7: =SUM(AW7:BC7) -> 0
K8: =SUM(D8:J8) -> 0 | T8: =SUM(M8:S8) -> 0 | AC8: =SUM(V8:AB8) -> 0 | AL8: =SUM(AE8:AK8) -> 0 | AU8: =SUM(AN8:AT8) -> 0 | BD8: =SUM(AW8:BC8) -> 0
K9: =SUM(D9:J9) -> 0 | T9: =SUM(M9:S9) -> 0 | AC9: =SUM(V9:AB9) -> 0 | AL9: =SUM(AE9:AK9) -> 0 | AU9: =SUM(AN9:AT9) -> 0 | BD9: =SUM(AW9:BC9) -> 0
K10: =SUM(D10:J10) -> 0 | T10: =SUM(M10:S10) -> 0 | AC10: =SUM(V10:AB10) -> 0 | AL10: =SUM(AE10:AK10) -> 0 | AU10: =SUM(AN10:AT10) -> 0 | BD10: =SUM(AW10:BC10) -> 0
K11: =SUM(D11:J11) -> 0 | T11: =SUM(M11:S11) -> 0 | AC11: =SUM(V11:AB11) -> 0 | AL11: =SUM(AE11:AK11) -> 0 | AU11: =SUM(AN11:AT11) -> 0 | BD11: =SUM(AW11:BC11) -> 0
K12: =SUM(D12:J12) -> 0 | T12: =SUM(M12:S12) -> 0 | AC12: =SUM(V12:AB12) -> 0 | AL12: =SUM(AE12:AK12) -> 0 | AU12: =SUM(AN12:AT12) -> 0 | BD12: =SUM(AW12:BC12) -> 0
K13: =SUM(D13:J13) -> 0 | T13: =SUM(M13:S13) -> 0 | AC13: =SUM(V13:AB13) -> 0 | AL13: =SUM(AE13:AK13) -> 0 | AU13: =SUM(AN13:AT13) -> 0 | BD13: =SUM(AW13:BC13) -> 0
K14: =SUM(D14:J14) -> 0 | T14: =SUM(M14:S14) -> 0 | AC14: =SUM(V14:AB14) -> 0 | AL14: =SUM(AE14:AK14) -> 0 | AU14: =SUM(AN14:AT14) -> 0 | BD14: =SUM(AW14:BC14) -> 0
K15: =SUM(D15:J15) -> 0 | T15: =SUM(M15:S15) -> 0 | AC15: =SUM(V15:AB15) -> 0 | AL15: =SUM(AE15:AK15) -> 0 | AU15: =SUM(AN15:AT15) -> 0 | BD15: =SUM(AW15:BC15) -> 0
K16: =SUM(D16:J16) -> 0 | T16: =SUM(M16:S16) -> 0 | AC16: =SUM(V16:AB16) -> 0 | AL16: =SUM(AE16:AK16) -> 0 | AU16: =SUM(AN16:AT16) -> 0 | BD16: =SUM(AW16:BC16) -> 0
K17: =SUM(D17:J17) -> 0 | T17: =SUM(M17:S17) -> 0 | AC17: =SUM(V17:AB17) -> 0 | AL17: =SUM(AE17:AK17) -> 0 | AU17: =SUM(AN17:AT17) -> 0 | BD17: =SUM(AW17:BC17) -> 0
K18: =SUM(D18:J18) -> 0 | T18: =SUM(M18:S18) -> 0 | AC18: =SUM(V18:AB18) -> 0 | AL18: =SUM(AE18:AK18) -> 0 | AU18: =SUM(AN18:AT18) -> 0 | BD18: =SUM(AW18:BC18) -> 0
A20: TOTAL HORAS SEMANAL | K20: =SUM(K7:K18) -> 0 | M20: TOTAL HORAS SEMANAL | T20: =SUM(T7:T18) -> 0 | V20: TOTAL HORAS SEMANAL | AC20: =SUM(AC7:AC18) -> 0 | AE20: TOTAL HORAS SEMANAL | AL20: =SUM(AL7:AL18) -> 0 | AN20: TOTAL HORAS SEMANAL | AU20: =SUM(AU7:AU18) -> 0 | AW20: TOTAL HORAS SEMANAL | BD20: =SUM(BD7:BD18) -> 0
A21: TOTAL HORAS MENSUAL | K21: =K20+T20+AC20+AL20+AU20+BD20 -> 0

Sheet AGOSTO
D1: HORAS HOMBRE TRABAJADAS | AY1: Código:
D2: Versión: 001 | Z2: Fecha: Agosto 2022 | AY2: SGI- ADM-GH-FOR- 006
A4: NOMBRE DEL TRABAJADOR | B4: No. IDENTIFICACIÓN | C4: CARGO | D4: HORAS TRABAJADAS POR DÍA | K4: TOTAL HORAS SEMANA | M4: HORAS TRABAJADAS POR DÍA | T4: TOTAL HORAS SEMANA | V4: HORAS TRABAJADAS POR DÍA | AC4: TOTAL HORAS SEMANA | AE4: HORAS TRABAJADAS POR DÍA | AL4: TOTAL HORAS SEMANA | AN4: HORAS TRABAJADAS POR DÍA | AU4: TOTAL HORAS SEMANA | AW4: HORAS TRABAJADAS POR DÍA | BD4: TOTAL HORAS SEMANA
J5: 1 | M5: 2 | N5: 3 | O5: 4 | P5: 5 | Q5: 6 | R5: 7 | S5: 8 | V5: 9 | W5: 10 | X5: 11 | Y5: 12 | Z5: 13 | AA5: 14 | AB5: 15 | AE5: 16 | AF5: 17 | AG5: 18 | AH5: 19 | AI5: 20 | AJ5: 21 | AK5: 22 | AN5: 23 | AO5: 24 | AP5: 25 | AQ5: 26 | AR5: 27 | AS5: 28 | AT5: 29 | AW5: 30 | AX5: 31
E6: M | F6: M | G6: J | H6: V | I6: S | J6: D | M6: L | N6: M | O6: M | P6: J | Q6: V | R6: S | S6: D | V6: L | W6: M | X6: M | Y6: J | Z6: V | AA6: S | AB6: D | AE6: L | AF6: M | AG6: M | AH6: J | AI6: V | AJ6: S | AK6: D | AN6: L | AO6: M | AP6: M | AQ6: J | AR6: V | AS6: S | AT6: D | AW6: L | AX6: M
A7: YANETH LOZADA | B7: 35264033 | C7: CONTROL PROYECTOS | K7: =SUM(D7:J7) -> 0 | T7: =SUM(M7:S7) -> 0 | AC7: =SUM(V7:AB7) -> 0 | AL7: =SUM(AE7:AK7) -> 0 | AU7: =SUM(AN7:AT7) -> 0 | BD7: =SUM(AW7:BC7) -> 0
K8: =SUM(D8:J8) -> 0 | T8: =SUM(M8:S8) -> 0 | AC8: =SUM(V8:AB8) -> 0 | AL8: =SUM(AE8:AK8) -> 0 | AU8: =SUM(AN8:AT8) -> 0 | BD8: =SUM(AW8:BC8) -> 0
K9: =SUM(D9:J9) -> 0 | T9: =SUM(M9:S9) -> 0 | AC9: =SUM(V9:AB9) -> 0 | AL9: =SUM(AE9:AK9) -> 0 | AU9: =SUM(AN9:AT9) -> 0 | BD9: =SUM(AW9:BC9) -> 0
K10: =SUM(D10:J10) -> 0 | T10: =SUM(M10:S10) -> 0 | AC10: =SUM(V10:AB10) -> 0 | AL10: =SUM(AE10:AK10) -> 0 | AU10: =SUM(AN10:AT10) -> 0 | BD10: =SUM(AW10:BC10) -> 0
K11: =SUM(D11:J11) -> 0 | T11: =SUM(M11:S11) -> 0 | AC11: =SUM(V11:AB11) -> 0 | AL11: =SUM(AE11:AK11) -> 0 | AU11: =SUM(AN11:AT11) -> 0 | BD11: =SUM(AW11:BC11) -> 0
K12: =SUM(D12:J12) -> 0 | T12: =SUM(M12:S12) -> 0 | AC12: =SUM(V12:AB12) -> 0 | AL12: =SUM(AE12:AK12) -> 0 | AU12: =SUM(AN12:AT12) -> 0 | BD12: =SUM(AW12:BC12) -> 0
K13: =SUM(D13:J13) -> 0 | T13: =SUM(M13:S13) -> 0 | AC13: =SUM(V13:AB13) -> 0 | AL13: =SUM(AE13:AK13) -> 0 | AU13: =SUM(AN13:AT13) -> 0 | BD13: =SUM(AW13:BC13) -> 0
K14: =SUM(D14:J14) -> 0 | T14: =SUM(M14:S14) -> 0 | AC14: =SUM(V14:AB14) -> 0 | AL14: =SUM(AE14:AK14) -> 0 | AU14: =SUM(AN14:AT14) -> 0 | BD14: =SUM(AW14:BC14) -> 0
K15: =SUM(D15:J15) -> 0 | T15: =SUM(M15:S15) -> 0 | AC15: =SUM(V15:AB15) -> 0 | AL15: =SUM(AE15:AK15) -> 0 | AU15: =SUM(AN15:AT15) -> 0 | BD15: =SUM(AW15:BC15) -> 0
K16: =SUM(D16:J16) -> 0 | T16: =SUM(M16:S16) -> 0 | AC16: =SUM(V16:AB16) -> 0 | AL16: =SUM(AE16:AK16) -> 0 | AU16: =SUM(AN16:AT16) -> 0 | BD16: =SUM(AW16:BC16) -> 0
K17: =SUM(D17:J17) -> 0 | T17: =SUM(M17:S17) -> 0 | AC17: =SUM(V17:AB17) -> 0 | AL17: =SUM(AE17:AK17) -> 0 | AU17: =SUM(AN17:AT17) -> 0 | BD17: =SUM(AW17:BC17) -> 0
K18: =SUM(D18:J18) -> 0 | T18: =SUM(M18:S18) -> 0 | AC18: =SUM(V18:AB18) -> 0 | AL18: =SUM(AE18:AK18) -> 0 | AU18: =SUM(AN18:AT18) -> 0 | BD18: =SUM(AW18:BC18) -> 0
A20: TOTAL HORAS SEMANAL | K20: =SUM(K7:K18) -> 0 | M20: TOTAL HORAS SEMANAL | T20: =SUM(T7:T18) -> 0 | V20: TOTAL HORAS SEMANAL | AC20: =SUM(AC7:AC18) -> 0 | AE20: TOTAL HORAS SEMANAL | AL20: =SUM(AL7:AL18) -> 0 | AN20: TOTAL HORAS SEMANAL | AU20: =SUM(AU7:AU18) -> 0 | AW20: TOTAL HORAS SEMANAL | BD20: =SUM(BD7:BD18) -> 0
A21: TOTAL HORAS MENSUAL | K21: =K20+T20+AC20+AL20+AU20+BD20 -> 0

Sheet SEPTIEMBRE
D1: HORAS HOMBRE TRABAJADAS | AY1: Código:
D2: Versión: 001 | Z2: Fecha: Agosto 2022 | AY2: SGI- ADM-GH-FOR- 006
A4: NOMBRE DEL TRABAJADOR | B4: No. IDENTIFICACIÓN | C4: CARGO | D4: HORAS TRABAJADAS POR DÍA | K4: TOTAL HORAS SEMANA | M4: HORAS TRABAJADAS POR DÍA | T4: TOTAL HORAS SEMANA | V4: HORAS TRABAJADAS POR DÍA | AC4: TOTAL HORAS SEMANA | AE4: HORAS TRABAJADAS POR DÍA | AL4: TOTAL HORAS SEMANA | AN4: HORAS TRABAJADAS POR DÍA | AU4: TOTAL HORAS SEMANA | AW4: HORAS TRABAJADAS POR DÍA | BD4: TOTAL HORAS SEMANA
F5: 1 | G5: 2 | H5: 3 | I5: 4 | J5: 5 | M5: 6 | N5: 7 | O5: 8 | P5: 9 | Q5: 10 | R5: 11 | S5: 12 | V5: 13 | W5: 14 | X5: 15 | Y5: 16 | Z5: 17 | AA5: 18 | AB5: 19 | AE5: 20 | AF5: 21 | AG5: 22 | AH5: 23 | AI5: 24 | AJ5: 25 | AK5: 26 | AN5: 27 | AO5: 28 | AP5: 29 | AQ5: 30
E6: M | F6: M | G6: J | H6: V | I6: S | J6: D | M6: L | N6: M | O6: M | P6: J | Q6: V | R6: S | S6: D | V6: L | W6: M | X6: M | Y6: J | Z6: V | AA6: S | AB6: D | AE6: L | AF6: M | AG6: M | AH6: J | AI6: V | AJ6: S | AK6: D | AN6: L | AO6: M | AP6: M | AQ6: J | AR6: V | AS6: S | AT6: D | AW6: L | AX6: M
A7: YANETH LOZADA | B7: 35264033 | C7: CONTROL PROYECTOS | K7: =SUM(D7:J7) -> 0 | T7: =SUM(M7:S7) -> 0 | AC7: =SUM(V7:AB7) -> 0 | AL7: =SUM(AE7:AK7) -> 0 | AU7: =SUM(AN7:AT7) -> 0 | BD7: =SUM(AW7:BC7) -> 0
K8: =SUM(D8:J8) -> 0 | T8: =SUM(M8:S8) -> 0 | AC8: =SUM(V8:AB8) -> 0 | AL8: =SUM(AE8:AK8) -> 0 | AU8: =SUM(AN8:AT8) -> 0 | BD8: =SUM(AW8:BC8) -> 0
K9: =SUM(D9:J9) -> 0 | T9: =SUM(M9:S9) -> 0 | AC9: =SUM(V9:AB9) -> 0 | AL9: =SUM(AE9:AK9) -> 0 | AU9: =SUM(AN9:AT9) -> 0 | BD9: =SUM(AW9:BC9) -> 0
K10: =SUM(D10:J10) -> 0 | T10: =SUM(M10:S10) -> 0 | AC10: =SUM(V10:AB10) -> 0 | AL10: =SUM(AE10:AK10) -> 0 | AU10: =SUM(AN10:AT10) -> 0 | BD10: =SUM(AW10:BC10) -> 0
K11: =SUM(D11:J11) -> 0 | T11: =SUM(M11:S11) -> 0 | AC11: =SUM(V11:AB11) -> 0 | AL11: =SUM(AE11:AK11) -> 0 | AU11: =SUM(AN11:AT11) -> 0 | BD11: =SUM(AW11:BC11) -> 0
K12: =SUM(D12:J12) -> 0 | T12: =SUM(M12:S12) -> 0 | AC12: =SUM(V12:AB12) -> 0 | AL12: =SUM(AE12:AK12) -> 0 | AU12: =SUM(AN12:AT12) -> 0 | BD12: =SUM(AW12:BC12) -> 0
K13: =SUM(D13:J13) -> 0 | T13: =SUM(M13:S13) -> 0 | AC13: =SUM(V13:AB13) -> 0 | AL13: =SUM(AE13:AK13) -> 0 | AU13: =SUM(AN13:AT13) -> 0 | BD13: =SUM(AW13:BC13) -> 0
K14: =SUM(D14:J14) -> 0 | T14: =SUM(M14:S14) -> 0 | AC14: =SUM(V14:AB14) -> 0 | AL14: =SUM(AE14:AK14) -> 0 | AU14: =SUM(AN14:AT14) -> 0 | BD14: =SUM(AW14:BC14) -> 0
K15: =SUM(D15:J15) -> 0 | T15: =SUM(M15:S15) -> 0 | AC15: =SUM(V15:AB15) -> 0 | AL15: =SUM(AE15:AK15) -> 0 | AU15: =SUM(AN15:AT15) -> 0 | BD15: =SUM(AW15:BC15) -> 0
K16: =SUM(D16:J16) -> 0 | T16: =SUM(M16:S16) -> 0 | AC16: =SUM(V16:AB16) -> 0 | AL16: =SUM(AE16:AK16) -> 0 | AU16: =SUM(AN16:AT16) -> 0 | BD16: =SUM(AW16:BC16) -> 0
K17: =SUM(D17:J17) -> 0 | T17: =SUM(M17:S17) -> 0 | AC17: =SUM(V17:AB17) -> 0 | AL17: =SUM(AE17:AK17) -> 0 | AU17: =SUM(AN17:AT17) -> 0 | BD17: =SUM(AW17:BC17) -> 0
K18: =SUM(D18:J18) -> 0 | T18: =SUM(M18:S18) -> 0 | AC18: =SUM(V18:AB18) -> 0 | AL18: =SUM(AE18:AK18) -> 0 | AU18: =SUM(AN18:AT18) -> 0 | BD18: =SUM(AW18:BC18) -> 0
A20: TOTAL HORAS SEMANAL | K20: =SUM(K7:K18) -> 0 | M20: TOTAL HORAS SEMANAL | T20: =SUM(T7:T18) -> 0 | V20: TOTAL HORAS SEMANAL | AC20: =SUM(AC7:AC18) -> 0 | AE20: TOTAL HORAS SEMANAL | AL20: =SUM(AL7:AL18) -> 0 | AN20: TOTAL HORAS SEMANAL | AU20: =SUM(AU7:AU18) -> 0 | AW20: TOTAL HORAS SEMANAL | BD20: =SUM(BD7:BD18) -> 0
A21: TOTAL HORAS MENSUAL | K21: =K20+T20+AC20+AL20+AU20+BD20 -> 0

Sheet OCTUBRE
D1: HORAS HOMBRE TRABAJADAS | AY1: Código:
D2: Versión: 001 | Z2: Fecha: Agosto 2022 | AY2: SGI- ADM-GH-FOR- 006
A4: NOMBRE DEL TRABAJADOR | B4: No. IDENTIFICACIÓN | C4: CARGO | D4: HORAS TRABAJADAS POR DÍA | K4: TOTAL HORAS SEMANA | M4: HORAS TRABAJADAS POR DÍA | T4: TOTAL HORAS SEMANA | V4: HORAS TRABAJADAS POR DÍA | AC4: TOTAL HORAS SEMANA | AE4: HORAS TRABAJADAS POR DÍA | AL4: TOTAL HORAS SEMANA | AN4: HORAS TRABAJADAS POR DÍA | AU4: TOTAL HORAS SEMANA | AW4: HORAS TRABAJADAS POR DÍA | BD4: TOTAL HORAS SEMANA
H5: 1 | I5: 2 | J5: 3 | M5: 4 | N5: 5 | O5: 6 | P5: 7 | Q5: 8 | R5: 9 | S5: 10 | V5: 11 | W5: 12 | X5: 13 | Y5: 14 | Z5: 15 | AA5: 16 | AB5: 17 | AE5: 18 | AF5: 19 | AG5: 20 | AH5: 21 | AI5: 22 | AJ5: 23 | AK5: 24 | AN5: 25 | AO5: 26 | AP5: 27 | AQ5: 28 | AR5: 29 | AS5: 30 | AT5: 31
E6: M | F6: M | G6: J | H6: V | I6: S | J6: D | M6: L | N6: M | O6: M | P6: J | Q6: V | R6: S | S6: D | V6: L | W6: M | X6: M | Y6: J | Z6: V | AA6: S | AB6: D | AE6: L | AF6: M | AG6: M | AH6: J | AI6: V | AJ6: S | AK6: D | AN6: L | AO6: M | AP6: M | AQ6: J | AR6: V | AS6: S | AT6: D | AW6: L | AX6: M
A7: YANETH LOZADA | B7: 35264033 | C7: CONTROL PROYECTOS | K7: =SUM(D7:J7) -> 0 | T7: =SUM(M7:S7) -> 0 | AC7: =SUM(V7:AB7) -> 0 | AL7: =SUM(AE7:AK7) -> 0 | AU7: =SUM(AN7:AT7) -> 0 | BD7: =SUM(AW7:BC7) -> 0
K8: =SUM(D8:J8) -> 0 | T8: =SUM(M8:S8) -> 0 | AC8: =SUM(V8:AB8) -> 0 | AL8: =SUM(AE8:AK8) -> 0 | AU8: =SUM(AN8:AT8) -> 0 | BD8: =SUM(AW8:BC8) -> 0
K9: =SUM(D9:J9) -> 0 | T9: =SUM(M9:S9) -> 0 | AC9: =SUM(V9:AB9) -> 0 | AL9: =SUM(AE9:AK9) -> 0 | AU9: =SUM(AN9:AT9) -> 0 | BD9: =SUM(AW9:BC9) -> 0
K10: =SUM(D10:J10) -> 0 | T10: =SUM(M10:S10) -> 0 | AC10: =SUM(V10:AB10) -> 0 | AL10: =SUM(AE10:AK10) -> 0 | AU10: =SUM(AN10:AT10) -> 0 | BD10: =SUM(AW10:BC10) -> 0
K11: =SUM(D11:J11) -> 0 | T11: =SUM(M11:S11) -> 0 | AC11: =SUM(V11:AB11) -> 0 | AL11: =SUM(AE11:AK11) -> 0 | AU11: =SUM(AN11:AT11) -> 0 | BD11: =SUM(AW11:BC11) -> 0
K12: =SUM(D12:J12) -> 0 | T12: =SUM(M12:S12) -> 0 | AC12: =SUM(V12:AB12) -> 0 | AL12: =SUM(AE12:AK12) -> 0 | AU12: =SUM(AN12:AT12) -> 0 | BD12: =SUM(AW12:BC12) -> 0
K13: =SUM(D13:J13) -> 0 | T13: =SUM(M13:S13) -> 0 | AC13: =SUM(V13:AB13) -> 0 | AL13: =SUM(AE13:AK13) -> 0 | AU13: =SUM(AN13:AT13) -> 0 | BD13: =SUM(AW13:BC13) -> 0
K14: =SUM(D14:J14) -> 0 | T14: =SUM(M14:S14) -> 0 | AC14: =SUM(V14:AB14) -> 0 | AL14: =SUM(AE14:AK14) -> 0 | AU14: =SUM(AN14:AT14) -> 0 | BD14: =SUM(AW14:BC14) -> 0
K15: =SUM(D15:J15) -> 0 | T15: =SUM(M15:S15) -> 0 | AC15: =SUM(V15:AB15) -> 0 | AL15: =SUM(AE15:AK15) -> 0 | AU15: =SUM(AN15:AT15) -> 0 | BD15: =SUM(AW15:BC15) -> 0
K16: =SUM(D16:J16) -> 0 | T16: =SUM(M16:S16) -> 0 | AC16: =SUM(V16:AB16) -> 0 | AL16: =SUM(AE16:AK16) -> 0 | AU16: =SUM(AN16:AT16) -> 0 | BD16: =SUM(AW16:BC16) -> 0
K17: =SUM(D17:J17) -> 0 | T17: =SUM(M17:S17) -> 0 | AC17: =SUM(V17:AB17) -> 0 | AL17: =SUM(AE17:AK17) -> 0 | AU17: =SUM(AN17:AT17) -> 0 | BD17: =SUM(AW17:BC17) -> 0
K18: =SUM(D18:J18) -> 0 | T18: =SUM(M18:S18) -> 0 | AC18: =SUM(V18:AB18) -> 0 | AL18: =SUM(AE18:AK18) -> 0 | AU18: =SUM(AN18:AT18) -> 0 | BD18: =SUM(AW18:BC18) -> 0
A20: TOTAL HORAS SEMANAL | K20: =SUM(K7:K18) -> 0 | M20: TOTAL HORAS SEMANAL | T20: =SUM(T7:T18) -> 0 | V20: TOTAL HORAS SEMANAL | AC20: =SUM(AC7:AC18) -> 0 | AE20: TOTAL HORAS SEMANAL | AL20: =SUM(AL7:AL18) -> 0 | AN20: TOTAL HORAS SEMANAL | AU20: =SUM(AU7:AU18) -> 0 | AW20: TOTAL HORAS SEMANAL | BD20: =SUM(BD7:BD18) -> 0
A21: TOTAL HORAS MENSUAL | K21: =K20+T20+AC20+AL20+AU20+BD20 -> 0

Sheet NOVIEMBRE
D1: HORAS HOMBRE TRABAJADAS | AY1: Código:
D2: Versión: 001 | Z2: Fecha: Agosto 2022 | AY2: SGI- ADM-GH-FOR- 006
A4: NOMBRE DEL TRABAJADOR | B4: No. IDENTIFICACIÓN | C4: CARGO | D4: HORAS TRABAJADAS POR DÍA | K4: TOTAL HORAS SEMANA | M4: HORAS TRABAJADAS POR DÍA | T4: TOTAL HORAS SEMANA | V4: HORAS TRABAJADAS POR DÍA | AC4: TOTAL HORAS SEMANA | AE4: HORAS TRABAJADAS POR DÍA | AL4: TOTAL HORAS SEMANA | AN4: HORAS TRABAJADAS POR DÍA | AU4: TOTAL HORAS SEMANA | AW4: HORAS TRABAJADAS POR DÍA | BD4: TOTAL HORAS SEMANA
D5: 1 | E5: 2 | F5: 3 | G5: 4 | H5: 5 | I5: 6 | J5: 7 | M5: 8 | N5: 9 | O5: 10 | P5: 11 | Q5: 12 | R5: 13 | S5: 14 | V5: 11 | W5: 12 | X5: 13 | Y5: 14 | Z5: 15 | AA5: 16 | AB5: 17 | AE5: 18 | AF5: 19 | AG5: 20 | AH5: 21 | AI5: 22 | AJ5: 23 | AK5: 24 | AN5: 25 | AO5: 26 | AP5: 27 | AQ5: 28 | AR5: 29 | AS5: 30 | AT5: 31
D6: L | E6: M | F6: M | G6: J | H6: V | I6: S | J6: D | M6: L | N6: M | O6: M | P6: J | Q6: V | R6: S | S6: D | V6: L | W6: M | X6: M | Y6: J | Z6: V | AA6: S | AB6: D | AE6: L | AF6: M | AG6: M | AH6: J | AI6: V | AJ6: S | AK6: D | AN6: L | AO6: M | AP6: M | AQ6: J | AR6: V | AS6: S | AT6: D | AW6: L | AX6: M
A7: YANETH LOZADA | B7: 35264033 | C7: CONTROL PROYECTOS | K7: =SUM(D7:J7) -> 0 | T7: =SUM(M7:S7) -> 0 | AC7: =SUM(V7:AB7) -> 0 | AL7: =SUM(AE7:AK7) -> 0 | AU7: =SUM(AN7:AT7) -> 0 | BD7: =SUM(AW7:BC7) -> 0
K8: =SUM(D8:J8) -> 0 | T8: =SUM(M8:S8) -> 0 | AC8: =SUM(V8:AB8) -> 0 | AL8: =SUM(AE8:AK8) -> 0 | AU8: =SUM(AN8:AT8) -> 0 | BD8: =SUM(AW8:BC8) -> 0
K9: =SUM(D9:J9) -> 0 | T9: =SUM(M9:S9) -> 0 | AC9: =SUM(V9:AB9) -> 0 | AL9: =SUM(AE9:AK9) -> 0 | AU9: =SUM(AN9:AT9) -> 0 | BD9: =SUM(AW9:BC9) -> 0
K10: =SUM(D10:J10) -> 0 | T10: =SUM(M10:S10) -> 0 | AC10: =SUM(V10:AB10) -> 0 | AL10: =SUM(AE10:AK10) -> 0 | AU10: =SUM(AN10:AT10) -> 0 | BD10: =SUM(AW10:BC10) -> 0
K11: =SUM(D11:J11) -> 0 | T11: =SUM(M11:S11) -> 0 | AC11: =SUM(V11:AB11) -> 0 | AL11: =SUM(AE11:AK11) -> 0 | AU11: =SUM(AN11:AT11) -> 0 | BD11: =SUM(AW11:BC11) -> 0
K12: =SUM(D12:J12) -> 0 | T12: =SUM(M12:S12) -> 0 | AC12: =SUM(V12:AB12) -> 0 | AL12: =SUM(AE12:AK12) -> 0 | AU12: =SUM(AN12:AT12) -> 0 | BD12: =SUM(AW12:BC12) -> 0
K13: =SUM(D13:J13) -> 0 | T13: =SUM(M13:S13) -> 0 | AC13: =SUM(V13:AB13) -> 0 | AL13: =SUM(AE13:AK13) -> 0 | AU13: =SUM(AN13:AT13) -> 0 | BD13: =SUM(AW13:BC13) -> 0
K14: =SUM(D14:J14) -> 0 | T14: =SUM(M14:S14) -> 0 | AC14: =SUM(V14:AB14) -> 0 | AL14: =SUM(AE14:AK14) -> 0 | AU14: =SUM(AN14:AT14) -> 0 | BD14: =SUM(AW14:BC14) -> 0
K15: =SUM(D15:J15) -> 0 | T15: =SUM(M15:S15) -> 0 | AC15: =SUM(V15:AB15) -> 0 | AL15: =SUM(AE15:AK15) -> 0 | AU15: =SUM(AN15:AT15) -> 0 | BD15: =SUM(AW15:BC15) -> 0
K16: =SUM(D16:J16) -> 0 | T16: =SUM(M16:S16) -> 0 | AC16: =SUM(V16:AB16) -> 0 | AL16: =SUM(AE16:AK16) -> 0 | AU16: =SUM(AN16:AT16) -> 0 | BD16: =SUM(AW16:BC16) -> 0
K17: =SUM(D17:J17) -> 0 | T17: =SUM(M17:S17) -> 0 | AC17: =SUM(V17:AB17) -> 0 | AL17: =SUM(AE17:AK17) -> 0 | AU17: =SUM(AN17:AT17) -> 0 | BD17: =SUM(AW17:BC17) -> 0
K18: =SUM(D18:J18) -> 0 | T18: =SUM(M18:S18) -> 0 | AC18: =SUM(V18:AB18) -> 0 | AL18: =SUM(AE18:AK18) -> 0 | AU18: =SUM(AN18:AT18) -> 0 | BD18: =SUM(AW18:BC18) -> 0
A20: TOTAL HORAS SEMANAL | K20: =SUM(K7:K18) -> 0 | M20: TOTAL HORAS SEMANAL | T20: =SUM(T7:T18) -> 0 | V20: TOTAL HORAS SEMANAL | AC20: =SUM(AC7:AC18) -> 0 | AE20: TOTAL HORAS SEMANAL | AL20: =SUM(AL7:AL18) -> 0 | AN20: TOTAL HORAS SEMANAL | AU20: =SUM(AU7:AU18) -> 0 | AW20: TOTAL HORAS SEMANAL | BD20: =SUM(BD7:BD18) -> 0
A21: TOTAL HORAS MENSUAL | K21: =K20+T20+AC20+AL20+AU20+BD20 -> 0

Sheet DICIEMBRE
D1: HORAS HOMBRE TRABAJADAS | AY1: Código:
D2: Versión: 001 | Z2: Fecha: Agosto 2022 | AY2: SGI- ADM-GH-FOR- 006
A4: NOMBRE DEL TRABAJADOR | B4: No. IDENTIFICACIÓN | C4: CARGO | D4: HORAS TRABAJADAS POR DÍA | K4: TOTAL HORAS SEMANA | M4: HORAS TRABAJADAS POR DÍA | T4: TOTAL HORAS SEMANA | V4: HORAS TRABAJADAS POR DÍA | AC4: TOTAL HORAS SEMANA | AE4: HORAS TRABAJADAS POR DÍA | AL4: TOTAL HORAS SEMANA | AN4: HORAS TRABAJADAS POR DÍA | AU4: TOTAL HORAS SEMANA | AW4: HORAS TRABAJADAS POR DÍA | BD4: TOTAL HORAS SEMANA
F5: 1 | G5: 2 | H5: 3 | I5: 4 | J5: 5 | M5: 6 | N5: 7 | O5: 8 | P5: 9 | Q5: 10 | R5: 11 | S5: 12 | V5: 13 | W5: 14 | X5: 15 | Y5: 16 | Z5: 17 | AA5: 18 | AB5: 19 | AE5: 20 | AF5: 21 | AG5: 22 | AH5: 23 | AI5: 24 | AJ5: 25 | AK5: 26 | AN5: 27 | AO5: 28 | AP5: 29 | AQ5: 30 | AR5: 31
D6: L | E6: M | F6: M | G6: J | H6: V | I6: S | J6: D | M6: L | N6: M | O6: M | P6: J | Q6: V | R6: S | S6: D | V6: L | W6: M | X6: M | Y6: J | Z6: V | AA6: S | AB6: D | AE6: L | AF6: M | AG6: M | AH6: J | AI6: V | AJ6: S | AK6: D | AN6: L | AO6: M | AP6: M | AQ6: J | AR6: V | AS6: S | AT6: D | AW6: L | AX6: M
A7: YANETH LOZADA | B7: 35264033 | C7: CONTROL PROYECTOS | K7: =SUM(D7:J7) -> 0 | T7: =SUM(M7:S7) -> 0 | AC7: =SUM(V7:AB7) -> 0 | AL7: =SUM(AE7:AK7) -> 0 | AU7: =SUM(AN7:AT7) -> 0 | BD7: =SUM(AW7:BC7) -> 0
K8: =SUM(D8:J8) -> 0 | T8: =SUM(M8:S8) -> 0 | AC8: =SUM(V8:AB8) -> 0 | AL8: =SUM(AE8:AK8) -> 0 | AU8: =SUM(AN8:AT8) -> 0 | BD8: =SUM(AW8:BC8) -> 0
K9: =SUM(D9:J9) -> 0 | T9: =SUM(M9:S9) -> 0 | AC9: =SUM(V9:AB9) -> 0 | AL9: =SUM(AE9:AK9) -> 0 | AU9: =SUM(AN9:AT9) -> 0 | BD9: =SUM(AW9:BC9) -> 0
K10: =SUM(D10:J10) -> 0 | T10: =SUM(M10:S10) -> 0 | AC10: =SUM(V10:AB10) -> 0 | AL10: =SUM(AE10:AK10) -> 0 | AU10: =SUM(AN10:AT10) -> 0 | BD10: =SUM(AW10:BC10) -> 0
K11: =SUM(D11:J11) -> 0 | T11: =SUM(M11:S11) -> 0 | AC11: =SUM(V11:AB11) -> 0 | AL11: =SUM(AE11:AK11) -> 0 | AU11: =SUM(AN11:AT11) -> 0 | BD11: =SUM(AW11:BC11) -> 0
K12: =SUM(D12:J12) -> 0 | T12: =SUM(M12:S12) -> 0 | AC12: =SUM(V12:AB12) -> 0 | AL12: =SUM(AE12:AK12) -> 0 | AU12: =SUM(AN12:AT12) -> 0 | BD12: =SUM(AW12:BC12) -> 0
K13: =SUM(D13:J13) -> 0 | T13: =SUM(M13:S13) -> 0 | AC13: =SUM(V13:AB13) -> 0 | AL13: =SUM(AE13:AK13) -> 0 | AU13: =SUM(AN13:AT13) -> 0 | BD13: =SUM(AW13:BC13) -> 0
K14: =SUM(D14:J14) -> 0 | T14: =SUM(M14:S14) -> 0 | AC14: =SUM(V14:AB14) -> 0 | AL14: =SUM(AE14:AK14) -> 0 | AU14: =SUM(AN14:AT14) -> 0 | BD14: =SUM(AW14:BC14) -> 0
K15: =SUM(D15:J15) -> 0 | T15: =SUM(M15:S15) -> 0 | AC15: =SUM(V15:AB15) -> 0 | AL15: =SUM(AE15:AK15) -> 0 | AU15: =SUM(AN15:AT15) -> 0 | BD15: =SUM(AW15:BC15) -> 0
K16: =SUM(D16:J16) -> 0 | T16: =SUM(M16:S16) -> 0 | AC16: =SUM(V16:AB16) -> 0 | AL16: =SUM(AE16:AK16) -> 0 | AU16: =SUM(AN16:AT16) -> 0 | BD16: =SUM(AW16:BC16) -> 0
K17: =SUM(D17:J17) -> 0 | T17: =SUM(M17:S17) -> 0 | AC17: =SUM(V17:AB17) -> 0 | AL17: =SUM(AE17:AK17) -> 0 | AU17: =SUM(AN17:AT17) -> 0 | BD17: =SUM(AW17:BC17) -> 0
K18: =SUM(D18:J18) -> 0 | T18: =SUM(M18:S18) -> 0 | AC18: =SUM(V18:AB18) -> 0 | AL18: =SUM(AE18:AK18) -> 0 | AU18: =SUM(AN18:AT18) -> 0 | BD18: =SUM(AW18:BC18) -> 0
A20: TOTAL HORAS SEMANAL | K20: =SUM(K7:K18) -> 0 | M20: TOTAL HORAS SEMANAL | T20: =SUM(T7:T18) -> 0 | V20: TOTAL HORAS SEMANAL | AC20: =SUM(AC7:AC18) -> 0 | AE20: TOTAL HORAS SEMANAL | AL20: =SUM(AL7:AL18) -> 0 | AN20: TOTAL HORAS SEMANAL | AU20: =SUM(AU7:AU18) -> 0 | AW20: TOTAL HORAS SEMANAL | BD20: =SUM(BD7:BD18) -> 0
A21: TOTAL HORAS MENSUAL | K21: =K20+T20+AC20+AL20+AU20+BD20 -> 0

Sheet Hoja1
